BEGIN:VCALENDAR
VERSION:2.0
PRODID:-//jEvents 2.0 for Joomla//EN
CALSCALE:GREGORIAN
METHOD:PUBLISH
BEGIN:VTIMEZONE
TZID:Europe/Paris
BEGIN:STANDARD
DTSTART:20140319T000000
RDATE:20140330T030000
TZOFFSETFROM:+0200
TZOFFSETTO:+0100
TZNAME:Europe/Paris CET
END:STANDARD
BEGIN:STANDARD
DTSTART:20141026T020000
RDATE:20150329T030000
TZOFFSETFROM:+0200
TZOFFSETTO:+0100
TZNAME:Europe/Paris CET
END:STANDARD
BEGIN:STANDARD
DTSTART:20151025T020000
RDATE:20160327T030000
TZOFFSETFROM:+0200
TZOFFSETTO:+0100
TZNAME:Europe/Paris CET
END:STANDARD
BEGIN:STANDARD
DTSTART:20161030T020000
RDATE:20170326T030000
TZOFFSETFROM:+0200
TZOFFSETTO:+0100
TZNAME:Europe/Paris CET
END:STANDARD
BEGIN:STANDARD
DTSTART:20171029T020000
RDATE:20180325T030000
TZOFFSETFROM:+0200
TZOFFSETTO:+0100
TZNAME:Europe/Paris CET
END:STANDARD
BEGIN:STANDARD
DTSTART:20181028T020000
RDATE:20190331T030000
TZOFFSETFROM:+0200
TZOFFSETTO:+0100
TZNAME:Europe/Paris CET
END:STANDARD
BEGIN:STANDARD
DTSTART:20191027T020000
RDATE:20200329T030000
TZOFFSETFROM:+0200
TZOFFSETTO:+0100
TZNAME:Europe/Paris CET
END:STANDARD
BEGIN:STANDARD
DTSTART:20201025T020000
RDATE:20210328T030000
TZOFFSETFROM:+0200
TZOFFSETTO:+0100
TZNAME:Europe/Paris CET
END:STANDARD
BEGIN:STANDARD
DTSTART:20211031T020000
RDATE:20220327T030000
TZOFFSETFROM:+0200
TZOFFSETTO:+0100
TZNAME:Europe/Paris CET
END:STANDARD
BEGIN:STANDARD
DTSTART:20221030T020000
RDATE:20230326T030000
TZOFFSETFROM:+0200
TZOFFSETTO:+0100
TZNAME:Europe/Paris CET
END:STANDARD
BEGIN:STANDARD
DTSTART:20231029T020000
RDATE:20240331T030000
TZOFFSETFROM:+0200
TZOFFSETTO:+0100
TZNAME:Europe/Paris CET
END:STANDARD
BEGIN:STANDARD
DTSTART:20241027T020000
RDATE:20250330T030000
TZOFFSETFROM:+0200
TZOFFSETTO:+0100
TZNAME:Europe/Paris CET
END:STANDARD
BEGIN:STANDARD
DTSTART:20251026T020000
RDATE:20260329T030000
TZOFFSETFROM:+0200
TZOFFSETTO:+0100
TZNAME:Europe/Paris CET
END:STANDARD
BEGIN:STANDARD
DTSTART:20261025T020000
RDATE:20270328T030000
TZOFFSETFROM:+0200
TZOFFSETTO:+0100
TZNAME:Europe/Paris CET
END:STANDARD
BEGIN:DAYLIGHT
DTSTART:20140330T030000
RDATE:20141026T020000
TZOFFSETFROM:+0100
TZOFFSETTO:+0200
TZNAME:Europe/Paris CEST
END:DAYLIGHT
BEGIN:DAYLIGHT
DTSTART:20150329T030000
RDATE:20151025T020000
TZOFFSETFROM:+0100
TZOFFSETTO:+0200
TZNAME:Europe/Paris CEST
END:DAYLIGHT
BEGIN:DAYLIGHT
DTSTART:20160327T030000
RDATE:20161030T020000
TZOFFSETFROM:+0100
TZOFFSETTO:+0200
TZNAME:Europe/Paris CEST
END:DAYLIGHT
BEGIN:DAYLIGHT
DTSTART:20170326T030000
RDATE:20171029T020000
TZOFFSETFROM:+0100
TZOFFSETTO:+0200
TZNAME:Europe/Paris CEST
END:DAYLIGHT
BEGIN:DAYLIGHT
DTSTART:20180325T030000
RDATE:20181028T020000
TZOFFSETFROM:+0100
TZOFFSETTO:+0200
TZNAME:Europe/Paris CEST
END:DAYLIGHT
BEGIN:DAYLIGHT
DTSTART:20190331T030000
RDATE:20191027T020000
TZOFFSETFROM:+0100
TZOFFSETTO:+0200
TZNAME:Europe/Paris CEST
END:DAYLIGHT
BEGIN:DAYLIGHT
DTSTART:20200329T030000
RDATE:20201025T020000
TZOFFSETFROM:+0100
TZOFFSETTO:+0200
TZNAME:Europe/Paris CEST
END:DAYLIGHT
BEGIN:DAYLIGHT
DTSTART:20210328T030000
RDATE:20211031T020000
TZOFFSETFROM:+0100
TZOFFSETTO:+0200
TZNAME:Europe/Paris CEST
END:DAYLIGHT
BEGIN:DAYLIGHT
DTSTART:20220327T030000
RDATE:20221030T020000
TZOFFSETFROM:+0100
TZOFFSETTO:+0200
TZNAME:Europe/Paris CEST
END:DAYLIGHT
BEGIN:DAYLIGHT
DTSTART:20230326T030000
RDATE:20231029T020000
TZOFFSETFROM:+0100
TZOFFSETTO:+0200
TZNAME:Europe/Paris CEST
END:DAYLIGHT
BEGIN:DAYLIGHT
DTSTART:20240331T030000
RDATE:20241027T020000
TZOFFSETFROM:+0100
TZOFFSETTO:+0200
TZNAME:Europe/Paris CEST
END:DAYLIGHT
BEGIN:DAYLIGHT
DTSTART:20250330T030000
RDATE:20251026T020000
TZOFFSETFROM:+0100
TZOFFSETTO:+0200
TZNAME:Europe/Paris CEST
END:DAYLIGHT
BEGIN:DAYLIGHT
DTSTART:20260329T030000
RDATE:20261025T020000
TZOFFSETFROM:+0100
TZOFFSETTO:+0200
TZNAME:Europe/Paris CEST
END:DAYLIGHT
END:VTIMEZONE
BEGIN:VEVENT
UID:12844a898848f74a17c89ba1cb7251f7
CATEGORIES:Ski Loisir - Sorties CRMVS
CREATED:20150121T164520
SUMMARY:Finale Cpe du Monde Ski Alpin
URL;VALUE=URI:https://skivosges.net/agenda/detailevenement/415/-/finale-cpe-du-monde-ski-
 alpin?tmpl=component
DESCRIPTION:<p>La Commission Régionale Ski Loisirs / Développement en partenariat avec 
 l'Agence du Developpement Touristique (ADT) a décidé d’organiser un déplace
 ment à l’occasion de la Finale de la Coupe du Monde de Ski Alpin à MERIBEL.
 </p><p>Ce déplacement sera réservé aux licenciés.<br /><br /></p><p>Vous tr
 ouverez toutes les informations sur<a href="documents/2015/secretariat/sort
 ies/150320-22_meribel/programme.pdf" target="_blank" class="jcepopup"> le d
 ocument d'informations générales et programme...</a></p><p><strong>Pré-Insc
 ription obligatoire en complétant le formulaire ci-dessous</strong>.<br />A
 près validation vous recevrez un courriel avec un lien de validation sur le
 quel il faudra impérativement cliquer pour reserver votre place.</p><p>Il f
 audra ensuite retourner au siège du CRMVS <strong>avant le 10/03/2015 imper
 ativement</strong> :</p><ul><li>L'<a href="documents/2015/secretariat/sorti
 es/150320-22_meribel/engagement_parents_decharge.pdf" target="_blank" class
 ="jcepopup">engagement / décharge rempli et signé...</a></li><li>La <a href
 ="documents/2015/secretariat/sorties/fiche_sanitaire_liaison.pdf" target="_
 blank" class="jcepopup">Fiche sanitaire de liaison dûment remplie...</a></l
 i><li>Photocopie de la carte d'identité en cours de validité (orignal à avo
 ir sur soi lors de déplacement)</li><li>Photocopie de l'autorisation de sor
 tie du territoire (original à presenter lors du déplacement)</li><li>Chèque
  du montant de 130.00€ ou 160.00€ à l'ordre du CRMVS (selon votre séléction
 , voir § organisation générale du <a href="documents/2015/secretariat/sorti
 es/150320-22_meribel/programme.pdf" target="_blank" class="jcepopup">docume
 nt d'information</a>)</li></ul> <a href="https://skivosges.net/agenda/detai
 levenement/415/-/finale-cpe-du-monde-ski-alpin?tmpl=component">Cet évènemen
 t a été importé depuis :https://skivosges.net/agenda/detailevenement/415/-/
 finale-cpe-du-monde-ski-alpin?tmpl=component</a>
X-ALT-DESC;FMTTYPE=text/html:<p>La Commission Régionale Ski Loisirs / Développement en partenariat avec 
 l'Agence du Developpement Touristique (ADT) a décidé d’organiser un déplace
 ment à l’occasion de la Finale de la Coupe du Monde de Ski Alpin à MERIBEL.
 </p><p>Ce déplacement sera réservé aux licenciés.<br /><br /></p><p>Vous tr
 ouverez toutes les informations sur<a href="https://skivosges.net/documents
 /2015/secretariat/sorties/150320-22_meribel/programme.pdf" target="_blank" 
 class="jcepopup"> le document d'informations générales et programme...</a><
 /p><p><strong>Pré-Inscription obligatoire en complétant le formulaire ci-de
 ssous</strong>.<br />Après validation vous recevrez un courriel avec un lie
 n de validation sur lequel il faudra impérativement cliquer pour reserver v
 otre place.</p><p>Il faudra ensuite retourner au siège du CRMVS <strong>ava
 nt le 10/03/2015 imperativement</strong> :</p><ul><li>L'<a href="https://sk
 ivosges.net/documents/2015/secretariat/sorties/150320-22_meribel/engagement
 _parents_decharge.pdf" target="_blank" class="jcepopup">engagement / déchar
 ge rempli et signé...</a></li><li>La <a href="https://skivosges.net/documen
 ts/2015/secretariat/sorties/fiche_sanitaire_liaison.pdf" target="_blank" cl
 ass="jcepopup">Fiche sanitaire de liaison dûment remplie...</a></li><li>Pho
 tocopie de la carte d'identité en cours de validité (orignal à avoir sur so
 i lors de déplacement)</li><li>Photocopie de l'autorisation de sortie du te
 rritoire (original à presenter lors du déplacement)</li><li>Chèque du monta
 nt de 130.00€ ou 160.00€ à l'ordre du CRMVS (selon votre séléction, voir § 
 organisation générale du <a href="https://skivosges.net/documents/2015/secr
 etariat/sorties/150320-22_meribel/programme.pdf" target="_blank" class="jce
 popup">document d'information</a>)</li></ul> <a href="https://skivosges.net
 /agenda/detailevenement/415/-/finale-cpe-du-monde-ski-alpin?tmpl=component"
 >Cet évènement a été importé depuis :https://skivosges.net/agenda/detaileve
 nement/415/-/finale-cpe-du-monde-ski-alpin?tmpl=component</a>DTSTAMP:20260421T051323
DTSTART;TZID=Europe/Paris;VALUE=DATE:20150320
DTEND;TZID=Europe/Paris;VALUE=DATE:20150323
SEQUENCE:0
TRANSP:OPAQUE
END:VEVENT
END:VCALENDAR