BEGIN:VCALENDAR
VERSION:2.0
PRODID:-//jEvents 2.0 for Joomla//EN
CALSCALE:GREGORIAN
METHOD:PUBLISH
BEGIN:VTIMEZONE
TZID:Europe/Paris
BEGIN:STANDARD
DTSTART:20140320T080000
RDATE:20140330T030000
TZOFFSETFROM:+0200
TZOFFSETTO:+0100
TZNAME:Europe/Paris CET
END:STANDARD
BEGIN:STANDARD
DTSTART:20141026T020000
RDATE:20150329T030000
TZOFFSETFROM:+0200
TZOFFSETTO:+0100
TZNAME:Europe/Paris CET
END:STANDARD
BEGIN:STANDARD
DTSTART:20151025T020000
RDATE:20160327T030000
TZOFFSETFROM:+0200
TZOFFSETTO:+0100
TZNAME:Europe/Paris CET
END:STANDARD
BEGIN:STANDARD
DTSTART:20161030T020000
RDATE:20170326T030000
TZOFFSETFROM:+0200
TZOFFSETTO:+0100
TZNAME:Europe/Paris CET
END:STANDARD
BEGIN:STANDARD
DTSTART:20171029T020000
RDATE:20180325T030000
TZOFFSETFROM:+0200
TZOFFSETTO:+0100
TZNAME:Europe/Paris CET
END:STANDARD
BEGIN:STANDARD
DTSTART:20181028T020000
RDATE:20190331T030000
TZOFFSETFROM:+0200
TZOFFSETTO:+0100
TZNAME:Europe/Paris CET
END:STANDARD
BEGIN:STANDARD
DTSTART:20191027T020000
RDATE:20200329T030000
TZOFFSETFROM:+0200
TZOFFSETTO:+0100
TZNAME:Europe/Paris CET
END:STANDARD
BEGIN:STANDARD
DTSTART:20201025T020000
RDATE:20210328T030000
TZOFFSETFROM:+0200
TZOFFSETTO:+0100
TZNAME:Europe/Paris CET
END:STANDARD
BEGIN:STANDARD
DTSTART:20211031T020000
RDATE:20220327T030000
TZOFFSETFROM:+0200
TZOFFSETTO:+0100
TZNAME:Europe/Paris CET
END:STANDARD
BEGIN:STANDARD
DTSTART:20221030T020000
RDATE:20230326T030000
TZOFFSETFROM:+0200
TZOFFSETTO:+0100
TZNAME:Europe/Paris CET
END:STANDARD
BEGIN:STANDARD
DTSTART:20231029T020000
RDATE:20240331T030000
TZOFFSETFROM:+0200
TZOFFSETTO:+0100
TZNAME:Europe/Paris CET
END:STANDARD
BEGIN:STANDARD
DTSTART:20241027T020000
RDATE:20250330T030000
TZOFFSETFROM:+0200
TZOFFSETTO:+0100
TZNAME:Europe/Paris CET
END:STANDARD
BEGIN:STANDARD
DTSTART:20251026T020000
RDATE:20260329T030000
TZOFFSETFROM:+0200
TZOFFSETTO:+0100
TZNAME:Europe/Paris CET
END:STANDARD
BEGIN:STANDARD
DTSTART:20261025T020000
RDATE:20270328T030000
TZOFFSETFROM:+0200
TZOFFSETTO:+0100
TZNAME:Europe/Paris CET
END:STANDARD
BEGIN:DAYLIGHT
DTSTART:20140330T030000
RDATE:20141026T020000
TZOFFSETFROM:+0100
TZOFFSETTO:+0200
TZNAME:Europe/Paris CEST
END:DAYLIGHT
BEGIN:DAYLIGHT
DTSTART:20150329T030000
RDATE:20151025T020000
TZOFFSETFROM:+0100
TZOFFSETTO:+0200
TZNAME:Europe/Paris CEST
END:DAYLIGHT
BEGIN:DAYLIGHT
DTSTART:20160327T030000
RDATE:20161030T020000
TZOFFSETFROM:+0100
TZOFFSETTO:+0200
TZNAME:Europe/Paris CEST
END:DAYLIGHT
BEGIN:DAYLIGHT
DTSTART:20170326T030000
RDATE:20171029T020000
TZOFFSETFROM:+0100
TZOFFSETTO:+0200
TZNAME:Europe/Paris CEST
END:DAYLIGHT
BEGIN:DAYLIGHT
DTSTART:20180325T030000
RDATE:20181028T020000
TZOFFSETFROM:+0100
TZOFFSETTO:+0200
TZNAME:Europe/Paris CEST
END:DAYLIGHT
BEGIN:DAYLIGHT
DTSTART:20190331T030000
RDATE:20191027T020000
TZOFFSETFROM:+0100
TZOFFSETTO:+0200
TZNAME:Europe/Paris CEST
END:DAYLIGHT
BEGIN:DAYLIGHT
DTSTART:20200329T030000
RDATE:20201025T020000
TZOFFSETFROM:+0100
TZOFFSETTO:+0200
TZNAME:Europe/Paris CEST
END:DAYLIGHT
BEGIN:DAYLIGHT
DTSTART:20210328T030000
RDATE:20211031T020000
TZOFFSETFROM:+0100
TZOFFSETTO:+0200
TZNAME:Europe/Paris CEST
END:DAYLIGHT
BEGIN:DAYLIGHT
DTSTART:20220327T030000
RDATE:20221030T020000
TZOFFSETFROM:+0100
TZOFFSETTO:+0200
TZNAME:Europe/Paris CEST
END:DAYLIGHT
BEGIN:DAYLIGHT
DTSTART:20230326T030000
RDATE:20231029T020000
TZOFFSETFROM:+0100
TZOFFSETTO:+0200
TZNAME:Europe/Paris CEST
END:DAYLIGHT
BEGIN:DAYLIGHT
DTSTART:20240331T030000
RDATE:20241027T020000
TZOFFSETFROM:+0100
TZOFFSETTO:+0200
TZNAME:Europe/Paris CEST
END:DAYLIGHT
BEGIN:DAYLIGHT
DTSTART:20250330T030000
RDATE:20251026T020000
TZOFFSETFROM:+0100
TZOFFSETTO:+0200
TZNAME:Europe/Paris CEST
END:DAYLIGHT
BEGIN:DAYLIGHT
DTSTART:20260329T030000
RDATE:20261025T020000
TZOFFSETFROM:+0100
TZOFFSETTO:+0200
TZNAME:Europe/Paris CEST
END:DAYLIGHT
END:VTIMEZONE
BEGIN:VEVENT
UID:143b3e9fc7a17403d28d0be121517549
CATEGORIES:Circuit Massif Adultes (alpin)
CREATED:20150303T120216
SUMMARY:GPA     GP Challenge Gaby Curien / Qualif CFFS
URL;VALUE=URI:https://skivosges.net/agenda/detailevenement/433/-/gpa-gp-challenge-gaby-cu
 rien-qualif-cffs?tmpl=component
DESCRIPTION:GPA     GP Challenge Gaby Curien / Qualif CFFS \n(Grand Prix Adultes)\n\nLi
 eu : LA BRESSE\nPiste : Gaby CURIEN\nOrganisateur : LA BRESSAUDE SECTION SK
 I (14024 LA BRESSAUDE SECTION SKI)\nTelecopie : 0608855252\n\n1er départ à 
 9 h 30.\n\n\nInscriptions closes, tirage des dossards en cours\n - AMVF0311
   Slalom Geant (Coupe de la Federation) U16 a Masters Dames\n  GPA     GP C
 hallenge Gaby Curien / Qualif CFFS\n - AMVM0311  Slalom Geant (Coupe de la 
 Federation) U16 a Masters Hommes\n  GPA     GP Challenge Gaby Curien / Qual
 if CFFS Cet évènement a été importé depuis :https://skivosges.net/agenda/de
 tailevenement/433/-/gpa-gp-challenge-gaby-curien-qualif-cffs?tmpl=component
  (https://skivosges.net/agenda/detailevenement/433/-/gpa-gp-challenge-gaby-
 curien-qualif-cffs?tmpl=component)
X-ALT-DESC;FMTTYPE=text/html:<strong>GPA     GP Challenge Gaby Curien / Qualif CFFS</strong> <br /><i>(G
 rand Prix Adultes)</i><br /><br />Lieu : LA BRESSE<br />Piste : Gaby CURIEN
 <br />Organisateur : LA BRESSAUDE SECTION SKI <small>(14024 LA BRESSAUDE SE
 CTION SKI)</small><br />Telecopie : 0608855252<br /><br />1er départ à 9 h 
 30.<br><br /><br />Inscriptions closes, tirage des dossards en cours<ul typ
 e="disc"><li>AMVF0311  Slalom Geant <nobr><i>(Coupe de la Federation)</i></
 nobr> <nobr>U16 a Masters</nobr> Dames<br />&nbsp;&nbsp;GPA     GP Challeng
 e Gaby Curien / Qualif CFFS</li><li>AMVM0311  Slalom Geant <nobr><i>(Coupe 
 de la Federation)</i></nobr> <nobr>U16 a Masters</nobr> Hommes<br />&nbsp;&
 nbsp;GPA     GP Challenge Gaby Curien / Qualif CFFS</li></ul> <a href="http
 s://skivosges.net/agenda/detailevenement/433/-/gpa-gp-challenge-gaby-curien
 -qualif-cffs?tmpl=component">Cet évènement a été importé depuis :https://sk
 ivosges.net/agenda/detailevenement/433/-/gpa-gp-challenge-gaby-curien-quali
 f-cffs?tmpl=component</a>DTSTAMP:20260421T014539
DTSTART;TZID=Europe/Paris:20150321T080000
DTEND;TZID=Europe/Paris:20150321T170000
SEQUENCE:0
TRANSP:OPAQUE
END:VEVENT
END:VCALENDAR