BEGIN:VCALENDAR
VERSION:2.0
PRODID:-//jEvents 2.0 for Joomla//EN
CALSCALE:GREGORIAN
METHOD:PUBLISH
BEGIN:VTIMEZONE
TZID:Europe/Paris
BEGIN:STANDARD
DTSTART:20141212T080000
RDATE:20150329T030000
TZOFFSETFROM:+0200
TZOFFSETTO:+0100
TZNAME:Europe/Paris CET
END:STANDARD
BEGIN:STANDARD
DTSTART:20151025T020000
RDATE:20160327T030000
TZOFFSETFROM:+0200
TZOFFSETTO:+0100
TZNAME:Europe/Paris CET
END:STANDARD
BEGIN:STANDARD
DTSTART:20161030T020000
RDATE:20170326T030000
TZOFFSETFROM:+0200
TZOFFSETTO:+0100
TZNAME:Europe/Paris CET
END:STANDARD
BEGIN:STANDARD
DTSTART:20171029T020000
RDATE:20180325T030000
TZOFFSETFROM:+0200
TZOFFSETTO:+0100
TZNAME:Europe/Paris CET
END:STANDARD
BEGIN:STANDARD
DTSTART:20181028T020000
RDATE:20190331T030000
TZOFFSETFROM:+0200
TZOFFSETTO:+0100
TZNAME:Europe/Paris CET
END:STANDARD
BEGIN:STANDARD
DTSTART:20191027T020000
RDATE:20200329T030000
TZOFFSETFROM:+0200
TZOFFSETTO:+0100
TZNAME:Europe/Paris CET
END:STANDARD
BEGIN:STANDARD
DTSTART:20201025T020000
RDATE:20210328T030000
TZOFFSETFROM:+0200
TZOFFSETTO:+0100
TZNAME:Europe/Paris CET
END:STANDARD
BEGIN:STANDARD
DTSTART:20211031T020000
RDATE:20220327T030000
TZOFFSETFROM:+0200
TZOFFSETTO:+0100
TZNAME:Europe/Paris CET
END:STANDARD
BEGIN:STANDARD
DTSTART:20221030T020000
RDATE:20230326T030000
TZOFFSETFROM:+0200
TZOFFSETTO:+0100
TZNAME:Europe/Paris CET
END:STANDARD
BEGIN:STANDARD
DTSTART:20231029T020000
RDATE:20240331T030000
TZOFFSETFROM:+0200
TZOFFSETTO:+0100
TZNAME:Europe/Paris CET
END:STANDARD
BEGIN:STANDARD
DTSTART:20241027T020000
RDATE:20250330T030000
TZOFFSETFROM:+0200
TZOFFSETTO:+0100
TZNAME:Europe/Paris CET
END:STANDARD
BEGIN:STANDARD
DTSTART:20251026T020000
RDATE:20260329T030000
TZOFFSETFROM:+0200
TZOFFSETTO:+0100
TZNAME:Europe/Paris CET
END:STANDARD
BEGIN:STANDARD
DTSTART:20261025T020000
RDATE:20270328T030000
TZOFFSETFROM:+0200
TZOFFSETTO:+0100
TZNAME:Europe/Paris CET
END:STANDARD
BEGIN:DAYLIGHT
DTSTART:20150329T030000
RDATE:20151025T020000
TZOFFSETFROM:+0100
TZOFFSETTO:+0200
TZNAME:Europe/Paris CEST
END:DAYLIGHT
BEGIN:DAYLIGHT
DTSTART:20160327T030000
RDATE:20161030T020000
TZOFFSETFROM:+0100
TZOFFSETTO:+0200
TZNAME:Europe/Paris CEST
END:DAYLIGHT
BEGIN:DAYLIGHT
DTSTART:20170326T030000
RDATE:20171029T020000
TZOFFSETFROM:+0100
TZOFFSETTO:+0200
TZNAME:Europe/Paris CEST
END:DAYLIGHT
BEGIN:DAYLIGHT
DTSTART:20180325T030000
RDATE:20181028T020000
TZOFFSETFROM:+0100
TZOFFSETTO:+0200
TZNAME:Europe/Paris CEST
END:DAYLIGHT
BEGIN:DAYLIGHT
DTSTART:20190331T030000
RDATE:20191027T020000
TZOFFSETFROM:+0100
TZOFFSETTO:+0200
TZNAME:Europe/Paris CEST
END:DAYLIGHT
BEGIN:DAYLIGHT
DTSTART:20200329T030000
RDATE:20201025T020000
TZOFFSETFROM:+0100
TZOFFSETTO:+0200
TZNAME:Europe/Paris CEST
END:DAYLIGHT
BEGIN:DAYLIGHT
DTSTART:20210328T030000
RDATE:20211031T020000
TZOFFSETFROM:+0100
TZOFFSETTO:+0200
TZNAME:Europe/Paris CEST
END:DAYLIGHT
BEGIN:DAYLIGHT
DTSTART:20220327T030000
RDATE:20221030T020000
TZOFFSETFROM:+0100
TZOFFSETTO:+0200
TZNAME:Europe/Paris CEST
END:DAYLIGHT
BEGIN:DAYLIGHT
DTSTART:20230326T030000
RDATE:20231029T020000
TZOFFSETFROM:+0100
TZOFFSETTO:+0200
TZNAME:Europe/Paris CEST
END:DAYLIGHT
BEGIN:DAYLIGHT
DTSTART:20240331T030000
RDATE:20241027T020000
TZOFFSETFROM:+0100
TZOFFSETTO:+0200
TZNAME:Europe/Paris CEST
END:DAYLIGHT
BEGIN:DAYLIGHT
DTSTART:20250330T030000
RDATE:20251026T020000
TZOFFSETFROM:+0100
TZOFFSETTO:+0200
TZNAME:Europe/Paris CEST
END:DAYLIGHT
BEGIN:DAYLIGHT
DTSTART:20260329T030000
RDATE:20261025T020000
TZOFFSETFROM:+0100
TZOFFSETTO:+0200
TZNAME:Europe/Paris CEST
END:DAYLIGHT
END:VTIMEZONE
BEGIN:VEVENT
UID:e08c3c5665865e0cf7a81fdee13595cb
CATEGORIES:Circuit Alsace Adultes (alpin)
CREATED:20151110T133951
SUMMARY:CAA  U16 à Masters  Coupe du CESA Haut- Thur **REPORTE**
URL;VALUE=URI:https://skivosges.net/agenda/detailevenement/445/-/caa-u16-a-masters-coupe-
 du-cesa-haut-thur-reporte?tmpl=component
DESCRIPTION:CAA  U16 à Masters  Coupe du CESA Haut- Thur (Epreuve reportée, date à dete
 rminer) \n(Coupe d'Alsace Adultes)\n\nLieu : MARKSTEIN\nOrganisateur : SKI 
 CLUB EDELWEISS SAINT AMARIN (14058 SKI CLUB EDELWEISS SAINT AMARIN)\nEmail 
 : RegularLabs.EmailProtector.unCloak("ep_0846b4d5");\nTelecopie : 03 89 82 
 23 60\n  Organisateur:SKI CLUB EDELWEISS SAINT AMARI\n - AMVM0051  Slalom (
 Courses FFS) U16 a Masters Hommes\n  CAA  U16 à Masters  Coupe du CESA Haut
 - Thur\n  Organisateur:SKI CLUB EDELWEISS SAINT AMARI\n - AMVF0051  Slalom 
 (Courses FFS) U16 a Masters Dames\n  CAA  U16 à Masters  Coupe du CESA Haut
 - Thur Cet évènement a été importé depuis :https://skivosges.net/agenda/det
 ailevenement/445/-/caa-u16-a-masters-coupe-du-cesa-haut-thur-reporte?tmpl=c
 omponent
X-ALT-DESC;FMTTYPE=text/html:<strong>CAA  U16 à Masters  Coupe du CESA Haut- Thur</strong> <font class="
 attention4">(Epreuve reportée, date à determiner)</font> <br /><i>(Coupe d'
 Alsace Adultes)</i><br /><br />Lieu : MARKSTEIN<br />Organisateur : SKI CLU
 B EDELWEISS SAINT AMARIN <small>(14058 SKI CLUB EDELWEISS SAINT AMARIN)</sm
 all><br />Email : <!-- Cette adresse électronique est protégée contre les r
 obots spammeurs. --><span class="cloaked_email ep_0846b4d5"><span data-ep-b
 ="&#101;&#46;&#102;r" data-ep-a="&#107;l&#105;n"><span data-ep-a="ge&#108;&
 #115;" data-ep-b="&#64;&#102;&#114;&#101;"><span data-ep-b="&#100;&#116;&#4
 6;g" data-ep-a="c&#104;mi"></span></span></span></span><script>RegularLabs.
 EmailProtector.unCloak("ep_0846b4d5");</script><br />Telecopie : 03 89 82 2
 3 60<ul type="disc"><br />&nbsp;&nbsp;Organisateur:SKI CLUB EDELWEISS SAINT
  AMARI<li>AMVM0051  Slalom <nobr><i>(Courses FFS)</i></nobr> <nobr>U16 a Ma
 sters</nobr> Hommes<br />&nbsp;&nbsp;CAA  U16 à Masters  Coupe du CESA Haut
 - Thur</li><br />&nbsp;&nbsp;Organisateur:SKI CLUB EDELWEISS SAINT AMARI<li
 >AMVF0051  Slalom <nobr><i>(Courses FFS)</i></nobr> <nobr>U16 a Masters</no
 br> Dames<br />&nbsp;&nbsp;CAA  U16 à Masters  Coupe du CESA Haut- Thur</li
 ></ul> <a href="https://skivosges.net/agenda/detailevenement/445/-/caa-u16-
 a-masters-coupe-du-cesa-haut-thur-reporte?tmpl=component">Cet évènement a é
 té importé depuis :https://skivosges.net/agenda/detailevenement/445/-/caa-u
 16-a-masters-coupe-du-cesa-haut-thur-reporte?tmpl=component</a>DTSTAMP:20260421T014601
DTSTART;TZID=Europe/Paris:20151213T080000
DTEND;TZID=Europe/Paris:20151213T170000
SEQUENCE:0
TRANSP:OPAQUE
END:VEVENT
END:VCALENDAR