BEGIN:VCALENDAR
VERSION:2.0
PRODID:-//jEvents 2.0 for Joomla//EN
CALSCALE:GREGORIAN
METHOD:PUBLISH
BEGIN:VTIMEZONE
TZID:Europe/Paris
BEGIN:STANDARD
DTSTART:20141226T080000
RDATE:20150329T030000
TZOFFSETFROM:+0200
TZOFFSETTO:+0100
TZNAME:Europe/Paris CET
END:STANDARD
BEGIN:STANDARD
DTSTART:20151025T020000
RDATE:20160327T030000
TZOFFSETFROM:+0200
TZOFFSETTO:+0100
TZNAME:Europe/Paris CET
END:STANDARD
BEGIN:STANDARD
DTSTART:20161030T020000
RDATE:20170326T030000
TZOFFSETFROM:+0200
TZOFFSETTO:+0100
TZNAME:Europe/Paris CET
END:STANDARD
BEGIN:STANDARD
DTSTART:20171029T020000
RDATE:20180325T030000
TZOFFSETFROM:+0200
TZOFFSETTO:+0100
TZNAME:Europe/Paris CET
END:STANDARD
BEGIN:STANDARD
DTSTART:20181028T020000
RDATE:20190331T030000
TZOFFSETFROM:+0200
TZOFFSETTO:+0100
TZNAME:Europe/Paris CET
END:STANDARD
BEGIN:STANDARD
DTSTART:20191027T020000
RDATE:20200329T030000
TZOFFSETFROM:+0200
TZOFFSETTO:+0100
TZNAME:Europe/Paris CET
END:STANDARD
BEGIN:STANDARD
DTSTART:20201025T020000
RDATE:20210328T030000
TZOFFSETFROM:+0200
TZOFFSETTO:+0100
TZNAME:Europe/Paris CET
END:STANDARD
BEGIN:STANDARD
DTSTART:20211031T020000
RDATE:20220327T030000
TZOFFSETFROM:+0200
TZOFFSETTO:+0100
TZNAME:Europe/Paris CET
END:STANDARD
BEGIN:STANDARD
DTSTART:20221030T020000
RDATE:20230326T030000
TZOFFSETFROM:+0200
TZOFFSETTO:+0100
TZNAME:Europe/Paris CET
END:STANDARD
BEGIN:STANDARD
DTSTART:20231029T020000
RDATE:20240331T030000
TZOFFSETFROM:+0200
TZOFFSETTO:+0100
TZNAME:Europe/Paris CET
END:STANDARD
BEGIN:STANDARD
DTSTART:20241027T020000
RDATE:20250330T030000
TZOFFSETFROM:+0200
TZOFFSETTO:+0100
TZNAME:Europe/Paris CET
END:STANDARD
BEGIN:STANDARD
DTSTART:20251026T020000
RDATE:20260329T030000
TZOFFSETFROM:+0200
TZOFFSETTO:+0100
TZNAME:Europe/Paris CET
END:STANDARD
BEGIN:STANDARD
DTSTART:20261025T020000
RDATE:20270328T030000
TZOFFSETFROM:+0200
TZOFFSETTO:+0100
TZNAME:Europe/Paris CET
END:STANDARD
BEGIN:DAYLIGHT
DTSTART:20150329T030000
RDATE:20151025T020000
TZOFFSETFROM:+0100
TZOFFSETTO:+0200
TZNAME:Europe/Paris CEST
END:DAYLIGHT
BEGIN:DAYLIGHT
DTSTART:20160327T030000
RDATE:20161030T020000
TZOFFSETFROM:+0100
TZOFFSETTO:+0200
TZNAME:Europe/Paris CEST
END:DAYLIGHT
BEGIN:DAYLIGHT
DTSTART:20170326T030000
RDATE:20171029T020000
TZOFFSETFROM:+0100
TZOFFSETTO:+0200
TZNAME:Europe/Paris CEST
END:DAYLIGHT
BEGIN:DAYLIGHT
DTSTART:20180325T030000
RDATE:20181028T020000
TZOFFSETFROM:+0100
TZOFFSETTO:+0200
TZNAME:Europe/Paris CEST
END:DAYLIGHT
BEGIN:DAYLIGHT
DTSTART:20190331T030000
RDATE:20191027T020000
TZOFFSETFROM:+0100
TZOFFSETTO:+0200
TZNAME:Europe/Paris CEST
END:DAYLIGHT
BEGIN:DAYLIGHT
DTSTART:20200329T030000
RDATE:20201025T020000
TZOFFSETFROM:+0100
TZOFFSETTO:+0200
TZNAME:Europe/Paris CEST
END:DAYLIGHT
BEGIN:DAYLIGHT
DTSTART:20210328T030000
RDATE:20211031T020000
TZOFFSETFROM:+0100
TZOFFSETTO:+0200
TZNAME:Europe/Paris CEST
END:DAYLIGHT
BEGIN:DAYLIGHT
DTSTART:20220327T030000
RDATE:20221030T020000
TZOFFSETFROM:+0100
TZOFFSETTO:+0200
TZNAME:Europe/Paris CEST
END:DAYLIGHT
BEGIN:DAYLIGHT
DTSTART:20230326T030000
RDATE:20231029T020000
TZOFFSETFROM:+0100
TZOFFSETTO:+0200
TZNAME:Europe/Paris CEST
END:DAYLIGHT
BEGIN:DAYLIGHT
DTSTART:20240331T030000
RDATE:20241027T020000
TZOFFSETFROM:+0100
TZOFFSETTO:+0200
TZNAME:Europe/Paris CEST
END:DAYLIGHT
BEGIN:DAYLIGHT
DTSTART:20250330T030000
RDATE:20251026T020000
TZOFFSETFROM:+0100
TZOFFSETTO:+0200
TZNAME:Europe/Paris CEST
END:DAYLIGHT
BEGIN:DAYLIGHT
DTSTART:20260329T030000
RDATE:20261025T020000
TZOFFSETFROM:+0100
TZOFFSETTO:+0200
TZNAME:Europe/Paris CEST
END:DAYLIGHT
END:VTIMEZONE
BEGIN:VEVENT
UID:08c17c78f33389603c3b4e3a08ea5a75
CATEGORIES:Opens et Promos (alpin)
CREATED:20151110T133951
SUMMARY:PROMO  U8 à U16     Haribo Kids Snow Cup 2016 **REPORTE**
URL;VALUE=URI:https://skivosges.net/agenda/detailevenement/451/-/promo-u8-a-u16-haribo-ki
 ds-snow-cup-2016-reporte?tmpl=component
DESCRIPTION:PROMO  U8 à U16     Haribo Kids Snow Cup 2016 (Epreuve reportée, date à det
 erminer)\n\nLieu : MARKSTEIN\nOrganisateur : S.C VALLEE DE WESSERLING (1418
 6 S.C VALLEE DE WESSERLING)\nEmail : RegularLabs.EmailProtector.unCloak("ep
 _896c0506");\nTelecopie : 03 89 82 78 08\n - AMVM0071  Slalom Geant U8 Garç
 ons\n  PROMO  U8 à U16     Haribo Kids Snow Cup 2016\n - AMVF0071  Slalom G
 eant U8 Filles\n  PROMO  U8 à U16     Haribo Kids Snow Cup 2016\n - AMVM007
 2  Slalom Geant U10 a U16 Garçons\n  PROMO  U8 à U16     Haribo Kids Snow C
 up 2016\n - AMVF0072  Slalom Geant U10 a U16 Filles\n  PROMO  U8 à U16     
 Haribo Kids Snow Cup 2016 Cet évènement a été importé depuis :https://skivo
 sges.net/agenda/detailevenement/451/-/promo-u8-a-u16-haribo-kids-snow-cup-2
 016-reporte?tmpl=component
X-ALT-DESC;FMTTYPE=text/html:<strong>PROMO  U8 à U16     Haribo Kids Snow Cup 2016</strong> <font class=
 "attention4">(Epreuve reportée, date à determiner)</font><br /><br />Lieu :
  MARKSTEIN<br />Organisateur : S.C VALLEE DE WESSERLING <small>(14186 S.C V
 ALLEE DE WESSERLING)</small><br />Email : <!-- Cette adresse électronique e
 st protégée contre les robots spammeurs. --><span class="cloaked_email ep_8
 96c0506"><span data-ep-a="&#115;&#99;&#118;w" data-ep-b="m"><span data-ep-a
 ="&#101;s&#115;e" data-ep-b="&#108;.&#99;&#111;"><span data-ep-b="&#103;&#6
 4;ao" data-ep-a="&#114;&#108;&#105;&#110;"></span></span></span></span><scr
 ipt>RegularLabs.EmailProtector.unCloak("ep_896c0506");</script><br />Teleco
 pie : 03 89 82 78 08<ul type="disc"><li>AMVM0071  Slalom Geant <nobr>U8</no
 br> Garçons<br />&nbsp;&nbsp;PROMO  U8 à U16     Haribo Kids Snow Cup 2016<
 /li><li>AMVF0071  Slalom Geant <nobr>U8</nobr> Filles<br />&nbsp;&nbsp;PROM
 O  U8 à U16     Haribo Kids Snow Cup 2016</li><li>AMVM0072  Slalom Geant <n
 obr>U10 a U16</nobr> Garçons<br />&nbsp;&nbsp;PROMO  U8 à U16     Haribo Ki
 ds Snow Cup 2016</li><li>AMVF0072  Slalom Geant <nobr>U10 a U16</nobr> Fill
 es<br />&nbsp;&nbsp;PROMO  U8 à U16     Haribo Kids Snow Cup 2016</li></ul>
  <a href="https://skivosges.net/agenda/detailevenement/451/-/promo-u8-a-u16
 -haribo-kids-snow-cup-2016-reporte?tmpl=component">Cet évènement a été impo
 rté depuis :https://skivosges.net/agenda/detailevenement/451/-/promo-u8-a-u
 16-haribo-kids-snow-cup-2016-reporte?tmpl=component</a>DTSTAMP:20260420T221522
DTSTART;TZID=Europe/Paris:20151227T080000
DTEND;TZID=Europe/Paris:20151227T170000
SEQUENCE:0
TRANSP:OPAQUE
END:VEVENT
END:VCALENDAR