BEGIN:VCALENDAR
VERSION:2.0
PRODID:-//jEvents 2.0 for Joomla//EN
CALSCALE:GREGORIAN
METHOD:PUBLISH
BEGIN:VTIMEZONE
TZID:Europe/Paris
BEGIN:STANDARD
DTSTART:20141226T080000
RDATE:20150329T030000
TZOFFSETFROM:+0200
TZOFFSETTO:+0100
TZNAME:Europe/Paris CET
END:STANDARD
BEGIN:STANDARD
DTSTART:20151025T020000
RDATE:20160327T030000
TZOFFSETFROM:+0200
TZOFFSETTO:+0100
TZNAME:Europe/Paris CET
END:STANDARD
BEGIN:STANDARD
DTSTART:20161030T020000
RDATE:20170326T030000
TZOFFSETFROM:+0200
TZOFFSETTO:+0100
TZNAME:Europe/Paris CET
END:STANDARD
BEGIN:STANDARD
DTSTART:20171029T020000
RDATE:20180325T030000
TZOFFSETFROM:+0200
TZOFFSETTO:+0100
TZNAME:Europe/Paris CET
END:STANDARD
BEGIN:STANDARD
DTSTART:20181028T020000
RDATE:20190331T030000
TZOFFSETFROM:+0200
TZOFFSETTO:+0100
TZNAME:Europe/Paris CET
END:STANDARD
BEGIN:STANDARD
DTSTART:20191027T020000
RDATE:20200329T030000
TZOFFSETFROM:+0200
TZOFFSETTO:+0100
TZNAME:Europe/Paris CET
END:STANDARD
BEGIN:STANDARD
DTSTART:20201025T020000
RDATE:20210328T030000
TZOFFSETFROM:+0200
TZOFFSETTO:+0100
TZNAME:Europe/Paris CET
END:STANDARD
BEGIN:STANDARD
DTSTART:20211031T020000
RDATE:20220327T030000
TZOFFSETFROM:+0200
TZOFFSETTO:+0100
TZNAME:Europe/Paris CET
END:STANDARD
BEGIN:STANDARD
DTSTART:20221030T020000
RDATE:20230326T030000
TZOFFSETFROM:+0200
TZOFFSETTO:+0100
TZNAME:Europe/Paris CET
END:STANDARD
BEGIN:STANDARD
DTSTART:20231029T020000
RDATE:20240331T030000
TZOFFSETFROM:+0200
TZOFFSETTO:+0100
TZNAME:Europe/Paris CET
END:STANDARD
BEGIN:STANDARD
DTSTART:20241027T020000
RDATE:20250330T030000
TZOFFSETFROM:+0200
TZOFFSETTO:+0100
TZNAME:Europe/Paris CET
END:STANDARD
BEGIN:STANDARD
DTSTART:20251026T020000
RDATE:20260329T030000
TZOFFSETFROM:+0200
TZOFFSETTO:+0100
TZNAME:Europe/Paris CET
END:STANDARD
BEGIN:STANDARD
DTSTART:20261025T020000
RDATE:20270328T030000
TZOFFSETFROM:+0200
TZOFFSETTO:+0100
TZNAME:Europe/Paris CET
END:STANDARD
BEGIN:DAYLIGHT
DTSTART:20150329T030000
RDATE:20151025T020000
TZOFFSETFROM:+0100
TZOFFSETTO:+0200
TZNAME:Europe/Paris CEST
END:DAYLIGHT
BEGIN:DAYLIGHT
DTSTART:20160327T030000
RDATE:20161030T020000
TZOFFSETFROM:+0100
TZOFFSETTO:+0200
TZNAME:Europe/Paris CEST
END:DAYLIGHT
BEGIN:DAYLIGHT
DTSTART:20170326T030000
RDATE:20171029T020000
TZOFFSETFROM:+0100
TZOFFSETTO:+0200
TZNAME:Europe/Paris CEST
END:DAYLIGHT
BEGIN:DAYLIGHT
DTSTART:20180325T030000
RDATE:20181028T020000
TZOFFSETFROM:+0100
TZOFFSETTO:+0200
TZNAME:Europe/Paris CEST
END:DAYLIGHT
BEGIN:DAYLIGHT
DTSTART:20190331T030000
RDATE:20191027T020000
TZOFFSETFROM:+0100
TZOFFSETTO:+0200
TZNAME:Europe/Paris CEST
END:DAYLIGHT
BEGIN:DAYLIGHT
DTSTART:20200329T030000
RDATE:20201025T020000
TZOFFSETFROM:+0100
TZOFFSETTO:+0200
TZNAME:Europe/Paris CEST
END:DAYLIGHT
BEGIN:DAYLIGHT
DTSTART:20210328T030000
RDATE:20211031T020000
TZOFFSETFROM:+0100
TZOFFSETTO:+0200
TZNAME:Europe/Paris CEST
END:DAYLIGHT
BEGIN:DAYLIGHT
DTSTART:20220327T030000
RDATE:20221030T020000
TZOFFSETFROM:+0100
TZOFFSETTO:+0200
TZNAME:Europe/Paris CEST
END:DAYLIGHT
BEGIN:DAYLIGHT
DTSTART:20230326T030000
RDATE:20231029T020000
TZOFFSETFROM:+0100
TZOFFSETTO:+0200
TZNAME:Europe/Paris CEST
END:DAYLIGHT
BEGIN:DAYLIGHT
DTSTART:20240331T030000
RDATE:20241027T020000
TZOFFSETFROM:+0100
TZOFFSETTO:+0200
TZNAME:Europe/Paris CEST
END:DAYLIGHT
BEGIN:DAYLIGHT
DTSTART:20250330T030000
RDATE:20251026T020000
TZOFFSETFROM:+0100
TZOFFSETTO:+0200
TZNAME:Europe/Paris CEST
END:DAYLIGHT
BEGIN:DAYLIGHT
DTSTART:20260329T030000
RDATE:20261025T020000
TZOFFSETFROM:+0100
TZOFFSETTO:+0200
TZNAME:Europe/Paris CEST
END:DAYLIGHT
END:VTIMEZONE
BEGIN:VEVENT
UID:a5eff0dbafed0665a4638385d562884f
CATEGORIES:Compétition Ski de Fond
CREATED:20151110T133951
SUMMARY:Coupe de la Hasel Crédit Mutuel n°3 **REPORTE**
URL;VALUE=URI:https://skivosges.net/agenda/detailevenement/453/-/coupe-de-la-hasel-credit
 -mutuel-n-3-reporte?tmpl=component
DESCRIPTION:Coupe de la Hasel Crédit Mutuel n°3 (Epreuve reportée, date à determiner)\n
 \nLieu : CHAMP DU FEU\nOrganisateur : SKI CLUB OBERHASLACH (14336 SKI CLUB 
 OBERHASLACH)\nTelecopie : 0624124123\n\npas de soupçon de neige à l´horizon
 \nla course est annulée ou reporté à une date ultérieure\n\nInscriptions pr
 évues sur le site (dès début de période d´inscription)\n - FMVF0051  Depart
  Individuel U16 (Cadet) Filles\n  Coupe de la Hasel Crédit Mutuel n°3\n - F
 MVF0052  Depart Individuel Dames\n  Coupe de la Hasel Crédit Mutuel n°3\n -
  FMVF0053  Depart Individuel Senior Dames\n  Coupe de la Hasel Crédit Mutue
 l n°3\n - FMVM0051  Depart Individuel U16 (Cadet) Garçons\n  Coupe de la Ha
 sel Crédit Mutuel n°3\n - FMVM0052  Depart Individuel Hommes\n  Coupe de la
  Hasel Crédit Mutuel n°3\n - FMVM0053  Depart Individuel Senior Hommes\n  C
 oupe de la Hasel Crédit Mutuel n°3 Cet évènement a été importé depuis :http
 s://skivosges.net/agenda/detailevenement/453/-/coupe-de-la-hasel-credit-mut
 uel-n-3-reporte?tmpl=component (https://skivosges.net/agenda/detailevenemen
 t/453/-/coupe-de-la-hasel-credit-mutuel-n-3-reporte?tmpl=component)
X-ALT-DESC;FMTTYPE=text/html:<strong>Coupe de la Hasel Crédit Mutuel n°3</strong> <font class="attention
 4">(Epreuve reportée, date à determiner)</font><br /><br />Lieu : CHAMP DU 
 FEU<br />Organisateur : SKI CLUB OBERHASLACH <small>(14336 SKI CLUB OBERHAS
 LACH)</small><br />Telecopie : 0624124123<br /><br />pas de soupçon de neig
 e à l´horizon<br>la course est annulée ou reporté à une date ultérieure<br 
 /><br />Inscriptions prévues sur le site <small>(dès début de période d´ins
 cription)</small><ul type="disc"><li>FMVF0051  Depart Individuel <nobr>U16 
 (Cadet)</nobr> Filles<br />&nbsp;&nbsp;Coupe de la Hasel Crédit Mutuel n°3<
 /li><li>FMVF0052  Depart Individuel Dames<br />&nbsp;&nbsp;Coupe de la Hase
 l Crédit Mutuel n°3</li><li>FMVF0053  Depart Individuel <nobr>Senior</nobr>
  Dames<br />&nbsp;&nbsp;Coupe de la Hasel Crédit Mutuel n°3</li><li>FMVM005
 1  Depart Individuel <nobr>U16 (Cadet)</nobr> Garçons<br />&nbsp;&nbsp;Coup
 e de la Hasel Crédit Mutuel n°3</li><li>FMVM0052  Depart Individuel Hommes<
 br />&nbsp;&nbsp;Coupe de la Hasel Crédit Mutuel n°3</li><li>FMVM0053  Depa
 rt Individuel <nobr>Senior</nobr> Hommes<br />&nbsp;&nbsp;Coupe de la Hasel
  Crédit Mutuel n°3</li></ul> <a href="https://skivosges.net/agenda/detailev
 enement/453/-/coupe-de-la-hasel-credit-mutuel-n-3-reporte?tmpl=component">C
 et évènement a été importé depuis :https://skivosges.net/agenda/detailevene
 ment/453/-/coupe-de-la-hasel-credit-mutuel-n-3-reporte?tmpl=component</a>DTSTAMP:20260421T051040
DTSTART;TZID=Europe/Paris:20151227T080000
DTEND;TZID=Europe/Paris:20151227T170000
SEQUENCE:0
TRANSP:OPAQUE
END:VEVENT
END:VCALENDAR