BEGIN:VCALENDAR
VERSION:2.0
PRODID:-//jEvents 2.0 for Joomla//EN
CALSCALE:GREGORIAN
METHOD:PUBLISH
BEGIN:VTIMEZONE
TZID:Europe/Paris
BEGIN:STANDARD
DTSTART:20150116T080000
RDATE:20150329T030000
TZOFFSETFROM:+0200
TZOFFSETTO:+0100
TZNAME:Europe/Paris CET
END:STANDARD
BEGIN:STANDARD
DTSTART:20151025T020000
RDATE:20160327T030000
TZOFFSETFROM:+0200
TZOFFSETTO:+0100
TZNAME:Europe/Paris CET
END:STANDARD
BEGIN:STANDARD
DTSTART:20161030T020000
RDATE:20170326T030000
TZOFFSETFROM:+0200
TZOFFSETTO:+0100
TZNAME:Europe/Paris CET
END:STANDARD
BEGIN:STANDARD
DTSTART:20171029T020000
RDATE:20180325T030000
TZOFFSETFROM:+0200
TZOFFSETTO:+0100
TZNAME:Europe/Paris CET
END:STANDARD
BEGIN:STANDARD
DTSTART:20181028T020000
RDATE:20190331T030000
TZOFFSETFROM:+0200
TZOFFSETTO:+0100
TZNAME:Europe/Paris CET
END:STANDARD
BEGIN:STANDARD
DTSTART:20191027T020000
RDATE:20200329T030000
TZOFFSETFROM:+0200
TZOFFSETTO:+0100
TZNAME:Europe/Paris CET
END:STANDARD
BEGIN:STANDARD
DTSTART:20201025T020000
RDATE:20210328T030000
TZOFFSETFROM:+0200
TZOFFSETTO:+0100
TZNAME:Europe/Paris CET
END:STANDARD
BEGIN:STANDARD
DTSTART:20211031T020000
RDATE:20220327T030000
TZOFFSETFROM:+0200
TZOFFSETTO:+0100
TZNAME:Europe/Paris CET
END:STANDARD
BEGIN:STANDARD
DTSTART:20221030T020000
RDATE:20230326T030000
TZOFFSETFROM:+0200
TZOFFSETTO:+0100
TZNAME:Europe/Paris CET
END:STANDARD
BEGIN:STANDARD
DTSTART:20231029T020000
RDATE:20240331T030000
TZOFFSETFROM:+0200
TZOFFSETTO:+0100
TZNAME:Europe/Paris CET
END:STANDARD
BEGIN:STANDARD
DTSTART:20241027T020000
RDATE:20250330T030000
TZOFFSETFROM:+0200
TZOFFSETTO:+0100
TZNAME:Europe/Paris CET
END:STANDARD
BEGIN:STANDARD
DTSTART:20251026T020000
RDATE:20260329T030000
TZOFFSETFROM:+0200
TZOFFSETTO:+0100
TZNAME:Europe/Paris CET
END:STANDARD
BEGIN:STANDARD
DTSTART:20261025T020000
RDATE:20270328T030000
TZOFFSETFROM:+0200
TZOFFSETTO:+0100
TZNAME:Europe/Paris CET
END:STANDARD
BEGIN:DAYLIGHT
DTSTART:20150329T030000
RDATE:20151025T020000
TZOFFSETFROM:+0100
TZOFFSETTO:+0200
TZNAME:Europe/Paris CEST
END:DAYLIGHT
BEGIN:DAYLIGHT
DTSTART:20160327T030000
RDATE:20161030T020000
TZOFFSETFROM:+0100
TZOFFSETTO:+0200
TZNAME:Europe/Paris CEST
END:DAYLIGHT
BEGIN:DAYLIGHT
DTSTART:20170326T030000
RDATE:20171029T020000
TZOFFSETFROM:+0100
TZOFFSETTO:+0200
TZNAME:Europe/Paris CEST
END:DAYLIGHT
BEGIN:DAYLIGHT
DTSTART:20180325T030000
RDATE:20181028T020000
TZOFFSETFROM:+0100
TZOFFSETTO:+0200
TZNAME:Europe/Paris CEST
END:DAYLIGHT
BEGIN:DAYLIGHT
DTSTART:20190331T030000
RDATE:20191027T020000
TZOFFSETFROM:+0100
TZOFFSETTO:+0200
TZNAME:Europe/Paris CEST
END:DAYLIGHT
BEGIN:DAYLIGHT
DTSTART:20200329T030000
RDATE:20201025T020000
TZOFFSETFROM:+0100
TZOFFSETTO:+0200
TZNAME:Europe/Paris CEST
END:DAYLIGHT
BEGIN:DAYLIGHT
DTSTART:20210328T030000
RDATE:20211031T020000
TZOFFSETFROM:+0100
TZOFFSETTO:+0200
TZNAME:Europe/Paris CEST
END:DAYLIGHT
BEGIN:DAYLIGHT
DTSTART:20220327T030000
RDATE:20221030T020000
TZOFFSETFROM:+0100
TZOFFSETTO:+0200
TZNAME:Europe/Paris CEST
END:DAYLIGHT
BEGIN:DAYLIGHT
DTSTART:20230326T030000
RDATE:20231029T020000
TZOFFSETFROM:+0100
TZOFFSETTO:+0200
TZNAME:Europe/Paris CEST
END:DAYLIGHT
BEGIN:DAYLIGHT
DTSTART:20240331T030000
RDATE:20241027T020000
TZOFFSETFROM:+0100
TZOFFSETTO:+0200
TZNAME:Europe/Paris CEST
END:DAYLIGHT
BEGIN:DAYLIGHT
DTSTART:20250330T030000
RDATE:20251026T020000
TZOFFSETFROM:+0100
TZOFFSETTO:+0200
TZNAME:Europe/Paris CEST
END:DAYLIGHT
BEGIN:DAYLIGHT
DTSTART:20260329T030000
RDATE:20261025T020000
TZOFFSETFROM:+0100
TZOFFSETTO:+0200
TZNAME:Europe/Paris CEST
END:DAYLIGHT
END:VTIMEZONE
BEGIN:VEVENT
UID:d93661032222db467a644113dc337b4d
CATEGORIES:Opens et Promos (alpin)
CREATED:20151110T133951
SUMMARY:OPEN  U8 à U14  Mémorial Marcel Adam **REPORTE**
URL;VALUE=URI:https://skivosges.net/agenda/detailevenement/481/-/open-u8-a-u14-memorial-m
 arcel-adam-reporte?tmpl=component
DESCRIPTION:<strong>OPEN  U8 à U14  Mémorial Marcel Adam</strong> <font class="attentio
 n4">(Epreuve reportée, date à determiner)</font><br /><br />Lieu : CHAMP DU
  FEU<br />Organisateur : SKI CLUB BELMONT CHAMP DU FEU <small>(14485 SKI CL
 UB BELMONT CHAMP DU FEU)</small><br />Email : <!-- Cette adresse électroniq
 ue est protégée contre les robots spammeurs. --><span class="cloaked_email 
 ep_76e340c4"><span data-ep-a="&#109;&#97;&#114;&#116;&#105;" data-ep-b="&#1
 16;"><span data-ep-a="n&#46;&#98;r&#105;" data-ep-b="te&#46;&#110;&#101;"><
 span data-ep-a="g&#110;&#111;n&#64;" data-ep-b="&#108;&#97;&#112;os"></span
 ></span></span></span><script>RegularLabs.EmailProtector.unCloak("ep_76e340
 c4");</script><br />Telecopie : 03 88 97 74 30<br /><br />Inscriptions en c
 ours sur ce site<ul type="disc"><li>AMVM0281  Slalom <nobr>U8/U10</nobr> Ga
 rçons<br />&nbsp;&nbsp;OPEN  U8 à U14  Mémorial Marcel Adam</li><li>AMVM028
 2  Slalom <nobr>U12/U14</nobr> Garçons<br />&nbsp;&nbsp;OPEN  U8 à U14  Mém
 orial Marcel Adam</li><li>AMVF0281  Slalom <nobr>U8/U10</nobr> Filles<br />
 &nbsp;&nbsp;OPEN  U8 à U14  Mémorial Marcel Adam</li><li>AMVF0282  Slalom <
 nobr>U12/U14</nobr> Filles<br />&nbsp;&nbsp;OPEN  U8 à U14  Mémorial Marcel
  Adam</li></ul> <a href="https://skivosges.net/agenda/detailevenement/481/-
 /open-u8-a-u14-memorial-marcel-adam-reporte?tmpl=component">Cet évènement a
  été importé depuis :https://skivosges.net/agenda/detailevenement/481/-/ope
 n-u8-a-u14-memorial-marcel-adam-reporte?tmpl=component</a>DTSTAMP:20260421T051252
DTSTART;TZID=Europe/Paris:20160117T080000
DTEND;TZID=Europe/Paris:20160117T170000
SEQUENCE:0
TRANSP:OPAQUE
END:VEVENT
END:VCALENDAR