BEGIN:VCALENDAR
VERSION:2.0
PRODID:-//jEvents 2.0 for Joomla//EN
CALSCALE:GREGORIAN
METHOD:PUBLISH
BEGIN:VTIMEZONE
TZID:Europe/Paris
BEGIN:STANDARD
DTSTART:20121207T080000
RDATE:20130331T030000
TZOFFSETFROM:+0200
TZOFFSETTO:+0100
TZNAME:Europe/Paris CET
END:STANDARD
BEGIN:STANDARD
DTSTART:20131027T020000
RDATE:20140330T030000
TZOFFSETFROM:+0200
TZOFFSETTO:+0100
TZNAME:Europe/Paris CET
END:STANDARD
BEGIN:STANDARD
DTSTART:20141026T020000
RDATE:20150329T030000
TZOFFSETFROM:+0200
TZOFFSETTO:+0100
TZNAME:Europe/Paris CET
END:STANDARD
BEGIN:STANDARD
DTSTART:20151025T020000
RDATE:20160327T030000
TZOFFSETFROM:+0200
TZOFFSETTO:+0100
TZNAME:Europe/Paris CET
END:STANDARD
BEGIN:STANDARD
DTSTART:20161030T020000
RDATE:20170326T030000
TZOFFSETFROM:+0200
TZOFFSETTO:+0100
TZNAME:Europe/Paris CET
END:STANDARD
BEGIN:STANDARD
DTSTART:20171029T020000
RDATE:20180325T030000
TZOFFSETFROM:+0200
TZOFFSETTO:+0100
TZNAME:Europe/Paris CET
END:STANDARD
BEGIN:STANDARD
DTSTART:20181028T020000
RDATE:20190331T030000
TZOFFSETFROM:+0200
TZOFFSETTO:+0100
TZNAME:Europe/Paris CET
END:STANDARD
BEGIN:STANDARD
DTSTART:20191027T020000
RDATE:20200329T030000
TZOFFSETFROM:+0200
TZOFFSETTO:+0100
TZNAME:Europe/Paris CET
END:STANDARD
BEGIN:STANDARD
DTSTART:20201025T020000
RDATE:20210328T030000
TZOFFSETFROM:+0200
TZOFFSETTO:+0100
TZNAME:Europe/Paris CET
END:STANDARD
BEGIN:STANDARD
DTSTART:20211031T020000
RDATE:20220327T030000
TZOFFSETFROM:+0200
TZOFFSETTO:+0100
TZNAME:Europe/Paris CET
END:STANDARD
BEGIN:STANDARD
DTSTART:20221030T020000
RDATE:20230326T030000
TZOFFSETFROM:+0200
TZOFFSETTO:+0100
TZNAME:Europe/Paris CET
END:STANDARD
BEGIN:STANDARD
DTSTART:20231029T020000
RDATE:20240331T030000
TZOFFSETFROM:+0200
TZOFFSETTO:+0100
TZNAME:Europe/Paris CET
END:STANDARD
BEGIN:STANDARD
DTSTART:20241027T020000
RDATE:20250330T030000
TZOFFSETFROM:+0200
TZOFFSETTO:+0100
TZNAME:Europe/Paris CET
END:STANDARD
BEGIN:STANDARD
DTSTART:20251026T020000
RDATE:20260329T030000
TZOFFSETFROM:+0200
TZOFFSETTO:+0100
TZNAME:Europe/Paris CET
END:STANDARD
BEGIN:STANDARD
DTSTART:20261025T020000
RDATE:20270328T030000
TZOFFSETFROM:+0200
TZOFFSETTO:+0100
TZNAME:Europe/Paris CET
END:STANDARD
BEGIN:DAYLIGHT
DTSTART:20130331T030000
RDATE:20131027T020000
TZOFFSETFROM:+0100
TZOFFSETTO:+0200
TZNAME:Europe/Paris CEST
END:DAYLIGHT
BEGIN:DAYLIGHT
DTSTART:20140330T030000
RDATE:20141026T020000
TZOFFSETFROM:+0100
TZOFFSETTO:+0200
TZNAME:Europe/Paris CEST
END:DAYLIGHT
BEGIN:DAYLIGHT
DTSTART:20150329T030000
RDATE:20151025T020000
TZOFFSETFROM:+0100
TZOFFSETTO:+0200
TZNAME:Europe/Paris CEST
END:DAYLIGHT
BEGIN:DAYLIGHT
DTSTART:20160327T030000
RDATE:20161030T020000
TZOFFSETFROM:+0100
TZOFFSETTO:+0200
TZNAME:Europe/Paris CEST
END:DAYLIGHT
BEGIN:DAYLIGHT
DTSTART:20170326T030000
RDATE:20171029T020000
TZOFFSETFROM:+0100
TZOFFSETTO:+0200
TZNAME:Europe/Paris CEST
END:DAYLIGHT
BEGIN:DAYLIGHT
DTSTART:20180325T030000
RDATE:20181028T020000
TZOFFSETFROM:+0100
TZOFFSETTO:+0200
TZNAME:Europe/Paris CEST
END:DAYLIGHT
BEGIN:DAYLIGHT
DTSTART:20190331T030000
RDATE:20191027T020000
TZOFFSETFROM:+0100
TZOFFSETTO:+0200
TZNAME:Europe/Paris CEST
END:DAYLIGHT
BEGIN:DAYLIGHT
DTSTART:20200329T030000
RDATE:20201025T020000
TZOFFSETFROM:+0100
TZOFFSETTO:+0200
TZNAME:Europe/Paris CEST
END:DAYLIGHT
BEGIN:DAYLIGHT
DTSTART:20210328T030000
RDATE:20211031T020000
TZOFFSETFROM:+0100
TZOFFSETTO:+0200
TZNAME:Europe/Paris CEST
END:DAYLIGHT
BEGIN:DAYLIGHT
DTSTART:20220327T030000
RDATE:20221030T020000
TZOFFSETFROM:+0100
TZOFFSETTO:+0200
TZNAME:Europe/Paris CEST
END:DAYLIGHT
BEGIN:DAYLIGHT
DTSTART:20230326T030000
RDATE:20231029T020000
TZOFFSETFROM:+0100
TZOFFSETTO:+0200
TZNAME:Europe/Paris CEST
END:DAYLIGHT
BEGIN:DAYLIGHT
DTSTART:20240331T030000
RDATE:20241027T020000
TZOFFSETFROM:+0100
TZOFFSETTO:+0200
TZNAME:Europe/Paris CEST
END:DAYLIGHT
BEGIN:DAYLIGHT
DTSTART:20250330T030000
RDATE:20251026T020000
TZOFFSETFROM:+0100
TZOFFSETTO:+0200
TZNAME:Europe/Paris CEST
END:DAYLIGHT
BEGIN:DAYLIGHT
DTSTART:20260329T030000
RDATE:20261025T020000
TZOFFSETFROM:+0100
TZOFFSETTO:+0200
TZNAME:Europe/Paris CEST
END:DAYLIGHT
END:VTIMEZONE
BEGIN:VEVENT
UID:e31b78a59ede3d8a96883463ae075eb9
CATEGORIES:Circuit Alsace Adultes (alpin)
CREATED:20131203T122059
SUMMARY:CAA       Coupe de la Ht Thur **REPORTE**
URL;VALUE=URI:https://skivosges.net/agenda/detailevenement/52/-/caa-coupe-de-la-ht-thur-r
 eporte?tmpl=component
DESCRIPTION:CAA       Coupe de la Ht Thur (Epreuve reportée, date à determiner) \n(Coup
 e d'Alsace Adultes)\n\nLieu : MARKSTEIN \nOrganisateur : SKI CLUB EDELWEISS
  SAINT AMARIN  (14058 SKI CLUB EDELWEISS SAINT AMARIN)\nEmail : RegularLabs
 .EmailProtector.unCloak("ep_52a36273");\nTelecopie : 03 89 82 23 60 \n  Org
 anisateur:SKI CLUB EDELWEISS SAINT AMARI\n - AMVF0011  Slalom (Courses FFS)
  U16-&gt;Mas (Min à Mast/Vet) Dames\n  CAA       Coupe de la Ht Thur\n  Org
 anisateur:SKI CLUB EDELWEISS SAINT AMARI\n - AMVM0011  Slalom (Courses FFS)
  U16-&gt;Mas (Min à Mast/Vet) Hommes\n  CAA       Coupe de la Ht Thur Cet é
 vènement a été importé depuis :https://skivosges.net/agenda/detailevenement
 /52/-/caa-coupe-de-la-ht-thur-reporte?tmpl=component (https://skivosges.net
 /agenda/detailevenement/52/-/caa-coupe-de-la-ht-thur-reporte?tmpl=component
 )
X-ALT-DESC;FMTTYPE=text/html:<strong>CAA       Coupe de la Ht Thur</strong> <font class="attention4">(Ep
 reuve reportée, date à determiner)</font> <br /><i>(Coupe d'Alsace Adultes)
 </i><br /><br />Lieu : MARKSTEIN <br />Organisateur : SKI CLUB EDELWEISS SA
 INT AMARIN  <small>(14058 SKI CLUB EDELWEISS SAINT AMARIN)</small><br />Ema
 il : <!-- Cette adresse électronique est protégée contre les robots spammeu
 rs. --><span class="cloaked_email ep_52a36273"><span data-ep-b="&#101;.&#10
 2;&#114;" data-ep-a="&#107;l&#105;n"><span data-ep-a="&#103;e&#108;&#115;" 
 data-ep-b="&#64;&#102;r&#101;"><span data-ep-a="&#99;&#104;mi" data-ep-b="&
 #100;t.g"></span></span></span></span><script>RegularLabs.EmailProtector.un
 Cloak("ep_52a36273");</script><br />Telecopie : 03 89 82 23 60 <ul type="di
 sc"><br />&nbsp;&nbsp;Organisateur:SKI CLUB EDELWEISS SAINT AMARI<li>AMVF00
 11  Slalom <nobr><i>(Courses FFS)</i></nobr> <nobr>U16->Mas (Min à Mast/Vet
 )</nobr> Dames<br />&nbsp;&nbsp;CAA       Coupe de la Ht Thur</li><br />&nb
 sp;&nbsp;Organisateur:SKI CLUB EDELWEISS SAINT AMARI<li>AMVM0011  Slalom <n
 obr><i>(Courses FFS)</i></nobr> <nobr>U16->Mas (Min à Mast/Vet)</nobr> Homm
 es<br />&nbsp;&nbsp;CAA       Coupe de la Ht Thur</li></ul> <a href="https:
 //skivosges.net/agenda/detailevenement/52/-/caa-coupe-de-la-ht-thur-reporte
 ?tmpl=component">Cet évènement a été importé depuis :https://skivosges.net/
 agenda/detailevenement/52/-/caa-coupe-de-la-ht-thur-reporte?tmpl=component<
 /a>DTSTAMP:20260421T014535
DTSTART;TZID=Europe/Paris:20131208T080000
DTEND;TZID=Europe/Paris:20131208T170000
SEQUENCE:0
TRANSP:OPAQUE
END:VEVENT
END:VCALENDAR