BEGIN:VCALENDAR
VERSION:2.0
PRODID:-//jEvents 2.0 for Joomla//EN
CALSCALE:GREGORIAN
METHOD:PUBLISH
BEGIN:VTIMEZONE
TZID:Europe/Paris
BEGIN:STANDARD
DTSTART:20150216T080000
RDATE:20150329T030000
TZOFFSETFROM:+0200
TZOFFSETTO:+0100
TZNAME:Europe/Paris CET
END:STANDARD
BEGIN:STANDARD
DTSTART:20151025T020000
RDATE:20160327T030000
TZOFFSETFROM:+0200
TZOFFSETTO:+0100
TZNAME:Europe/Paris CET
END:STANDARD
BEGIN:STANDARD
DTSTART:20161030T020000
RDATE:20170326T030000
TZOFFSETFROM:+0200
TZOFFSETTO:+0100
TZNAME:Europe/Paris CET
END:STANDARD
BEGIN:STANDARD
DTSTART:20171029T020000
RDATE:20180325T030000
TZOFFSETFROM:+0200
TZOFFSETTO:+0100
TZNAME:Europe/Paris CET
END:STANDARD
BEGIN:STANDARD
DTSTART:20181028T020000
RDATE:20190331T030000
TZOFFSETFROM:+0200
TZOFFSETTO:+0100
TZNAME:Europe/Paris CET
END:STANDARD
BEGIN:STANDARD
DTSTART:20191027T020000
RDATE:20200329T030000
TZOFFSETFROM:+0200
TZOFFSETTO:+0100
TZNAME:Europe/Paris CET
END:STANDARD
BEGIN:STANDARD
DTSTART:20201025T020000
RDATE:20210328T030000
TZOFFSETFROM:+0200
TZOFFSETTO:+0100
TZNAME:Europe/Paris CET
END:STANDARD
BEGIN:STANDARD
DTSTART:20211031T020000
RDATE:20220327T030000
TZOFFSETFROM:+0200
TZOFFSETTO:+0100
TZNAME:Europe/Paris CET
END:STANDARD
BEGIN:STANDARD
DTSTART:20221030T020000
RDATE:20230326T030000
TZOFFSETFROM:+0200
TZOFFSETTO:+0100
TZNAME:Europe/Paris CET
END:STANDARD
BEGIN:STANDARD
DTSTART:20231029T020000
RDATE:20240331T030000
TZOFFSETFROM:+0200
TZOFFSETTO:+0100
TZNAME:Europe/Paris CET
END:STANDARD
BEGIN:STANDARD
DTSTART:20241027T020000
RDATE:20250330T030000
TZOFFSETFROM:+0200
TZOFFSETTO:+0100
TZNAME:Europe/Paris CET
END:STANDARD
BEGIN:STANDARD
DTSTART:20251026T020000
RDATE:20260329T030000
TZOFFSETFROM:+0200
TZOFFSETTO:+0100
TZNAME:Europe/Paris CET
END:STANDARD
BEGIN:STANDARD
DTSTART:20261025T020000
RDATE:20270328T030000
TZOFFSETFROM:+0200
TZOFFSETTO:+0100
TZNAME:Europe/Paris CET
END:STANDARD
BEGIN:DAYLIGHT
DTSTART:20150329T030000
RDATE:20151025T020000
TZOFFSETFROM:+0100
TZOFFSETTO:+0200
TZNAME:Europe/Paris CEST
END:DAYLIGHT
BEGIN:DAYLIGHT
DTSTART:20160327T030000
RDATE:20161030T020000
TZOFFSETFROM:+0100
TZOFFSETTO:+0200
TZNAME:Europe/Paris CEST
END:DAYLIGHT
BEGIN:DAYLIGHT
DTSTART:20170326T030000
RDATE:20171029T020000
TZOFFSETFROM:+0100
TZOFFSETTO:+0200
TZNAME:Europe/Paris CEST
END:DAYLIGHT
BEGIN:DAYLIGHT
DTSTART:20180325T030000
RDATE:20181028T020000
TZOFFSETFROM:+0100
TZOFFSETTO:+0200
TZNAME:Europe/Paris CEST
END:DAYLIGHT
BEGIN:DAYLIGHT
DTSTART:20190331T030000
RDATE:20191027T020000
TZOFFSETFROM:+0100
TZOFFSETTO:+0200
TZNAME:Europe/Paris CEST
END:DAYLIGHT
BEGIN:DAYLIGHT
DTSTART:20200329T030000
RDATE:20201025T020000
TZOFFSETFROM:+0100
TZOFFSETTO:+0200
TZNAME:Europe/Paris CEST
END:DAYLIGHT
BEGIN:DAYLIGHT
DTSTART:20210328T030000
RDATE:20211031T020000
TZOFFSETFROM:+0100
TZOFFSETTO:+0200
TZNAME:Europe/Paris CEST
END:DAYLIGHT
BEGIN:DAYLIGHT
DTSTART:20220327T030000
RDATE:20221030T020000
TZOFFSETFROM:+0100
TZOFFSETTO:+0200
TZNAME:Europe/Paris CEST
END:DAYLIGHT
BEGIN:DAYLIGHT
DTSTART:20230326T030000
RDATE:20231029T020000
TZOFFSETFROM:+0100
TZOFFSETTO:+0200
TZNAME:Europe/Paris CEST
END:DAYLIGHT
BEGIN:DAYLIGHT
DTSTART:20240331T030000
RDATE:20241027T020000
TZOFFSETFROM:+0100
TZOFFSETTO:+0200
TZNAME:Europe/Paris CEST
END:DAYLIGHT
BEGIN:DAYLIGHT
DTSTART:20250330T030000
RDATE:20251026T020000
TZOFFSETFROM:+0100
TZOFFSETTO:+0200
TZNAME:Europe/Paris CEST
END:DAYLIGHT
BEGIN:DAYLIGHT
DTSTART:20260329T030000
RDATE:20261025T020000
TZOFFSETFROM:+0100
TZOFFSETTO:+0200
TZNAME:Europe/Paris CEST
END:DAYLIGHT
END:VTIMEZONE
BEGIN:VEVENT
UID:e636ec6c39357ab60327c8c2fc4e89e9
CATEGORIES:Compétition Saut
CREATED:20151110T133952
SUMMARY:Coupe des Vosges Saut Spécial
URL;VALUE=URI:https://skivosges.net/agenda/detailevenement/525/-/coupe-des-vosges-saut-sp
 ecial?tmpl=component
DESCRIPTION:Coupe des Vosges Saut Spécial\n\nLieu : GERARDMER\nOrganisateur : A.S GERAR
 DMER SKI NORDIQUE (14469 A.S GERARDMER SKI NORDIQUE)\n - TMVF0091 épreuve U
 11 (Poussin) Filles\n  Coupe des Vosges Saut Spécial\n - TMVF0092 épreuve U
 13 (Benjamin) Filles\n  Coupe des Vosges Saut Spécial\n - TMVF0093 épreuve 
 U15 (Minime) Filles\n  Coupe des Vosges Saut Spécial\n - TMVF0094 épreuve U
 17 (Cadet) Filles\n  Coupe des Vosges Saut Spécial\n - TMVF0095 épreuve U20
  (Junior) Dames\n  Coupe des Vosges Saut Spécial\n - TMVF0096 épreuve Senio
 r Dames\n  Coupe des Vosges Saut Spécial\n - TMVM0091 épreuve U11 (Poussin)
  Garçons\n  Coupe des Vosges Saut Spécial\n - TMVM0092 épreuve U13 (Benjami
 n) Garçons\n  Coupe des Vosges Saut Spécial\n - TMVM0093 épreuve U15 (Minim
 e) Garçons\n  Coupe des Vosges Saut Spécial\n - TMVM0094 épreuve U17 (Cadet
 ) Garçons\n  Coupe des Vosges Saut Spécial\n - TMVM0095 épreuve U20 (Junior
 ) Hommes\n  Coupe des Vosges Saut Spécial\n - TMVM0096 épreuve Senior Homme
 s\n  Coupe des Vosges Saut Spécial Cet évènement a été importé depuis :http
 s://skivosges.net/agenda/detailevenement/525/-/coupe-des-vosges-saut-specia
 l?tmpl=component (https://skivosges.net/agenda/detailevenement/525/-/coupe-
 des-vosges-saut-special?tmpl=component)
X-ALT-DESC;FMTTYPE=text/html:<strong>Coupe des Vosges Saut Spécial</strong><br /><br />Lieu : GERARDMER<
 br />Organisateur : A.S GERARDMER SKI NORDIQUE <small>(14469 A.S GERARDMER 
 SKI NORDIQUE)</small><ul type="disc"><li>TMVF0091 épreuve <nobr>U11 (Poussi
 n)</nobr> Filles<br />&nbsp;&nbsp;Coupe des Vosges Saut Spécial</li><li>TMV
 F0092 épreuve <nobr>U13 (Benjamin)</nobr> Filles<br />&nbsp;&nbsp;Coupe des
  Vosges Saut Spécial</li><li>TMVF0093 épreuve <nobr>U15 (Minime)</nobr> Fil
 les<br />&nbsp;&nbsp;Coupe des Vosges Saut Spécial</li><li>TMVF0094 épreuve
  <nobr>U17 (Cadet)</nobr> Filles<br />&nbsp;&nbsp;Coupe des Vosges Saut Spé
 cial</li><li>TMVF0095 épreuve <nobr>U20 (Junior)</nobr> Dames<br />&nbsp;&n
 bsp;Coupe des Vosges Saut Spécial</li><li>TMVF0096 épreuve <nobr>Senior</no
 br> Dames<br />&nbsp;&nbsp;Coupe des Vosges Saut Spécial</li><li>TMVM0091 é
 preuve <nobr>U11 (Poussin)</nobr> Garçons<br />&nbsp;&nbsp;Coupe des Vosges
  Saut Spécial</li><li>TMVM0092 épreuve <nobr>U13 (Benjamin)</nobr> Garçons<
 br />&nbsp;&nbsp;Coupe des Vosges Saut Spécial</li><li>TMVM0093 épreuve <no
 br>U15 (Minime)</nobr> Garçons<br />&nbsp;&nbsp;Coupe des Vosges Saut Spéci
 al</li><li>TMVM0094 épreuve <nobr>U17 (Cadet)</nobr> Garçons<br />&nbsp;&nb
 sp;Coupe des Vosges Saut Spécial</li><li>TMVM0095 épreuve <nobr>U20 (Junior
 )</nobr> Hommes<br />&nbsp;&nbsp;Coupe des Vosges Saut Spécial</li><li>TMVM
 0096 épreuve <nobr>Senior</nobr> Hommes<br />&nbsp;&nbsp;Coupe des Vosges S
 aut Spécial</li></ul> <a href="https://skivosges.net/agenda/detailevenement
 /525/-/coupe-des-vosges-saut-special?tmpl=component">Cet évènement a été im
 porté depuis :https://skivosges.net/agenda/detailevenement/525/-/coupe-des-
 vosges-saut-special?tmpl=component</a>DTSTAMP:20260421T051110
DTSTART;TZID=Europe/Paris:20160217T080000
DTEND;TZID=Europe/Paris:20160217T170000
SEQUENCE:0
TRANSP:OPAQUE
END:VEVENT
END:VCALENDAR