BEGIN:VCALENDAR
VERSION:2.0
PRODID:-//jEvents 2.0 for Joomla//EN
CALSCALE:GREGORIAN
METHOD:PUBLISH
BEGIN:VTIMEZONE
TZID:Europe/Paris
BEGIN:STANDARD
DTSTART:20121214T080000
RDATE:20130331T030000
TZOFFSETFROM:+0200
TZOFFSETTO:+0100
TZNAME:Europe/Paris CET
END:STANDARD
BEGIN:STANDARD
DTSTART:20131027T020000
RDATE:20140330T030000
TZOFFSETFROM:+0200
TZOFFSETTO:+0100
TZNAME:Europe/Paris CET
END:STANDARD
BEGIN:STANDARD
DTSTART:20141026T020000
RDATE:20150329T030000
TZOFFSETFROM:+0200
TZOFFSETTO:+0100
TZNAME:Europe/Paris CET
END:STANDARD
BEGIN:STANDARD
DTSTART:20151025T020000
RDATE:20160327T030000
TZOFFSETFROM:+0200
TZOFFSETTO:+0100
TZNAME:Europe/Paris CET
END:STANDARD
BEGIN:STANDARD
DTSTART:20161030T020000
RDATE:20170326T030000
TZOFFSETFROM:+0200
TZOFFSETTO:+0100
TZNAME:Europe/Paris CET
END:STANDARD
BEGIN:STANDARD
DTSTART:20171029T020000
RDATE:20180325T030000
TZOFFSETFROM:+0200
TZOFFSETTO:+0100
TZNAME:Europe/Paris CET
END:STANDARD
BEGIN:STANDARD
DTSTART:20181028T020000
RDATE:20190331T030000
TZOFFSETFROM:+0200
TZOFFSETTO:+0100
TZNAME:Europe/Paris CET
END:STANDARD
BEGIN:STANDARD
DTSTART:20191027T020000
RDATE:20200329T030000
TZOFFSETFROM:+0200
TZOFFSETTO:+0100
TZNAME:Europe/Paris CET
END:STANDARD
BEGIN:STANDARD
DTSTART:20201025T020000
RDATE:20210328T030000
TZOFFSETFROM:+0200
TZOFFSETTO:+0100
TZNAME:Europe/Paris CET
END:STANDARD
BEGIN:STANDARD
DTSTART:20211031T020000
RDATE:20220327T030000
TZOFFSETFROM:+0200
TZOFFSETTO:+0100
TZNAME:Europe/Paris CET
END:STANDARD
BEGIN:STANDARD
DTSTART:20221030T020000
RDATE:20230326T030000
TZOFFSETFROM:+0200
TZOFFSETTO:+0100
TZNAME:Europe/Paris CET
END:STANDARD
BEGIN:STANDARD
DTSTART:20231029T020000
RDATE:20240331T030000
TZOFFSETFROM:+0200
TZOFFSETTO:+0100
TZNAME:Europe/Paris CET
END:STANDARD
BEGIN:STANDARD
DTSTART:20241027T020000
RDATE:20250330T030000
TZOFFSETFROM:+0200
TZOFFSETTO:+0100
TZNAME:Europe/Paris CET
END:STANDARD
BEGIN:STANDARD
DTSTART:20251026T020000
RDATE:20260329T030000
TZOFFSETFROM:+0200
TZOFFSETTO:+0100
TZNAME:Europe/Paris CET
END:STANDARD
BEGIN:STANDARD
DTSTART:20261025T020000
RDATE:20270328T030000
TZOFFSETFROM:+0200
TZOFFSETTO:+0100
TZNAME:Europe/Paris CET
END:STANDARD
BEGIN:DAYLIGHT
DTSTART:20130331T030000
RDATE:20131027T020000
TZOFFSETFROM:+0100
TZOFFSETTO:+0200
TZNAME:Europe/Paris CEST
END:DAYLIGHT
BEGIN:DAYLIGHT
DTSTART:20140330T030000
RDATE:20141026T020000
TZOFFSETFROM:+0100
TZOFFSETTO:+0200
TZNAME:Europe/Paris CEST
END:DAYLIGHT
BEGIN:DAYLIGHT
DTSTART:20150329T030000
RDATE:20151025T020000
TZOFFSETFROM:+0100
TZOFFSETTO:+0200
TZNAME:Europe/Paris CEST
END:DAYLIGHT
BEGIN:DAYLIGHT
DTSTART:20160327T030000
RDATE:20161030T020000
TZOFFSETFROM:+0100
TZOFFSETTO:+0200
TZNAME:Europe/Paris CEST
END:DAYLIGHT
BEGIN:DAYLIGHT
DTSTART:20170326T030000
RDATE:20171029T020000
TZOFFSETFROM:+0100
TZOFFSETTO:+0200
TZNAME:Europe/Paris CEST
END:DAYLIGHT
BEGIN:DAYLIGHT
DTSTART:20180325T030000
RDATE:20181028T020000
TZOFFSETFROM:+0100
TZOFFSETTO:+0200
TZNAME:Europe/Paris CEST
END:DAYLIGHT
BEGIN:DAYLIGHT
DTSTART:20190331T030000
RDATE:20191027T020000
TZOFFSETFROM:+0100
TZOFFSETTO:+0200
TZNAME:Europe/Paris CEST
END:DAYLIGHT
BEGIN:DAYLIGHT
DTSTART:20200329T030000
RDATE:20201025T020000
TZOFFSETFROM:+0100
TZOFFSETTO:+0200
TZNAME:Europe/Paris CEST
END:DAYLIGHT
BEGIN:DAYLIGHT
DTSTART:20210328T030000
RDATE:20211031T020000
TZOFFSETFROM:+0100
TZOFFSETTO:+0200
TZNAME:Europe/Paris CEST
END:DAYLIGHT
BEGIN:DAYLIGHT
DTSTART:20220327T030000
RDATE:20221030T020000
TZOFFSETFROM:+0100
TZOFFSETTO:+0200
TZNAME:Europe/Paris CEST
END:DAYLIGHT
BEGIN:DAYLIGHT
DTSTART:20230326T030000
RDATE:20231029T020000
TZOFFSETFROM:+0100
TZOFFSETTO:+0200
TZNAME:Europe/Paris CEST
END:DAYLIGHT
BEGIN:DAYLIGHT
DTSTART:20240331T030000
RDATE:20241027T020000
TZOFFSETFROM:+0100
TZOFFSETTO:+0200
TZNAME:Europe/Paris CEST
END:DAYLIGHT
BEGIN:DAYLIGHT
DTSTART:20250330T030000
RDATE:20251026T020000
TZOFFSETFROM:+0100
TZOFFSETTO:+0200
TZNAME:Europe/Paris CEST
END:DAYLIGHT
BEGIN:DAYLIGHT
DTSTART:20260329T030000
RDATE:20261025T020000
TZOFFSETFROM:+0100
TZOFFSETTO:+0200
TZNAME:Europe/Paris CEST
END:DAYLIGHT
END:VTIMEZONE
BEGIN:VEVENT
UID:282e75bfd217657c11bdaacb92b1fc9f
CATEGORIES:Compétition Ski de Fond
CREATED:20131203T122059
SUMMARY:Mémorial LUC COLIN  crédit Mutuel n°1
URL;VALUE=URI:https://skivosges.net/agenda/detailevenement/53/-/memorial-luc-colin-credit
 -mutuel-n-1?tmpl=component
DESCRIPTION:Mémorial LUC COLIN  crédit Mutuel n°1\n\nLieu : BALLON D´ALSACE\nPiste : Dé
 mineurs\nOrganisateur : HAUTE MOSELLE SKI NORDIQUE  (14471 HAUTE MOSELLE SK
 I NORDIQUE)\nTelecopie : 0624316764\nTelecopie : 0329253252\n\nInscriptions
  en cours sur ce site\n  Lieu:BUSSANG \n - FMVM0021  D?part Individuel Cade
 t Garçons\n  Mémorial LUC COLIN  crédit Mutuel n°1\n  Lieu:BUSSANG \n - FMV
 M0022  D?part Individuel Jeune Hommes\n  Mémorial LUC COLIN  crédit Mutuel 
 n°1\n  Lieu:BUSSANG \n - FMVM0023  D?part Individuel Junior/Senior Hommes\n
   Mémorial LUC COLIN  crédit Mutuel n°1\n  Lieu:BUSSANG \n - FMVF0021  D?pa
 rt Individuel Cadet Filles\n  Mémorial LUC COLIN  crédit Mutuel n°1\n  Lieu
 :BUSSANG \n - FMVF0022  D?part Individuel Jeune a Senior Dames\n  Mémorial 
 LUC COLIN  crédit Mutuel n°1 Cet évènement a été importé depuis :https://sk
 ivosges.net/agenda/detailevenement/53/-/memorial-luc-colin-credit-mutuel-n-
 1?tmpl=component
X-ALT-DESC;FMTTYPE=text/html:<strong>Mémorial LUC COLIN  crédit Mutuel n°1</strong><br /><br />Lieu : BA
 LLON D&acute;ALSACE<br />Piste : D&eacute;mineurs<br />Organisateur : HAUTE
  MOSELLE SKI NORDIQUE  <small>(14471 HAUTE MOSELLE SKI NORDIQUE)</small><br
  />Telecopie : 0624316764<br />Telecopie : 0329253252<br /><br />Inscriptio
 ns en cours sur ce site<ul type="disc"><br />&nbsp;&nbsp;Lieu:BUSSANG <li>F
 MVM0021  D?part Individuel <nobr>Cadet</nobr> Garçons<br />&nbsp;&nbsp;Mémo
 rial LUC COLIN  crédit Mutuel n°1</li><br />&nbsp;&nbsp;Lieu:BUSSANG <li>FM
 VM0022  D?part Individuel <nobr>Jeune</nobr> Hommes<br />&nbsp;&nbsp;Mémori
 al LUC COLIN  crédit Mutuel n°1</li><br />&nbsp;&nbsp;Lieu:BUSSANG <li>FMVM
 0023  D?part Individuel <nobr>Junior/Senior</nobr> Hommes<br />&nbsp;&nbsp;
 Mémorial LUC COLIN  crédit Mutuel n°1</li><br />&nbsp;&nbsp;Lieu:BUSSANG <l
 i>FMVF0021  D?part Individuel <nobr>Cadet</nobr> Filles<br />&nbsp;&nbsp;Mé
 morial LUC COLIN  crédit Mutuel n°1</li><br />&nbsp;&nbsp;Lieu:BUSSANG <li>
 FMVF0022  D?part Individuel <nobr>Jeune a Senior</nobr> Dames<br />&nbsp;&n
 bsp;Mémorial LUC COLIN  crédit Mutuel n°1</li></ul> <a href="https://skivos
 ges.net/agenda/detailevenement/53/-/memorial-luc-colin-credit-mutuel-n-1?tm
 pl=component">Cet évènement a été importé depuis :https://skivosges.net/age
 nda/detailevenement/53/-/memorial-luc-colin-credit-mutuel-n-1?tmpl=componen
 t</a>DTSTAMP:20260421T014529
DTSTART;TZID=Europe/Paris:20131215T080000
DTEND;TZID=Europe/Paris:20131215T170000
SEQUENCE:0
TRANSP:OPAQUE
END:VEVENT
END:VCALENDAR