BEGIN:VCALENDAR
VERSION:2.0
PRODID:-//jEvents 2.0 for Joomla//EN
CALSCALE:GREGORIAN
METHOD:PUBLISH
BEGIN:VTIMEZONE
TZID:Europe/Paris
BEGIN:STANDARD
DTSTART:20150227T080000
RDATE:20150329T030000
TZOFFSETFROM:+0200
TZOFFSETTO:+0100
TZNAME:Europe/Paris CET
END:STANDARD
BEGIN:STANDARD
DTSTART:20151025T020000
RDATE:20160327T030000
TZOFFSETFROM:+0200
TZOFFSETTO:+0100
TZNAME:Europe/Paris CET
END:STANDARD
BEGIN:STANDARD
DTSTART:20161030T020000
RDATE:20170326T030000
TZOFFSETFROM:+0200
TZOFFSETTO:+0100
TZNAME:Europe/Paris CET
END:STANDARD
BEGIN:STANDARD
DTSTART:20171029T020000
RDATE:20180325T030000
TZOFFSETFROM:+0200
TZOFFSETTO:+0100
TZNAME:Europe/Paris CET
END:STANDARD
BEGIN:STANDARD
DTSTART:20181028T020000
RDATE:20190331T030000
TZOFFSETFROM:+0200
TZOFFSETTO:+0100
TZNAME:Europe/Paris CET
END:STANDARD
BEGIN:STANDARD
DTSTART:20191027T020000
RDATE:20200329T030000
TZOFFSETFROM:+0200
TZOFFSETTO:+0100
TZNAME:Europe/Paris CET
END:STANDARD
BEGIN:STANDARD
DTSTART:20201025T020000
RDATE:20210328T030000
TZOFFSETFROM:+0200
TZOFFSETTO:+0100
TZNAME:Europe/Paris CET
END:STANDARD
BEGIN:STANDARD
DTSTART:20211031T020000
RDATE:20220327T030000
TZOFFSETFROM:+0200
TZOFFSETTO:+0100
TZNAME:Europe/Paris CET
END:STANDARD
BEGIN:STANDARD
DTSTART:20221030T020000
RDATE:20230326T030000
TZOFFSETFROM:+0200
TZOFFSETTO:+0100
TZNAME:Europe/Paris CET
END:STANDARD
BEGIN:STANDARD
DTSTART:20231029T020000
RDATE:20240331T030000
TZOFFSETFROM:+0200
TZOFFSETTO:+0100
TZNAME:Europe/Paris CET
END:STANDARD
BEGIN:STANDARD
DTSTART:20241027T020000
RDATE:20250330T030000
TZOFFSETFROM:+0200
TZOFFSETTO:+0100
TZNAME:Europe/Paris CET
END:STANDARD
BEGIN:STANDARD
DTSTART:20251026T020000
RDATE:20260329T030000
TZOFFSETFROM:+0200
TZOFFSETTO:+0100
TZNAME:Europe/Paris CET
END:STANDARD
BEGIN:STANDARD
DTSTART:20261025T020000
RDATE:20270328T030000
TZOFFSETFROM:+0200
TZOFFSETTO:+0100
TZNAME:Europe/Paris CET
END:STANDARD
BEGIN:DAYLIGHT
DTSTART:20150329T030000
RDATE:20151025T020000
TZOFFSETFROM:+0100
TZOFFSETTO:+0200
TZNAME:Europe/Paris CEST
END:DAYLIGHT
BEGIN:DAYLIGHT
DTSTART:20160327T030000
RDATE:20161030T020000
TZOFFSETFROM:+0100
TZOFFSETTO:+0200
TZNAME:Europe/Paris CEST
END:DAYLIGHT
BEGIN:DAYLIGHT
DTSTART:20170326T030000
RDATE:20171029T020000
TZOFFSETFROM:+0100
TZOFFSETTO:+0200
TZNAME:Europe/Paris CEST
END:DAYLIGHT
BEGIN:DAYLIGHT
DTSTART:20180325T030000
RDATE:20181028T020000
TZOFFSETFROM:+0100
TZOFFSETTO:+0200
TZNAME:Europe/Paris CEST
END:DAYLIGHT
BEGIN:DAYLIGHT
DTSTART:20190331T030000
RDATE:20191027T020000
TZOFFSETFROM:+0100
TZOFFSETTO:+0200
TZNAME:Europe/Paris CEST
END:DAYLIGHT
BEGIN:DAYLIGHT
DTSTART:20200329T030000
RDATE:20201025T020000
TZOFFSETFROM:+0100
TZOFFSETTO:+0200
TZNAME:Europe/Paris CEST
END:DAYLIGHT
BEGIN:DAYLIGHT
DTSTART:20210328T030000
RDATE:20211031T020000
TZOFFSETFROM:+0100
TZOFFSETTO:+0200
TZNAME:Europe/Paris CEST
END:DAYLIGHT
BEGIN:DAYLIGHT
DTSTART:20220327T030000
RDATE:20221030T020000
TZOFFSETFROM:+0100
TZOFFSETTO:+0200
TZNAME:Europe/Paris CEST
END:DAYLIGHT
BEGIN:DAYLIGHT
DTSTART:20230326T030000
RDATE:20231029T020000
TZOFFSETFROM:+0100
TZOFFSETTO:+0200
TZNAME:Europe/Paris CEST
END:DAYLIGHT
BEGIN:DAYLIGHT
DTSTART:20240331T030000
RDATE:20241027T020000
TZOFFSETFROM:+0100
TZOFFSETTO:+0200
TZNAME:Europe/Paris CEST
END:DAYLIGHT
BEGIN:DAYLIGHT
DTSTART:20250330T030000
RDATE:20251026T020000
TZOFFSETFROM:+0100
TZOFFSETTO:+0200
TZNAME:Europe/Paris CEST
END:DAYLIGHT
BEGIN:DAYLIGHT
DTSTART:20260329T030000
RDATE:20261025T020000
TZOFFSETFROM:+0100
TZOFFSETTO:+0200
TZNAME:Europe/Paris CEST
END:DAYLIGHT
END:VTIMEZONE
BEGIN:VEVENT
UID:5ad974746bda80522c322d8c1f0ce0ff
CATEGORIES:Opens et Promos (alpin)
CREATED:20151110T133952
SUMMARY:OPEN  U8 à U14    Trophée Eurocoupe
URL;VALUE=URI:https://skivosges.net/agenda/detailevenement/542/-/open-u8-a-u14-trophee-eu
 rocoupe?tmpl=component
DESCRIPTION:OPEN  U8 à U14    Trophée Eurocoupe\n\nLieu : ROUGE GAZON\nPiste : Les Creu
 x\nOrganisateur : ASPTT MULHOUSE (14173 ASPTT MULHOUSE)\nEmail : RegularLab
 s.EmailProtector.unCloak("ep_b3388d38");\nTelecopie : 06 86 90 43 08\n\nPer
 ception des dossards à la réception du Restaurant\n\nInscriptions closes, t
 irage des dossards en cours\n - AMVM0641  Slalom U8/U10 Garçons\n  OPEN  U8
  à U14    Trophée Eurocoupe\n - AMVM0642  Slalom U12/U14 Garçons\n  OPEN  U
 8 à U14    Trophée Eurocoupe\n - AMVF0641  Slalom U8/U10 Filles\n  OPEN  U8
  à U14    Trophée Eurocoupe\n - AMVF0642  Slalom U12/U14 Filles\n  OPEN  U8
  à U14    Trophée Eurocoupe Cet évènement a été importé depuis :https://ski
 vosges.net/agenda/detailevenement/542/-/open-u8-a-u14-trophee-eurocoupe?tmp
 l=component
X-ALT-DESC;FMTTYPE=text/html:<strong>OPEN  U8 à U14    Trophée Eurocoupe</strong><br /><br />Lieu : ROUG
 E GAZON<br />Piste : Les Creux<br />Organisateur : ASPTT MULHOUSE <small>(1
 4173 ASPTT MULHOUSE)</small><br />Email : <!-- Cette adresse électronique e
 st protégée contre les robots spammeurs. --><span class="cloaked_email ep_b
 3388d38"><span data-ep-b="&#111;&#46;&#102;&#114;" data-ep-a="&#97;&#115;p&
 #116;&#116;"><span data-ep-a="-&#115;&#107;&#105;&#46;" data-ep-b="&#97;&#1
 10;&#97;d&#111;"><span data-ep-b="&#117;s&#101;&#64;&#119;" data-ep-a="m&#1
 17;&#108;&#104;&#111;"></span></span></span></span><script>RegularLabs.Emai
 lProtector.unCloak("ep_b3388d38");</script><br />Telecopie : 06 86 90 43 08
 <br /><br />Perception des dossards à la réception du Restaurant<br /><br /
 >Inscriptions closes, tirage des dossards en cours<ul type="disc"><li>AMVM0
 641  Slalom <nobr>U8/U10</nobr> Garçons<br />&nbsp;&nbsp;OPEN  U8 à U14    
 Trophée Eurocoupe</li><li>AMVM0642  Slalom <nobr>U12/U14</nobr> Garçons<br 
 />&nbsp;&nbsp;OPEN  U8 à U14    Trophée Eurocoupe</li><li>AMVF0641  Slalom 
 <nobr>U8/U10</nobr> Filles<br />&nbsp;&nbsp;OPEN  U8 à U14    Trophée Euroc
 oupe</li><li>AMVF0642  Slalom <nobr>U12/U14</nobr> Filles<br />&nbsp;&nbsp;
 OPEN  U8 à U14    Trophée Eurocoupe</li></ul> <a href="https://skivosges.ne
 t/agenda/detailevenement/542/-/open-u8-a-u14-trophee-eurocoupe?tmpl=compone
 nt">Cet évènement a été importé depuis :https://skivosges.net/agenda/detail
 evenement/542/-/open-u8-a-u14-trophee-eurocoupe?tmpl=component</a>DTSTAMP:20260421T051041
DTSTART;TZID=Europe/Paris:20160228T080000
DTEND;TZID=Europe/Paris:20160228T170000
SEQUENCE:0
TRANSP:OPAQUE
END:VEVENT
END:VCALENDAR