BEGIN:VCALENDAR
VERSION:2.0
PRODID:-//jEvents 2.0 for Joomla//EN
CALSCALE:GREGORIAN
METHOD:PUBLISH
BEGIN:VTIMEZONE
TZID:Europe/Paris
BEGIN:STANDARD
DTSTART:20150227T080000
RDATE:20150329T030000
TZOFFSETFROM:+0200
TZOFFSETTO:+0100
TZNAME:Europe/Paris CET
END:STANDARD
BEGIN:STANDARD
DTSTART:20151025T020000
RDATE:20160327T030000
TZOFFSETFROM:+0200
TZOFFSETTO:+0100
TZNAME:Europe/Paris CET
END:STANDARD
BEGIN:STANDARD
DTSTART:20161030T020000
RDATE:20170326T030000
TZOFFSETFROM:+0200
TZOFFSETTO:+0100
TZNAME:Europe/Paris CET
END:STANDARD
BEGIN:STANDARD
DTSTART:20171029T020000
RDATE:20180325T030000
TZOFFSETFROM:+0200
TZOFFSETTO:+0100
TZNAME:Europe/Paris CET
END:STANDARD
BEGIN:STANDARD
DTSTART:20181028T020000
RDATE:20190331T030000
TZOFFSETFROM:+0200
TZOFFSETTO:+0100
TZNAME:Europe/Paris CET
END:STANDARD
BEGIN:STANDARD
DTSTART:20191027T020000
RDATE:20200329T030000
TZOFFSETFROM:+0200
TZOFFSETTO:+0100
TZNAME:Europe/Paris CET
END:STANDARD
BEGIN:STANDARD
DTSTART:20201025T020000
RDATE:20210328T030000
TZOFFSETFROM:+0200
TZOFFSETTO:+0100
TZNAME:Europe/Paris CET
END:STANDARD
BEGIN:STANDARD
DTSTART:20211031T020000
RDATE:20220327T030000
TZOFFSETFROM:+0200
TZOFFSETTO:+0100
TZNAME:Europe/Paris CET
END:STANDARD
BEGIN:STANDARD
DTSTART:20221030T020000
RDATE:20230326T030000
TZOFFSETFROM:+0200
TZOFFSETTO:+0100
TZNAME:Europe/Paris CET
END:STANDARD
BEGIN:STANDARD
DTSTART:20231029T020000
RDATE:20240331T030000
TZOFFSETFROM:+0200
TZOFFSETTO:+0100
TZNAME:Europe/Paris CET
END:STANDARD
BEGIN:STANDARD
DTSTART:20241027T020000
RDATE:20250330T030000
TZOFFSETFROM:+0200
TZOFFSETTO:+0100
TZNAME:Europe/Paris CET
END:STANDARD
BEGIN:STANDARD
DTSTART:20251026T020000
RDATE:20260329T030000
TZOFFSETFROM:+0200
TZOFFSETTO:+0100
TZNAME:Europe/Paris CET
END:STANDARD
BEGIN:STANDARD
DTSTART:20261025T020000
RDATE:20270328T030000
TZOFFSETFROM:+0200
TZOFFSETTO:+0100
TZNAME:Europe/Paris CET
END:STANDARD
BEGIN:DAYLIGHT
DTSTART:20150329T030000
RDATE:20151025T020000
TZOFFSETFROM:+0100
TZOFFSETTO:+0200
TZNAME:Europe/Paris CEST
END:DAYLIGHT
BEGIN:DAYLIGHT
DTSTART:20160327T030000
RDATE:20161030T020000
TZOFFSETFROM:+0100
TZOFFSETTO:+0200
TZNAME:Europe/Paris CEST
END:DAYLIGHT
BEGIN:DAYLIGHT
DTSTART:20170326T030000
RDATE:20171029T020000
TZOFFSETFROM:+0100
TZOFFSETTO:+0200
TZNAME:Europe/Paris CEST
END:DAYLIGHT
BEGIN:DAYLIGHT
DTSTART:20180325T030000
RDATE:20181028T020000
TZOFFSETFROM:+0100
TZOFFSETTO:+0200
TZNAME:Europe/Paris CEST
END:DAYLIGHT
BEGIN:DAYLIGHT
DTSTART:20190331T030000
RDATE:20191027T020000
TZOFFSETFROM:+0100
TZOFFSETTO:+0200
TZNAME:Europe/Paris CEST
END:DAYLIGHT
BEGIN:DAYLIGHT
DTSTART:20200329T030000
RDATE:20201025T020000
TZOFFSETFROM:+0100
TZOFFSETTO:+0200
TZNAME:Europe/Paris CEST
END:DAYLIGHT
BEGIN:DAYLIGHT
DTSTART:20210328T030000
RDATE:20211031T020000
TZOFFSETFROM:+0100
TZOFFSETTO:+0200
TZNAME:Europe/Paris CEST
END:DAYLIGHT
BEGIN:DAYLIGHT
DTSTART:20220327T030000
RDATE:20221030T020000
TZOFFSETFROM:+0100
TZOFFSETTO:+0200
TZNAME:Europe/Paris CEST
END:DAYLIGHT
BEGIN:DAYLIGHT
DTSTART:20230326T030000
RDATE:20231029T020000
TZOFFSETFROM:+0100
TZOFFSETTO:+0200
TZNAME:Europe/Paris CEST
END:DAYLIGHT
BEGIN:DAYLIGHT
DTSTART:20240331T030000
RDATE:20241027T020000
TZOFFSETFROM:+0100
TZOFFSETTO:+0200
TZNAME:Europe/Paris CEST
END:DAYLIGHT
BEGIN:DAYLIGHT
DTSTART:20250330T030000
RDATE:20251026T020000
TZOFFSETFROM:+0100
TZOFFSETTO:+0200
TZNAME:Europe/Paris CEST
END:DAYLIGHT
BEGIN:DAYLIGHT
DTSTART:20260329T030000
RDATE:20261025T020000
TZOFFSETFROM:+0100
TZOFFSETTO:+0200
TZNAME:Europe/Paris CEST
END:DAYLIGHT
END:VTIMEZONE
BEGIN:VEVENT
UID:7151386f3cc72ddd8b307e6b0a194dcb
CATEGORIES:Compétition Ski de Fond
CREATED:20151110T133952
SUMMARY:LA TRACE VOSGIENNE  
URL;VALUE=URI:https://skivosges.net/agenda/detailevenement/545/-/la-trace-vosgienne?tmpl=
 component
DESCRIPTION:LA TRACE VOSGIENNE  \nOrganisateur : A.S GERARDMER SKI NORDIQUE (14469 A.S 
 GERARDMER SKI NORDIQUE)\nEmail : RegularLabs.EmailProtector.unCloak("ep_255
 e73c0");\n\n1er départ 9h\nLispach tour des roches\n20kms  U18/SEN\n12kms  
 U16\n6kms  U14\n\nInscriptions closes, les listes de départ sont visualisab
 les sur ce site\n  Piste:LA BRESSE ( LA TENINE)\n - FNAF0301  Mass Start (D
 epart ligne) U14/U16 (Minime/Cadet) Filles\n  LA TRACE VOSGIENNE  MARATHON 
 SKI TOUR 7\n  Piste:LA BRESSE ( LA TENINE)\n - FNAM0301  Mass Start (Depart
  ligne) U14/U16 (Minime/Cadet) Garçons\n  LA TRACE VOSGIENNE  MARATHON SKI 
 TOUR 7\n  Piste:LA BRESSE ( LA TENINE)\n - FNAF0302  Mass Start (Depart lig
 ne) U18 a SEN (Jeune a Senior) Dames\n  LA TRACE VOSGIENNE  MARATHON SKI TO
 UR 7\n  Piste:LA BRESSE ( LA TENINE)\n - FNAM0302  Mass Start (Depart ligne
 ) U18 a SEN (Jeune a Senior) Hommes\n  LA TRACE VOSGIENNE  MARATHON SKI TOU
 R 7 Cet évènement a été importé depuis :https://skivosges.net/agenda/detail
 evenement/545/-/la-trace-vosgienne?tmpl=component (https://skivosges.net/ag
 enda/detailevenement/545/-/la-trace-vosgienne?tmpl=component)
X-ALT-DESC;FMTTYPE=text/html:<strong>LA TRACE VOSGIENNE  </strong><br />Organisateur : A.S GERARDMER SKI
  NORDIQUE <small>(14469 A.S GERARDMER SKI NORDIQUE)</small><br />Email : <!
 -- Cette adresse électronique est protégée contre les robots spammeurs. -->
 <span class="cloaked_email ep_255e73c0"><span data-ep-a="&#105;&#110;&#102;
 &#111;&#116;" data-ep-b="c&#111;&#109;"><span data-ep-b="&#109;a&#105;&#108
 ;." data-ep-a="&#114;&#97;&#99;&#101;v"><span data-ep-b="&#110;&#110;&#101;
 &#64;&#103;" data-ep-a="o&#115;&#103;i&#101;"></span></span></span></span><
 script>RegularLabs.EmailProtector.unCloak("ep_255e73c0");</script><br /><br
  />1er départ 9h<br>Lispach tour des roches<br>20kms  U18/SEN<br>12kms  U16
 <br>6kms  U14<br /><br />Inscriptions closes, les listes de départ sont vis
 ualisables sur ce site<ul type="disc"><br />&nbsp;&nbsp;Piste:LA BRESSE ( L
 A TENINE)<li>FNAF0301  Mass Start (Depart ligne) <nobr>U14/U16 (Minime/Cade
 t)</nobr> Filles<br />&nbsp;&nbsp;LA TRACE VOSGIENNE  MARATHON SKI TOUR 7</
 li><br />&nbsp;&nbsp;Piste:LA BRESSE ( LA TENINE)<li>FNAM0301  Mass Start (
 Depart ligne) <nobr>U14/U16 (Minime/Cadet)</nobr> Garçons<br />&nbsp;&nbsp;
 LA TRACE VOSGIENNE  MARATHON SKI TOUR 7</li><br />&nbsp;&nbsp;Piste:LA BRES
 SE ( LA TENINE)<li>FNAF0302  Mass Start (Depart ligne) <nobr>U18 a SEN (Jeu
 ne a Senior)</nobr> Dames<br />&nbsp;&nbsp;LA TRACE VOSGIENNE  MARATHON SKI
  TOUR 7</li><br />&nbsp;&nbsp;Piste:LA BRESSE ( LA TENINE)<li>FNAM0302  Mas
 s Start (Depart ligne) <nobr>U18 a SEN (Jeune a Senior)</nobr> Hommes<br />
 &nbsp;&nbsp;LA TRACE VOSGIENNE  MARATHON SKI TOUR 7</li></ul> <a href="http
 s://skivosges.net/agenda/detailevenement/545/-/la-trace-vosgienne?tmpl=comp
 onent">Cet évènement a été importé depuis :https://skivosges.net/agenda/det
 ailevenement/545/-/la-trace-vosgienne?tmpl=component</a>DTSTAMP:20260421T064111
DTSTART;TZID=Europe/Paris:20160228T080000
DTEND;TZID=Europe/Paris:20160228T170000
SEQUENCE:0
TRANSP:OPAQUE
END:VEVENT
END:VCALENDAR