BEGIN:VCALENDAR
VERSION:2.0
PRODID:-//jEvents 2.0 for Joomla//EN
CALSCALE:GREGORIAN
METHOD:PUBLISH
BEGIN:VTIMEZONE
TZID:Europe/Paris
BEGIN:STANDARD
DTSTART:20150306T080000
RDATE:20150329T030000
TZOFFSETFROM:+0200
TZOFFSETTO:+0100
TZNAME:Europe/Paris CET
END:STANDARD
BEGIN:STANDARD
DTSTART:20151025T020000
RDATE:20160327T030000
TZOFFSETFROM:+0200
TZOFFSETTO:+0100
TZNAME:Europe/Paris CET
END:STANDARD
BEGIN:STANDARD
DTSTART:20161030T020000
RDATE:20170326T030000
TZOFFSETFROM:+0200
TZOFFSETTO:+0100
TZNAME:Europe/Paris CET
END:STANDARD
BEGIN:STANDARD
DTSTART:20171029T020000
RDATE:20180325T030000
TZOFFSETFROM:+0200
TZOFFSETTO:+0100
TZNAME:Europe/Paris CET
END:STANDARD
BEGIN:STANDARD
DTSTART:20181028T020000
RDATE:20190331T030000
TZOFFSETFROM:+0200
TZOFFSETTO:+0100
TZNAME:Europe/Paris CET
END:STANDARD
BEGIN:STANDARD
DTSTART:20191027T020000
RDATE:20200329T030000
TZOFFSETFROM:+0200
TZOFFSETTO:+0100
TZNAME:Europe/Paris CET
END:STANDARD
BEGIN:STANDARD
DTSTART:20201025T020000
RDATE:20210328T030000
TZOFFSETFROM:+0200
TZOFFSETTO:+0100
TZNAME:Europe/Paris CET
END:STANDARD
BEGIN:STANDARD
DTSTART:20211031T020000
RDATE:20220327T030000
TZOFFSETFROM:+0200
TZOFFSETTO:+0100
TZNAME:Europe/Paris CET
END:STANDARD
BEGIN:STANDARD
DTSTART:20221030T020000
RDATE:20230326T030000
TZOFFSETFROM:+0200
TZOFFSETTO:+0100
TZNAME:Europe/Paris CET
END:STANDARD
BEGIN:STANDARD
DTSTART:20231029T020000
RDATE:20240331T030000
TZOFFSETFROM:+0200
TZOFFSETTO:+0100
TZNAME:Europe/Paris CET
END:STANDARD
BEGIN:STANDARD
DTSTART:20241027T020000
RDATE:20250330T030000
TZOFFSETFROM:+0200
TZOFFSETTO:+0100
TZNAME:Europe/Paris CET
END:STANDARD
BEGIN:STANDARD
DTSTART:20251026T020000
RDATE:20260329T030000
TZOFFSETFROM:+0200
TZOFFSETTO:+0100
TZNAME:Europe/Paris CET
END:STANDARD
BEGIN:STANDARD
DTSTART:20261025T020000
RDATE:20270328T030000
TZOFFSETFROM:+0200
TZOFFSETTO:+0100
TZNAME:Europe/Paris CET
END:STANDARD
BEGIN:DAYLIGHT
DTSTART:20150329T030000
RDATE:20151025T020000
TZOFFSETFROM:+0100
TZOFFSETTO:+0200
TZNAME:Europe/Paris CEST
END:DAYLIGHT
BEGIN:DAYLIGHT
DTSTART:20160327T030000
RDATE:20161030T020000
TZOFFSETFROM:+0100
TZOFFSETTO:+0200
TZNAME:Europe/Paris CEST
END:DAYLIGHT
BEGIN:DAYLIGHT
DTSTART:20170326T030000
RDATE:20171029T020000
TZOFFSETFROM:+0100
TZOFFSETTO:+0200
TZNAME:Europe/Paris CEST
END:DAYLIGHT
BEGIN:DAYLIGHT
DTSTART:20180325T030000
RDATE:20181028T020000
TZOFFSETFROM:+0100
TZOFFSETTO:+0200
TZNAME:Europe/Paris CEST
END:DAYLIGHT
BEGIN:DAYLIGHT
DTSTART:20190331T030000
RDATE:20191027T020000
TZOFFSETFROM:+0100
TZOFFSETTO:+0200
TZNAME:Europe/Paris CEST
END:DAYLIGHT
BEGIN:DAYLIGHT
DTSTART:20200329T030000
RDATE:20201025T020000
TZOFFSETFROM:+0100
TZOFFSETTO:+0200
TZNAME:Europe/Paris CEST
END:DAYLIGHT
BEGIN:DAYLIGHT
DTSTART:20210328T030000
RDATE:20211031T020000
TZOFFSETFROM:+0100
TZOFFSETTO:+0200
TZNAME:Europe/Paris CEST
END:DAYLIGHT
BEGIN:DAYLIGHT
DTSTART:20220327T030000
RDATE:20221030T020000
TZOFFSETFROM:+0100
TZOFFSETTO:+0200
TZNAME:Europe/Paris CEST
END:DAYLIGHT
BEGIN:DAYLIGHT
DTSTART:20230326T030000
RDATE:20231029T020000
TZOFFSETFROM:+0100
TZOFFSETTO:+0200
TZNAME:Europe/Paris CEST
END:DAYLIGHT
BEGIN:DAYLIGHT
DTSTART:20240331T030000
RDATE:20241027T020000
TZOFFSETFROM:+0100
TZOFFSETTO:+0200
TZNAME:Europe/Paris CEST
END:DAYLIGHT
BEGIN:DAYLIGHT
DTSTART:20250330T030000
RDATE:20251026T020000
TZOFFSETFROM:+0100
TZOFFSETTO:+0200
TZNAME:Europe/Paris CEST
END:DAYLIGHT
BEGIN:DAYLIGHT
DTSTART:20260329T030000
RDATE:20261025T020000
TZOFFSETFROM:+0100
TZOFFSETTO:+0200
TZNAME:Europe/Paris CEST
END:DAYLIGHT
END:VTIMEZONE
BEGIN:VEVENT
UID:11f6fccdb45e1744298984c6c84154bc
CATEGORIES:Opens et Promos (alpin)
CREATED:20151110T133952
SUMMARY:OPEN U8 à U14 Coupe du Conseil Général 90   Mémorial Ruggeri
URL;VALUE=URI:https://skivosges.net/agenda/detailevenement/556/-/open-u8-a-u14-coupe-du-c
 onseil-general-90-memorial-ruggeri?tmpl=component
DESCRIPTION:OPEN U8 à U14 Coupe du Conseil Général 90   Mémorial Ruggeri\n\nLieu : BALL
 ON D´ALSACE\nPiste : Stade Langenberg\nOrganisateur : SC BALLON D'ALSACE BE
 LFORT(14429)\nEmail : RegularLabs.EmailProtector.unCloak("ep_2b770374");\n\
 népreuve ouverte de u8 à u14\n\nInscriptions closes, tirage des dossards en
  cours\n  Lieu:BALLON D'ALSACE\n - AMVM0711  Slalom Geant U8 a U14 Garçons\
 n  OPEN  U10 à U14    Coupe du Conseil Général 90   Mémorial Ruggeri\n  Lie
 u:BALLON D'ALSACE\n - AMVF0711  Slalom Geant U8 a U14 Filles\n  OPEN  U10 à
  U14    Coupe du Conseil Général 90   Mémorial Ruggeri Cet évènement a été 
 importé depuis :https://skivosges.net/agenda/detailevenement/556/-/open-u8-
 a-u14-coupe-du-conseil-general-90-memorial-ruggeri?tmpl=component
X-ALT-DESC;FMTTYPE=text/html:<strong>OPEN U8 à U14 Coupe du Conseil Général 90   Mémorial Ruggeri</stron
 g><br /><br />Lieu : BALLON D&acute;ALSACE<br />Piste : Stade Langenberg<br
  />Organisateur : SC BALLON D'ALSACE BELFORT<small>(14429)</small><br />Ema
 il : <!-- Cette adresse électronique est protégée contre les robots spammeu
 rs. --><span class="cloaked_email ep_2b770374"><span data-ep-a="&#121;va" d
 ata-ep-b="&#46;fr"><span data-ep-a="&#110;s&#107;" data-ep-b="&#115;&#116;&
 #101;"><span data-ep-b="&#97;&#112;o" data-ep-a="i&#64;l"></span></span></s
 pan></span><script>RegularLabs.EmailProtector.unCloak("ep_2b770374");</scri
 pt><br /><br />épreuve ouverte de u8 à u14<br /><br />Inscriptions closes, 
 tirage des dossards en cours<ul type="disc"><br />&nbsp;&nbsp;Lieu:BALLON D
 'ALSACE<li>AMVM0711  Slalom Geant <nobr>U8 a U14</nobr> Garçons<br />&nbsp;
 &nbsp;OPEN  U10 à U14    Coupe du Conseil Général 90   Mémorial Ruggeri</li
 ><br />&nbsp;&nbsp;Lieu:BALLON D'ALSACE<li>AMVF0711  Slalom Geant <nobr>U8 
 a U14</nobr> Filles<br />&nbsp;&nbsp;OPEN  U10 à U14    Coupe du Conseil Gé
 néral 90   Mémorial Ruggeri</li></ul> <a href="https://skivosges.net/agenda
 /detailevenement/556/-/open-u8-a-u14-coupe-du-conseil-general-90-memorial-r
 uggeri?tmpl=component">Cet évènement a été importé depuis :https://skivosge
 s.net/agenda/detailevenement/556/-/open-u8-a-u14-coupe-du-conseil-general-9
 0-memorial-ruggeri?tmpl=component</a>DTSTAMP:20260421T051025
DTSTART;TZID=Europe/Paris:20160306T080000
DTEND;TZID=Europe/Paris:20160306T170000
SEQUENCE:0
TRANSP:OPAQUE
END:VEVENT
END:VCALENDAR