BEGIN:VCALENDAR
VERSION:2.0
PRODID:-//jEvents 2.0 for Joomla//EN
CALSCALE:GREGORIAN
METHOD:PUBLISH
BEGIN:VTIMEZONE
TZID:Europe/Paris
BEGIN:STANDARD
DTSTART:20150311T080000
RDATE:20150329T030000
TZOFFSETFROM:+0200
TZOFFSETTO:+0100
TZNAME:Europe/Paris CET
END:STANDARD
BEGIN:STANDARD
DTSTART:20151025T020000
RDATE:20160327T030000
TZOFFSETFROM:+0200
TZOFFSETTO:+0100
TZNAME:Europe/Paris CET
END:STANDARD
BEGIN:STANDARD
DTSTART:20161030T020000
RDATE:20170326T030000
TZOFFSETFROM:+0200
TZOFFSETTO:+0100
TZNAME:Europe/Paris CET
END:STANDARD
BEGIN:STANDARD
DTSTART:20171029T020000
RDATE:20180325T030000
TZOFFSETFROM:+0200
TZOFFSETTO:+0100
TZNAME:Europe/Paris CET
END:STANDARD
BEGIN:STANDARD
DTSTART:20181028T020000
RDATE:20190331T030000
TZOFFSETFROM:+0200
TZOFFSETTO:+0100
TZNAME:Europe/Paris CET
END:STANDARD
BEGIN:STANDARD
DTSTART:20191027T020000
RDATE:20200329T030000
TZOFFSETFROM:+0200
TZOFFSETTO:+0100
TZNAME:Europe/Paris CET
END:STANDARD
BEGIN:STANDARD
DTSTART:20201025T020000
RDATE:20210328T030000
TZOFFSETFROM:+0200
TZOFFSETTO:+0100
TZNAME:Europe/Paris CET
END:STANDARD
BEGIN:STANDARD
DTSTART:20211031T020000
RDATE:20220327T030000
TZOFFSETFROM:+0200
TZOFFSETTO:+0100
TZNAME:Europe/Paris CET
END:STANDARD
BEGIN:STANDARD
DTSTART:20221030T020000
RDATE:20230326T030000
TZOFFSETFROM:+0200
TZOFFSETTO:+0100
TZNAME:Europe/Paris CET
END:STANDARD
BEGIN:STANDARD
DTSTART:20231029T020000
RDATE:20240331T030000
TZOFFSETFROM:+0200
TZOFFSETTO:+0100
TZNAME:Europe/Paris CET
END:STANDARD
BEGIN:STANDARD
DTSTART:20241027T020000
RDATE:20250330T030000
TZOFFSETFROM:+0200
TZOFFSETTO:+0100
TZNAME:Europe/Paris CET
END:STANDARD
BEGIN:STANDARD
DTSTART:20251026T020000
RDATE:20260329T030000
TZOFFSETFROM:+0200
TZOFFSETTO:+0100
TZNAME:Europe/Paris CET
END:STANDARD
BEGIN:STANDARD
DTSTART:20261025T020000
RDATE:20270328T030000
TZOFFSETFROM:+0200
TZOFFSETTO:+0100
TZNAME:Europe/Paris CET
END:STANDARD
BEGIN:DAYLIGHT
DTSTART:20150329T030000
RDATE:20151025T020000
TZOFFSETFROM:+0100
TZOFFSETTO:+0200
TZNAME:Europe/Paris CEST
END:DAYLIGHT
BEGIN:DAYLIGHT
DTSTART:20160327T030000
RDATE:20161030T020000
TZOFFSETFROM:+0100
TZOFFSETTO:+0200
TZNAME:Europe/Paris CEST
END:DAYLIGHT
BEGIN:DAYLIGHT
DTSTART:20170326T030000
RDATE:20171029T020000
TZOFFSETFROM:+0100
TZOFFSETTO:+0200
TZNAME:Europe/Paris CEST
END:DAYLIGHT
BEGIN:DAYLIGHT
DTSTART:20180325T030000
RDATE:20181028T020000
TZOFFSETFROM:+0100
TZOFFSETTO:+0200
TZNAME:Europe/Paris CEST
END:DAYLIGHT
BEGIN:DAYLIGHT
DTSTART:20190331T030000
RDATE:20191027T020000
TZOFFSETFROM:+0100
TZOFFSETTO:+0200
TZNAME:Europe/Paris CEST
END:DAYLIGHT
BEGIN:DAYLIGHT
DTSTART:20200329T030000
RDATE:20201025T020000
TZOFFSETFROM:+0100
TZOFFSETTO:+0200
TZNAME:Europe/Paris CEST
END:DAYLIGHT
BEGIN:DAYLIGHT
DTSTART:20210328T030000
RDATE:20211031T020000
TZOFFSETFROM:+0100
TZOFFSETTO:+0200
TZNAME:Europe/Paris CEST
END:DAYLIGHT
BEGIN:DAYLIGHT
DTSTART:20220327T030000
RDATE:20221030T020000
TZOFFSETFROM:+0100
TZOFFSETTO:+0200
TZNAME:Europe/Paris CEST
END:DAYLIGHT
BEGIN:DAYLIGHT
DTSTART:20230326T030000
RDATE:20231029T020000
TZOFFSETFROM:+0100
TZOFFSETTO:+0200
TZNAME:Europe/Paris CEST
END:DAYLIGHT
BEGIN:DAYLIGHT
DTSTART:20240331T030000
RDATE:20241027T020000
TZOFFSETFROM:+0100
TZOFFSETTO:+0200
TZNAME:Europe/Paris CEST
END:DAYLIGHT
BEGIN:DAYLIGHT
DTSTART:20250330T030000
RDATE:20251026T020000
TZOFFSETFROM:+0100
TZOFFSETTO:+0200
TZNAME:Europe/Paris CEST
END:DAYLIGHT
BEGIN:DAYLIGHT
DTSTART:20260329T030000
RDATE:20261025T020000
TZOFFSETFROM:+0100
TZOFFSETTO:+0200
TZNAME:Europe/Paris CEST
END:DAYLIGHT
END:VTIMEZONE
BEGIN:VEVENT
UID:2df344b3c0c69e7dc41560dee2438dc8
CATEGORIES:Circuit Massif Masters (alpin)
CREATED:20151110T133952
SUMMARY:GPM  Masters  Championnat du Massif des Vosges Géant   Challenge JP Jaegle **REPORTE**
URL;VALUE=URI:https://skivosges.net/agenda/detailevenement/562/-/gpm-masters-championnat-
 du-massif-des-vosges-geant-challenge-jp-jaegle-reporte?tmpl=component
DESCRIPTION:GPM  Masters  Championnat du Massif des Vosges Géant   Challenge JP Jaegle 
 (Epreuve reportée, date à determiner) \n(Grand Prix Masters)\n\nLieu : LAC 
 BLANC\nOrganisateur : SKI TEAM AVENIR VALLEE DE WEISS (14343 SKI TEAM AVENI
 R VALLEE DE WEISS)\nEmail : RegularLabs.EmailProtector.unCloak("ep_08df4c26
 ");\nTelecopie : course annulée\n\nInscriptions en cours sur ce site\n  Org
 anisateur:SKI TEAM AVENIR VALLEE DE WEIS\n - AMVM0781  Slalom Geant (Course
 s Masters) Tous les Masters Hommes Hommes\n  GPM  Masters  Championnat du M
 assif des Vosges Géant   Challenge JP Jaegle\n  Organisateur:SKI TEAM AVENI
 R VALLEE DE WEIS\n - AMVF0781  Slalom Geant (Courses Masters) Tous les Mast
 ers Dames Dames\n  GPM  Masters  Championnat du Massif des Vosges Géant   C
 hallenge JP Jaegle Cet évènement a été importé depuis :https://skivosges.ne
 t/agenda/detailevenement/562/-/gpm-masters-championnat-du-massif-des-vosges
 -geant-challenge-jp-jaegle-reporte?tmpl=component (https://skivosges.net/ag
 enda/detailevenement/562/-/gpm-masters-championnat-du-massif-des-vosges-gea
 nt-challenge-jp-jaegle-reporte?tmpl=component)
X-ALT-DESC;FMTTYPE=text/html:<strong>GPM  Masters  Championnat du Massif des Vosges Géant   Challenge JP
  Jaegle</strong> <font class="attention4">(Epreuve reportée, date à determi
 ner)</font> <br /><i>(Grand Prix Masters)</i><br /><br />Lieu : LAC BLANC<b
 r />Organisateur : SKI TEAM AVENIR VALLEE DE WEISS <small>(14343 SKI TEAM A
 VENIR VALLEE DE WEISS)</small><br />Email : <!-- Cette adresse électronique
  est protégée contre les robots spammeurs. --><span class="cloaked_email ep
 _08df4c26"><span data-ep-a="&#115;t&#97;" data-ep-b="&#114;"><span data-ep-
 b="&#111;&#46;&#102;" data-ep-a="&#118;&#119;&#64;"><span data-ep-a="&#119;
 &#97;&#110;" data-ep-b="a&#100;&#111;"></span></span></span></span><script>
 RegularLabs.EmailProtector.unCloak("ep_08df4c26");</script><br />Telecopie 
 : course annul&eacute;e<br /><br />Inscriptions en cours sur ce site<ul typ
 e="disc"><br />&nbsp;&nbsp;Organisateur:SKI TEAM AVENIR VALLEE DE WEIS<li>A
 MVM0781  Slalom Geant <nobr><i>(Courses Masters)</i></nobr> <nobr>Tous les 
 Masters Hommes</nobr> Hommes<br />&nbsp;&nbsp;GPM  Masters  Championnat du 
 Massif des Vosges Géant   Challenge JP Jaegle</li><br />&nbsp;&nbsp;Organis
 ateur:SKI TEAM AVENIR VALLEE DE WEIS<li>AMVF0781  Slalom Geant <nobr><i>(Co
 urses Masters)</i></nobr> <nobr>Tous les Masters Dames</nobr> Dames<br />&n
 bsp;&nbsp;GPM  Masters  Championnat du Massif des Vosges Géant   Challenge 
 JP Jaegle</li></ul> <a href="https://skivosges.net/agenda/detailevenement/5
 62/-/gpm-masters-championnat-du-massif-des-vosges-geant-challenge-jp-jaegle
 -reporte?tmpl=component">Cet évènement a été importé depuis :https://skivos
 ges.net/agenda/detailevenement/562/-/gpm-masters-championnat-du-massif-des-
 vosges-geant-challenge-jp-jaegle-reporte?tmpl=component</a>DTSTAMP:20260421T050932
DTSTART;TZID=Europe/Paris:20160311T080000
DTEND;TZID=Europe/Paris:20160311T170000
SEQUENCE:0
TRANSP:OPAQUE
END:VEVENT
END:VCALENDAR