BEGIN:VCALENDAR
VERSION:2.0
PRODID:-//jEvents 2.0 for Joomla//EN
CALSCALE:GREGORIAN
METHOD:PUBLISH
BEGIN:VTIMEZONE
TZID:Europe/Paris
BEGIN:STANDARD
DTSTART:20150312T080000
RDATE:20150329T030000
TZOFFSETFROM:+0200
TZOFFSETTO:+0100
TZNAME:Europe/Paris CET
END:STANDARD
BEGIN:STANDARD
DTSTART:20151025T020000
RDATE:20160327T030000
TZOFFSETFROM:+0200
TZOFFSETTO:+0100
TZNAME:Europe/Paris CET
END:STANDARD
BEGIN:STANDARD
DTSTART:20161030T020000
RDATE:20170326T030000
TZOFFSETFROM:+0200
TZOFFSETTO:+0100
TZNAME:Europe/Paris CET
END:STANDARD
BEGIN:STANDARD
DTSTART:20171029T020000
RDATE:20180325T030000
TZOFFSETFROM:+0200
TZOFFSETTO:+0100
TZNAME:Europe/Paris CET
END:STANDARD
BEGIN:STANDARD
DTSTART:20181028T020000
RDATE:20190331T030000
TZOFFSETFROM:+0200
TZOFFSETTO:+0100
TZNAME:Europe/Paris CET
END:STANDARD
BEGIN:STANDARD
DTSTART:20191027T020000
RDATE:20200329T030000
TZOFFSETFROM:+0200
TZOFFSETTO:+0100
TZNAME:Europe/Paris CET
END:STANDARD
BEGIN:STANDARD
DTSTART:20201025T020000
RDATE:20210328T030000
TZOFFSETFROM:+0200
TZOFFSETTO:+0100
TZNAME:Europe/Paris CET
END:STANDARD
BEGIN:STANDARD
DTSTART:20211031T020000
RDATE:20220327T030000
TZOFFSETFROM:+0200
TZOFFSETTO:+0100
TZNAME:Europe/Paris CET
END:STANDARD
BEGIN:STANDARD
DTSTART:20221030T020000
RDATE:20230326T030000
TZOFFSETFROM:+0200
TZOFFSETTO:+0100
TZNAME:Europe/Paris CET
END:STANDARD
BEGIN:STANDARD
DTSTART:20231029T020000
RDATE:20240331T030000
TZOFFSETFROM:+0200
TZOFFSETTO:+0100
TZNAME:Europe/Paris CET
END:STANDARD
BEGIN:STANDARD
DTSTART:20241027T020000
RDATE:20250330T030000
TZOFFSETFROM:+0200
TZOFFSETTO:+0100
TZNAME:Europe/Paris CET
END:STANDARD
BEGIN:STANDARD
DTSTART:20251026T020000
RDATE:20260329T030000
TZOFFSETFROM:+0200
TZOFFSETTO:+0100
TZNAME:Europe/Paris CET
END:STANDARD
BEGIN:STANDARD
DTSTART:20261025T020000
RDATE:20270328T030000
TZOFFSETFROM:+0200
TZOFFSETTO:+0100
TZNAME:Europe/Paris CET
END:STANDARD
BEGIN:DAYLIGHT
DTSTART:20150329T030000
RDATE:20151025T020000
TZOFFSETFROM:+0100
TZOFFSETTO:+0200
TZNAME:Europe/Paris CEST
END:DAYLIGHT
BEGIN:DAYLIGHT
DTSTART:20160327T030000
RDATE:20161030T020000
TZOFFSETFROM:+0100
TZOFFSETTO:+0200
TZNAME:Europe/Paris CEST
END:DAYLIGHT
BEGIN:DAYLIGHT
DTSTART:20170326T030000
RDATE:20171029T020000
TZOFFSETFROM:+0100
TZOFFSETTO:+0200
TZNAME:Europe/Paris CEST
END:DAYLIGHT
BEGIN:DAYLIGHT
DTSTART:20180325T030000
RDATE:20181028T020000
TZOFFSETFROM:+0100
TZOFFSETTO:+0200
TZNAME:Europe/Paris CEST
END:DAYLIGHT
BEGIN:DAYLIGHT
DTSTART:20190331T030000
RDATE:20191027T020000
TZOFFSETFROM:+0100
TZOFFSETTO:+0200
TZNAME:Europe/Paris CEST
END:DAYLIGHT
BEGIN:DAYLIGHT
DTSTART:20200329T030000
RDATE:20201025T020000
TZOFFSETFROM:+0100
TZOFFSETTO:+0200
TZNAME:Europe/Paris CEST
END:DAYLIGHT
BEGIN:DAYLIGHT
DTSTART:20210328T030000
RDATE:20211031T020000
TZOFFSETFROM:+0100
TZOFFSETTO:+0200
TZNAME:Europe/Paris CEST
END:DAYLIGHT
BEGIN:DAYLIGHT
DTSTART:20220327T030000
RDATE:20221030T020000
TZOFFSETFROM:+0100
TZOFFSETTO:+0200
TZNAME:Europe/Paris CEST
END:DAYLIGHT
BEGIN:DAYLIGHT
DTSTART:20230326T030000
RDATE:20231029T020000
TZOFFSETFROM:+0100
TZOFFSETTO:+0200
TZNAME:Europe/Paris CEST
END:DAYLIGHT
BEGIN:DAYLIGHT
DTSTART:20240331T030000
RDATE:20241027T020000
TZOFFSETFROM:+0100
TZOFFSETTO:+0200
TZNAME:Europe/Paris CEST
END:DAYLIGHT
BEGIN:DAYLIGHT
DTSTART:20250330T030000
RDATE:20251026T020000
TZOFFSETFROM:+0100
TZOFFSETTO:+0200
TZNAME:Europe/Paris CEST
END:DAYLIGHT
BEGIN:DAYLIGHT
DTSTART:20260329T030000
RDATE:20261025T020000
TZOFFSETFROM:+0100
TZOFFSETTO:+0200
TZNAME:Europe/Paris CEST
END:DAYLIGHT
END:VTIMEZONE
BEGIN:VEVENT
UID:aea7f3ddba6a7155e369e1158b2deeaa
CATEGORIES:Compétition Saut
CREATED:20151110T133952
SUMMARY:Finales Coupe des Vosges sut special combiné
URL;VALUE=URI:https://skivosges.net/agenda/detailevenement/568/-/finales-coupe-des-vosges
 -sut-special-combine?tmpl=component
DESCRIPTION:Finales Coupe des Vosges sut special combiné\n\nLieu : LA BRESSE LISPACH\nO
 rganisateur : LA BRESSAUDE SECTION SKI (14024 LA BRESSAUDE SECTION SKI)\n -
  TMVF0121 épreuve U9 a U20 (Microbe a Junior) Dames\n  Finales Coupe des Vo
 sges sut special combiné\n - TMVF0122 épreuve Senior Dames\n  Finales Coupe
  des Vosges sut special combiné\n - TMVM0121 épreuve U9 a U20 (Microbe a Ju
 nior) Hommes\n  Finales Coupe des Vosges sut special combiné\n - TMVM0122 é
 preuve Senior Hommes\n  Finales Coupe des Vosges sut special combiné Cet év
 ènement a été importé depuis :https://skivosges.net/agenda/detailevenement/
 568/-/finales-coupe-des-vosges-sut-special-combine?tmpl=component (https://
 skivosges.net/agenda/detailevenement/568/-/finales-coupe-des-vosges-sut-spe
 cial-combine?tmpl=component)
X-ALT-DESC;FMTTYPE=text/html:<strong>Finales Coupe des Vosges sut special combiné</strong><br /><br />Li
 eu : LA BRESSE LISPACH<br />Organisateur : LA BRESSAUDE SECTION SKI <small>
 (14024 LA BRESSAUDE SECTION SKI)</small><ul type="disc"><li>TMVF0121 épreuv
 e <nobr>U9 a U20 (Microbe a Junior)</nobr> Dames<br />&nbsp;&nbsp;Finales C
 oupe des Vosges sut special combiné</li><li>TMVF0122 épreuve <nobr>Senior</
 nobr> Dames<br />&nbsp;&nbsp;Finales Coupe des Vosges sut special combiné</
 li><li>TMVM0121 épreuve <nobr>U9 a U20 (Microbe a Junior)</nobr> Hommes<br 
 />&nbsp;&nbsp;Finales Coupe des Vosges sut special combiné</li><li>TMVM0122
  épreuve <nobr>Senior</nobr> Hommes<br />&nbsp;&nbsp;Finales Coupe des Vosg
 es sut special combiné</li></ul> <a href="https://skivosges.net/agenda/deta
 ilevenement/568/-/finales-coupe-des-vosges-sut-special-combine?tmpl=compone
 nt">Cet évènement a été importé depuis :https://skivosges.net/agenda/detail
 evenement/568/-/finales-coupe-des-vosges-sut-special-combine?tmpl=component
 </a>DTSTAMP:20260421T051133
DTSTART;TZID=Europe/Paris:20160312T080000
DTEND;TZID=Europe/Paris:20160312T170000
SEQUENCE:0
TRANSP:OPAQUE
END:VEVENT
END:VCALENDAR