BEGIN:VCALENDAR
VERSION:2.0
PRODID:-//jEvents 2.0 for Joomla//EN
CALSCALE:GREGORIAN
METHOD:PUBLISH
BEGIN:VTIMEZONE
TZID:Europe/Paris
BEGIN:STANDARD
DTSTART:20121220T080000
RDATE:20130331T030000
TZOFFSETFROM:+0200
TZOFFSETTO:+0100
TZNAME:Europe/Paris CET
END:STANDARD
BEGIN:STANDARD
DTSTART:20131027T020000
RDATE:20140330T030000
TZOFFSETFROM:+0200
TZOFFSETTO:+0100
TZNAME:Europe/Paris CET
END:STANDARD
BEGIN:STANDARD
DTSTART:20141026T020000
RDATE:20150329T030000
TZOFFSETFROM:+0200
TZOFFSETTO:+0100
TZNAME:Europe/Paris CET
END:STANDARD
BEGIN:STANDARD
DTSTART:20151025T020000
RDATE:20160327T030000
TZOFFSETFROM:+0200
TZOFFSETTO:+0100
TZNAME:Europe/Paris CET
END:STANDARD
BEGIN:STANDARD
DTSTART:20161030T020000
RDATE:20170326T030000
TZOFFSETFROM:+0200
TZOFFSETTO:+0100
TZNAME:Europe/Paris CET
END:STANDARD
BEGIN:STANDARD
DTSTART:20171029T020000
RDATE:20180325T030000
TZOFFSETFROM:+0200
TZOFFSETTO:+0100
TZNAME:Europe/Paris CET
END:STANDARD
BEGIN:STANDARD
DTSTART:20181028T020000
RDATE:20190331T030000
TZOFFSETFROM:+0200
TZOFFSETTO:+0100
TZNAME:Europe/Paris CET
END:STANDARD
BEGIN:STANDARD
DTSTART:20191027T020000
RDATE:20200329T030000
TZOFFSETFROM:+0200
TZOFFSETTO:+0100
TZNAME:Europe/Paris CET
END:STANDARD
BEGIN:STANDARD
DTSTART:20201025T020000
RDATE:20210328T030000
TZOFFSETFROM:+0200
TZOFFSETTO:+0100
TZNAME:Europe/Paris CET
END:STANDARD
BEGIN:STANDARD
DTSTART:20211031T020000
RDATE:20220327T030000
TZOFFSETFROM:+0200
TZOFFSETTO:+0100
TZNAME:Europe/Paris CET
END:STANDARD
BEGIN:STANDARD
DTSTART:20221030T020000
RDATE:20230326T030000
TZOFFSETFROM:+0200
TZOFFSETTO:+0100
TZNAME:Europe/Paris CET
END:STANDARD
BEGIN:STANDARD
DTSTART:20231029T020000
RDATE:20240331T030000
TZOFFSETFROM:+0200
TZOFFSETTO:+0100
TZNAME:Europe/Paris CET
END:STANDARD
BEGIN:STANDARD
DTSTART:20241027T020000
RDATE:20250330T030000
TZOFFSETFROM:+0200
TZOFFSETTO:+0100
TZNAME:Europe/Paris CET
END:STANDARD
BEGIN:STANDARD
DTSTART:20251026T020000
RDATE:20260329T030000
TZOFFSETFROM:+0200
TZOFFSETTO:+0100
TZNAME:Europe/Paris CET
END:STANDARD
BEGIN:STANDARD
DTSTART:20261025T020000
RDATE:20270328T030000
TZOFFSETFROM:+0200
TZOFFSETTO:+0100
TZNAME:Europe/Paris CET
END:STANDARD
BEGIN:DAYLIGHT
DTSTART:20130331T030000
RDATE:20131027T020000
TZOFFSETFROM:+0100
TZOFFSETTO:+0200
TZNAME:Europe/Paris CEST
END:DAYLIGHT
BEGIN:DAYLIGHT
DTSTART:20140330T030000
RDATE:20141026T020000
TZOFFSETFROM:+0100
TZOFFSETTO:+0200
TZNAME:Europe/Paris CEST
END:DAYLIGHT
BEGIN:DAYLIGHT
DTSTART:20150329T030000
RDATE:20151025T020000
TZOFFSETFROM:+0100
TZOFFSETTO:+0200
TZNAME:Europe/Paris CEST
END:DAYLIGHT
BEGIN:DAYLIGHT
DTSTART:20160327T030000
RDATE:20161030T020000
TZOFFSETFROM:+0100
TZOFFSETTO:+0200
TZNAME:Europe/Paris CEST
END:DAYLIGHT
BEGIN:DAYLIGHT
DTSTART:20170326T030000
RDATE:20171029T020000
TZOFFSETFROM:+0100
TZOFFSETTO:+0200
TZNAME:Europe/Paris CEST
END:DAYLIGHT
BEGIN:DAYLIGHT
DTSTART:20180325T030000
RDATE:20181028T020000
TZOFFSETFROM:+0100
TZOFFSETTO:+0200
TZNAME:Europe/Paris CEST
END:DAYLIGHT
BEGIN:DAYLIGHT
DTSTART:20190331T030000
RDATE:20191027T020000
TZOFFSETFROM:+0100
TZOFFSETTO:+0200
TZNAME:Europe/Paris CEST
END:DAYLIGHT
BEGIN:DAYLIGHT
DTSTART:20200329T030000
RDATE:20201025T020000
TZOFFSETFROM:+0100
TZOFFSETTO:+0200
TZNAME:Europe/Paris CEST
END:DAYLIGHT
BEGIN:DAYLIGHT
DTSTART:20210328T030000
RDATE:20211031T020000
TZOFFSETFROM:+0100
TZOFFSETTO:+0200
TZNAME:Europe/Paris CEST
END:DAYLIGHT
BEGIN:DAYLIGHT
DTSTART:20220327T030000
RDATE:20221030T020000
TZOFFSETFROM:+0100
TZOFFSETTO:+0200
TZNAME:Europe/Paris CEST
END:DAYLIGHT
BEGIN:DAYLIGHT
DTSTART:20230326T030000
RDATE:20231029T020000
TZOFFSETFROM:+0100
TZOFFSETTO:+0200
TZNAME:Europe/Paris CEST
END:DAYLIGHT
BEGIN:DAYLIGHT
DTSTART:20240331T030000
RDATE:20241027T020000
TZOFFSETFROM:+0100
TZOFFSETTO:+0200
TZNAME:Europe/Paris CEST
END:DAYLIGHT
BEGIN:DAYLIGHT
DTSTART:20250330T030000
RDATE:20251026T020000
TZOFFSETFROM:+0100
TZOFFSETTO:+0200
TZNAME:Europe/Paris CEST
END:DAYLIGHT
BEGIN:DAYLIGHT
DTSTART:20260329T030000
RDATE:20261025T020000
TZOFFSETFROM:+0100
TZOFFSETTO:+0200
TZNAME:Europe/Paris CEST
END:DAYLIGHT
END:VTIMEZONE
BEGIN:VEVENT
UID:320a3eee4586219316aa361344fd8660
CATEGORIES:Compétition Saut
CREATED:20131203T122059
SUMMARY:Critérium Régional Jeunes n° 1 coupe de Vosges  K40m - k20m
URL;VALUE=URI:https://skivosges.net/agenda/detailevenement/58/-/criterium-regional-jeunes
 -n-1-coupe-de-vosges-k40m-k20m?tmpl=component
DESCRIPTION:Critérium Régional Jeunes n° 1 coupe de Vosges  K40m - k20m\nOrganisateur :
  LA BRESSAUDE SECTION SKI  (14024 LA BRESSAUDE SECTION SKI)\n - TMVF0011 ép
 reuve Dames\n  Critérium Régional Jeunes n° 1 coupe de Vosges  K40m - k20m\
 n - TMVM0011 épreuve Hommes\n  Critérium Régional Jeunes n° 1 coupe de Vosg
 es  K40m - k20m\n - TMVF0012 épreuve Dames\n  Critérium Régional Jeunes n° 
 1 coupe de Vosges  K40m - k20m\n - TMVM0012 épreuve Hommes\n  Critérium Rég
 ional Jeunes n° 1 coupe de Vosges  K40m - k20m Cet évènement a été importé 
 depuis :https://skivosges.net/agenda/detailevenement/58/-/criterium-regiona
 l-jeunes-n-1-coupe-de-vosges-k40m-k20m?tmpl=component
X-ALT-DESC;FMTTYPE=text/html:<strong>Critérium Régional Jeunes n° 1 coupe de Vosges  K40m - k20m</strong
 ><br />Organisateur : LA BRESSAUDE SECTION SKI  <small>(14024 LA BRESSAUDE 
 SECTION SKI)</small><ul type="disc"><li>TMVF0011 épreuve Dames<br />&nbsp;&
 nbsp;Critérium Régional Jeunes n° 1 coupe de Vosges  K40m - k20m</li><li>TM
 VM0011 épreuve Hommes<br />&nbsp;&nbsp;Critérium Régional Jeunes n° 1 coupe
  de Vosges  K40m - k20m</li><li>TMVF0012 épreuve Dames<br />&nbsp;&nbsp;Cri
 térium Régional Jeunes n° 1 coupe de Vosges  K40m - k20m</li><li>TMVM0012 é
 preuve Hommes<br />&nbsp;&nbsp;Critérium Régional Jeunes n° 1 coupe de Vosg
 es  K40m - k20m</li></ul> <a href="https://skivosges.net/agenda/detailevene
 ment/58/-/criterium-regional-jeunes-n-1-coupe-de-vosges-k40m-k20m?tmpl=comp
 onent">Cet évènement a été importé depuis :https://skivosges.net/agenda/det
 ailevenement/58/-/criterium-regional-jeunes-n-1-coupe-de-vosges-k40m-k20m?t
 mpl=component</a>DTSTAMP:20260420T221015
DTSTART;TZID=Europe/Paris:20131221T080000
DTEND;TZID=Europe/Paris:20131221T170000
SEQUENCE:0
TRANSP:OPAQUE
END:VEVENT
END:VCALENDAR