BEGIN:VCALENDAR
VERSION:2.0
PRODID:-//jEvents 2.0 for Joomla//EN
CALSCALE:GREGORIAN
METHOD:PUBLISH
BEGIN:VTIMEZONE
TZID:Europe/Paris
BEGIN:STANDARD
DTSTART:20121221T080000
RDATE:20130331T030000
TZOFFSETFROM:+0200
TZOFFSETTO:+0100
TZNAME:Europe/Paris CET
END:STANDARD
BEGIN:STANDARD
DTSTART:20131027T020000
RDATE:20140330T030000
TZOFFSETFROM:+0200
TZOFFSETTO:+0100
TZNAME:Europe/Paris CET
END:STANDARD
BEGIN:STANDARD
DTSTART:20141026T020000
RDATE:20150329T030000
TZOFFSETFROM:+0200
TZOFFSETTO:+0100
TZNAME:Europe/Paris CET
END:STANDARD
BEGIN:STANDARD
DTSTART:20151025T020000
RDATE:20160327T030000
TZOFFSETFROM:+0200
TZOFFSETTO:+0100
TZNAME:Europe/Paris CET
END:STANDARD
BEGIN:STANDARD
DTSTART:20161030T020000
RDATE:20170326T030000
TZOFFSETFROM:+0200
TZOFFSETTO:+0100
TZNAME:Europe/Paris CET
END:STANDARD
BEGIN:STANDARD
DTSTART:20171029T020000
RDATE:20180325T030000
TZOFFSETFROM:+0200
TZOFFSETTO:+0100
TZNAME:Europe/Paris CET
END:STANDARD
BEGIN:STANDARD
DTSTART:20181028T020000
RDATE:20190331T030000
TZOFFSETFROM:+0200
TZOFFSETTO:+0100
TZNAME:Europe/Paris CET
END:STANDARD
BEGIN:STANDARD
DTSTART:20191027T020000
RDATE:20200329T030000
TZOFFSETFROM:+0200
TZOFFSETTO:+0100
TZNAME:Europe/Paris CET
END:STANDARD
BEGIN:STANDARD
DTSTART:20201025T020000
RDATE:20210328T030000
TZOFFSETFROM:+0200
TZOFFSETTO:+0100
TZNAME:Europe/Paris CET
END:STANDARD
BEGIN:STANDARD
DTSTART:20211031T020000
RDATE:20220327T030000
TZOFFSETFROM:+0200
TZOFFSETTO:+0100
TZNAME:Europe/Paris CET
END:STANDARD
BEGIN:STANDARD
DTSTART:20221030T020000
RDATE:20230326T030000
TZOFFSETFROM:+0200
TZOFFSETTO:+0100
TZNAME:Europe/Paris CET
END:STANDARD
BEGIN:STANDARD
DTSTART:20231029T020000
RDATE:20240331T030000
TZOFFSETFROM:+0200
TZOFFSETTO:+0100
TZNAME:Europe/Paris CET
END:STANDARD
BEGIN:STANDARD
DTSTART:20241027T020000
RDATE:20250330T030000
TZOFFSETFROM:+0200
TZOFFSETTO:+0100
TZNAME:Europe/Paris CET
END:STANDARD
BEGIN:STANDARD
DTSTART:20251026T020000
RDATE:20260329T030000
TZOFFSETFROM:+0200
TZOFFSETTO:+0100
TZNAME:Europe/Paris CET
END:STANDARD
BEGIN:STANDARD
DTSTART:20261025T020000
RDATE:20270328T030000
TZOFFSETFROM:+0200
TZOFFSETTO:+0100
TZNAME:Europe/Paris CET
END:STANDARD
BEGIN:DAYLIGHT
DTSTART:20130331T030000
RDATE:20131027T020000
TZOFFSETFROM:+0100
TZOFFSETTO:+0200
TZNAME:Europe/Paris CEST
END:DAYLIGHT
BEGIN:DAYLIGHT
DTSTART:20140330T030000
RDATE:20141026T020000
TZOFFSETFROM:+0100
TZOFFSETTO:+0200
TZNAME:Europe/Paris CEST
END:DAYLIGHT
BEGIN:DAYLIGHT
DTSTART:20150329T030000
RDATE:20151025T020000
TZOFFSETFROM:+0100
TZOFFSETTO:+0200
TZNAME:Europe/Paris CEST
END:DAYLIGHT
BEGIN:DAYLIGHT
DTSTART:20160327T030000
RDATE:20161030T020000
TZOFFSETFROM:+0100
TZOFFSETTO:+0200
TZNAME:Europe/Paris CEST
END:DAYLIGHT
BEGIN:DAYLIGHT
DTSTART:20170326T030000
RDATE:20171029T020000
TZOFFSETFROM:+0100
TZOFFSETTO:+0200
TZNAME:Europe/Paris CEST
END:DAYLIGHT
BEGIN:DAYLIGHT
DTSTART:20180325T030000
RDATE:20181028T020000
TZOFFSETFROM:+0100
TZOFFSETTO:+0200
TZNAME:Europe/Paris CEST
END:DAYLIGHT
BEGIN:DAYLIGHT
DTSTART:20190331T030000
RDATE:20191027T020000
TZOFFSETFROM:+0100
TZOFFSETTO:+0200
TZNAME:Europe/Paris CEST
END:DAYLIGHT
BEGIN:DAYLIGHT
DTSTART:20200329T030000
RDATE:20201025T020000
TZOFFSETFROM:+0100
TZOFFSETTO:+0200
TZNAME:Europe/Paris CEST
END:DAYLIGHT
BEGIN:DAYLIGHT
DTSTART:20210328T030000
RDATE:20211031T020000
TZOFFSETFROM:+0100
TZOFFSETTO:+0200
TZNAME:Europe/Paris CEST
END:DAYLIGHT
BEGIN:DAYLIGHT
DTSTART:20220327T030000
RDATE:20221030T020000
TZOFFSETFROM:+0100
TZOFFSETTO:+0200
TZNAME:Europe/Paris CEST
END:DAYLIGHT
BEGIN:DAYLIGHT
DTSTART:20230326T030000
RDATE:20231029T020000
TZOFFSETFROM:+0100
TZOFFSETTO:+0200
TZNAME:Europe/Paris CEST
END:DAYLIGHT
BEGIN:DAYLIGHT
DTSTART:20240331T030000
RDATE:20241027T020000
TZOFFSETFROM:+0100
TZOFFSETTO:+0200
TZNAME:Europe/Paris CEST
END:DAYLIGHT
BEGIN:DAYLIGHT
DTSTART:20250330T030000
RDATE:20251026T020000
TZOFFSETFROM:+0100
TZOFFSETTO:+0200
TZNAME:Europe/Paris CEST
END:DAYLIGHT
BEGIN:DAYLIGHT
DTSTART:20260329T030000
RDATE:20261025T020000
TZOFFSETFROM:+0100
TZOFFSETTO:+0200
TZNAME:Europe/Paris CEST
END:DAYLIGHT
END:VTIMEZONE
BEGIN:VEVENT
UID:5cad3e97618da64008f020c6757de404
CATEGORIES:Compétition Ski de Fond
CREATED:20131203T122059
SUMMARY:Journée du Souvenir **REPORTE**
URL;VALUE=URI:https://skivosges.net/agenda/detailevenement/59/-/journee-du-souvenir-repor
 te?tmpl=component
DESCRIPTION:Journée du Souvenir (Epreuve reportée, date à determiner)\n\nLieu : BALLON 
 D ALSACE   Reporté\nOrganisateur : SKIEURS DE ST MAURICE/MOSELLE  (14063 SK
 IEURS DE ST MAURICE/MOSELLE)\n\nInscriptions closes, les listes de départ s
 ont visualisables sur ce site\n  Lieu:ROUGE GAZON \n - FMVF0041  D?part Ind
 ividuel Cadet Filles\n  Journée du Souvenir\n  Lieu:ROUGE GAZON \n - FMVM00
 41  D?part Individuel Cadet Garçons\n  Journée du Souvenir\n  Lieu:ROUGE GA
 ZON \n - FMVF0042  D?part Individuel Jeune a Senior Dames\n  Journée du Sou
 venir\n  Lieu:ROUGE GAZON \n - FMVM0042  D?part Individuel Jeune Hommes\n  
 Journée du Souvenir\n  Lieu:ROUGE GAZON \n - FMVM0043  D?part Individuel Ju
 nior/Senior Hommes\n  Journée du Souvenir Cet évènement a été importé depui
 s :https://skivosges.net/agenda/detailevenement/59/-/journee-du-souvenir-re
 porte?tmpl=component (https://skivosges.net/agenda/detailevenement/59/-/jou
 rnee-du-souvenir-reporte?tmpl=component)
X-ALT-DESC;FMTTYPE=text/html:<strong>Journée du Souvenir</strong> <font class="attention4">(Epreuve repo
 rtée, date à determiner)</font><br /><br />Lieu : BALLON D ALSACE   Report&
 eacute;<br />Organisateur : SKIEURS DE ST MAURICE/MOSELLE  <small>(14063 SK
 IEURS DE ST MAURICE/MOSELLE)</small><br /><br />Inscriptions closes, les li
 stes de départ sont visualisables sur ce site<ul type="disc"><br />&nbsp;&n
 bsp;Lieu:ROUGE GAZON <li>FMVF0041  D?part Individuel <nobr>Cadet</nobr> Fil
 les<br />&nbsp;&nbsp;Journée du Souvenir</li><br />&nbsp;&nbsp;Lieu:ROUGE G
 AZON <li>FMVM0041  D?part Individuel <nobr>Cadet</nobr> Garçons<br />&nbsp;
 &nbsp;Journée du Souvenir</li><br />&nbsp;&nbsp;Lieu:ROUGE GAZON <li>FMVF00
 42  D?part Individuel <nobr>Jeune a Senior</nobr> Dames<br />&nbsp;&nbsp;Jo
 urnée du Souvenir</li><br />&nbsp;&nbsp;Lieu:ROUGE GAZON <li>FMVM0042  D?pa
 rt Individuel <nobr>Jeune</nobr> Hommes<br />&nbsp;&nbsp;Journée du Souveni
 r</li><br />&nbsp;&nbsp;Lieu:ROUGE GAZON <li>FMVM0043  D?part Individuel <n
 obr>Junior/Senior</nobr> Hommes<br />&nbsp;&nbsp;Journée du Souvenir</li></
 ul> <a href="https://skivosges.net/agenda/detailevenement/59/-/journee-du-s
 ouvenir-reporte?tmpl=component">Cet évènement a été importé depuis :https:/
 /skivosges.net/agenda/detailevenement/59/-/journee-du-souvenir-reporte?tmpl
 =component</a>DTSTAMP:20260420T221016
DTSTART;TZID=Europe/Paris:20131222T080000
DTEND;TZID=Europe/Paris:20131222T170000
SEQUENCE:0
TRANSP:OPAQUE
END:VEVENT
END:VCALENDAR