BEGIN:VCALENDAR
VERSION:2.0
PRODID:-//jEvents 2.0 for Joomla//EN
CALSCALE:GREGORIAN
METHOD:PUBLISH
BEGIN:VTIMEZONE
TZID:Europe/Paris
BEGIN:STANDARD
DTSTART:20141221T193000
RDATE:20150329T030000
TZOFFSETFROM:+0200
TZOFFSETTO:+0100
TZNAME:Europe/Paris CET
END:STANDARD
BEGIN:STANDARD
DTSTART:20151025T020000
RDATE:20160327T030000
TZOFFSETFROM:+0200
TZOFFSETTO:+0100
TZNAME:Europe/Paris CET
END:STANDARD
BEGIN:STANDARD
DTSTART:20161030T020000
RDATE:20170326T030000
TZOFFSETFROM:+0200
TZOFFSETTO:+0100
TZNAME:Europe/Paris CET
END:STANDARD
BEGIN:STANDARD
DTSTART:20171029T020000
RDATE:20180325T030000
TZOFFSETFROM:+0200
TZOFFSETTO:+0100
TZNAME:Europe/Paris CET
END:STANDARD
BEGIN:STANDARD
DTSTART:20181028T020000
RDATE:20190331T030000
TZOFFSETFROM:+0200
TZOFFSETTO:+0100
TZNAME:Europe/Paris CET
END:STANDARD
BEGIN:STANDARD
DTSTART:20191027T020000
RDATE:20200329T030000
TZOFFSETFROM:+0200
TZOFFSETTO:+0100
TZNAME:Europe/Paris CET
END:STANDARD
BEGIN:STANDARD
DTSTART:20201025T020000
RDATE:20210328T030000
TZOFFSETFROM:+0200
TZOFFSETTO:+0100
TZNAME:Europe/Paris CET
END:STANDARD
BEGIN:STANDARD
DTSTART:20211031T020000
RDATE:20220327T030000
TZOFFSETFROM:+0200
TZOFFSETTO:+0100
TZNAME:Europe/Paris CET
END:STANDARD
BEGIN:STANDARD
DTSTART:20221030T020000
RDATE:20230326T030000
TZOFFSETFROM:+0200
TZOFFSETTO:+0100
TZNAME:Europe/Paris CET
END:STANDARD
BEGIN:STANDARD
DTSTART:20231029T020000
RDATE:20240331T030000
TZOFFSETFROM:+0200
TZOFFSETTO:+0100
TZNAME:Europe/Paris CET
END:STANDARD
BEGIN:STANDARD
DTSTART:20241027T020000
RDATE:20250330T030000
TZOFFSETFROM:+0200
TZOFFSETTO:+0100
TZNAME:Europe/Paris CET
END:STANDARD
BEGIN:STANDARD
DTSTART:20251026T020000
RDATE:20260329T030000
TZOFFSETFROM:+0200
TZOFFSETTO:+0100
TZNAME:Europe/Paris CET
END:STANDARD
BEGIN:STANDARD
DTSTART:20261025T020000
RDATE:20270328T030000
TZOFFSETFROM:+0200
TZOFFSETTO:+0100
TZNAME:Europe/Paris CET
END:STANDARD
BEGIN:DAYLIGHT
DTSTART:20150329T030000
RDATE:20151025T020000
TZOFFSETFROM:+0100
TZOFFSETTO:+0200
TZNAME:Europe/Paris CEST
END:DAYLIGHT
BEGIN:DAYLIGHT
DTSTART:20160327T030000
RDATE:20161030T020000
TZOFFSETFROM:+0100
TZOFFSETTO:+0200
TZNAME:Europe/Paris CEST
END:DAYLIGHT
BEGIN:DAYLIGHT
DTSTART:20170326T030000
RDATE:20171029T020000
TZOFFSETFROM:+0100
TZOFFSETTO:+0200
TZNAME:Europe/Paris CEST
END:DAYLIGHT
BEGIN:DAYLIGHT
DTSTART:20180325T030000
RDATE:20181028T020000
TZOFFSETFROM:+0100
TZOFFSETTO:+0200
TZNAME:Europe/Paris CEST
END:DAYLIGHT
BEGIN:DAYLIGHT
DTSTART:20190331T030000
RDATE:20191027T020000
TZOFFSETFROM:+0100
TZOFFSETTO:+0200
TZNAME:Europe/Paris CEST
END:DAYLIGHT
BEGIN:DAYLIGHT
DTSTART:20200329T030000
RDATE:20201025T020000
TZOFFSETFROM:+0100
TZOFFSETTO:+0200
TZNAME:Europe/Paris CEST
END:DAYLIGHT
BEGIN:DAYLIGHT
DTSTART:20210328T030000
RDATE:20211031T020000
TZOFFSETFROM:+0100
TZOFFSETTO:+0200
TZNAME:Europe/Paris CEST
END:DAYLIGHT
BEGIN:DAYLIGHT
DTSTART:20220327T030000
RDATE:20221030T020000
TZOFFSETFROM:+0100
TZOFFSETTO:+0200
TZNAME:Europe/Paris CEST
END:DAYLIGHT
BEGIN:DAYLIGHT
DTSTART:20230326T030000
RDATE:20231029T020000
TZOFFSETFROM:+0100
TZOFFSETTO:+0200
TZNAME:Europe/Paris CEST
END:DAYLIGHT
BEGIN:DAYLIGHT
DTSTART:20240331T030000
RDATE:20241027T020000
TZOFFSETFROM:+0100
TZOFFSETTO:+0200
TZNAME:Europe/Paris CEST
END:DAYLIGHT
BEGIN:DAYLIGHT
DTSTART:20250330T030000
RDATE:20251026T020000
TZOFFSETFROM:+0100
TZOFFSETTO:+0200
TZNAME:Europe/Paris CEST
END:DAYLIGHT
BEGIN:DAYLIGHT
DTSTART:20260329T030000
RDATE:20261025T020000
TZOFFSETFROM:+0100
TZOFFSETTO:+0200
TZNAME:Europe/Paris CEST
END:DAYLIGHT
END:VTIMEZONE
BEGIN:VEVENT
UID:82d4d431e566d5d7ef0fca6fd5828182
CATEGORIES:Formation Officiels - Chronos - Gestionnaires
CREATED:20151213T204006
SUMMARY:Orbey : Formation/Recyclage Gestionnaire Nordique
LOCATION:Orbey (Mairie)
URL;VALUE=URI:https://skivosges.net/agenda/detailevenement/598/-/orbey-formation-recyclag
 e-gestionnaire-nordique?tmpl=component
DESCRIPTION:<p>Session de formation et de recyclage pour les Gestionnaires Informatique
 s de Compétitions Nordiques.</p><p>Dans cette session, la plupart des point
 s de base nécessaires à la gestion d'un épreuve sont repris.</p><p>Quelques
  points particuliers à l'attention des plus expérimentés seront approfondit
 .</p><p>Le repas pris sur place sera à régler au restaurateur.</p><p><a hre
 f="index.php?option=com_content&view=article&id=5294:formation-gestionnaire
 s-competitions-decembre-2015&catid=8:formation-officiels&Itemid=1406" targe
 t="_blank">Voir la circulaire d'information...</a></p><p>La session aura li
 eu dans la petite salle de la Mairie d'Orbey (en face de la porte d'entrée)
 </p> <a href="https://skivosges.net/agenda/detailevenement/598/-/orbey-form
 ation-recyclage-gestionnaire-nordique?tmpl=component">Cet évènement a été i
 mporté depuis :https://skivosges.net/agenda/detailevenement/598/-/orbey-for
 mation-recyclage-gestionnaire-nordique?tmpl=component</a>
X-ALT-DESC;FMTTYPE=text/html:<p>Session de formation et de recyclage pour les Gestionnaires Informatique
 s de Compétitions Nordiques.</p><p>Dans cette session, la plupart des point
 s de base nécessaires à la gestion d'un épreuve sont repris.</p><p>Quelques
  points particuliers à l'attention des plus expérimentés seront approfondit
 .</p><p>Le repas pris sur place sera à régler au restaurateur.</p><p><a hre
 f="https://skivosges.net/index.php?option=com_content&view=article&id=5294:
 formation-gestionnaires-competitions-decembre-2015&catid=8:formation-offici
 els&Itemid=1406" target="_blank">Voir la circulaire d'information...</a></p
 ><p>La session aura lieu dans la petite salle de la Mairie d'Orbey (en face
  de la porte d'entrée)</p> <a href="https://skivosges.net/agenda/detaileven
 ement/598/-/orbey-formation-recyclage-gestionnaire-nordique?tmpl=component"
 >Cet évènement a été importé depuis :https://skivosges.net/agenda/detaileve
 nement/598/-/orbey-formation-recyclage-gestionnaire-nordique?tmpl=component
 </a>DTSTAMP:20260421T015554
DTSTART;TZID=Europe/Paris:20151222T193000
SEQUENCE:0
TRANSP:OPAQUE
END:VEVENT
END:VCALENDAR