BEGIN:VCALENDAR
VERSION:2.0
PRODID:-//jEvents 2.0 for Joomla//EN
CALSCALE:GREGORIAN
METHOD:PUBLISH
BEGIN:VTIMEZONE
TZID:Europe/Paris
BEGIN:STANDARD
DTSTART:20121221T080000
RDATE:20130331T030000
TZOFFSETFROM:+0200
TZOFFSETTO:+0100
TZNAME:Europe/Paris CET
END:STANDARD
BEGIN:STANDARD
DTSTART:20131027T020000
RDATE:20140330T030000
TZOFFSETFROM:+0200
TZOFFSETTO:+0100
TZNAME:Europe/Paris CET
END:STANDARD
BEGIN:STANDARD
DTSTART:20141026T020000
RDATE:20150329T030000
TZOFFSETFROM:+0200
TZOFFSETTO:+0100
TZNAME:Europe/Paris CET
END:STANDARD
BEGIN:STANDARD
DTSTART:20151025T020000
RDATE:20160327T030000
TZOFFSETFROM:+0200
TZOFFSETTO:+0100
TZNAME:Europe/Paris CET
END:STANDARD
BEGIN:STANDARD
DTSTART:20161030T020000
RDATE:20170326T030000
TZOFFSETFROM:+0200
TZOFFSETTO:+0100
TZNAME:Europe/Paris CET
END:STANDARD
BEGIN:STANDARD
DTSTART:20171029T020000
RDATE:20180325T030000
TZOFFSETFROM:+0200
TZOFFSETTO:+0100
TZNAME:Europe/Paris CET
END:STANDARD
BEGIN:STANDARD
DTSTART:20181028T020000
RDATE:20190331T030000
TZOFFSETFROM:+0200
TZOFFSETTO:+0100
TZNAME:Europe/Paris CET
END:STANDARD
BEGIN:STANDARD
DTSTART:20191027T020000
RDATE:20200329T030000
TZOFFSETFROM:+0200
TZOFFSETTO:+0100
TZNAME:Europe/Paris CET
END:STANDARD
BEGIN:STANDARD
DTSTART:20201025T020000
RDATE:20210328T030000
TZOFFSETFROM:+0200
TZOFFSETTO:+0100
TZNAME:Europe/Paris CET
END:STANDARD
BEGIN:STANDARD
DTSTART:20211031T020000
RDATE:20220327T030000
TZOFFSETFROM:+0200
TZOFFSETTO:+0100
TZNAME:Europe/Paris CET
END:STANDARD
BEGIN:STANDARD
DTSTART:20221030T020000
RDATE:20230326T030000
TZOFFSETFROM:+0200
TZOFFSETTO:+0100
TZNAME:Europe/Paris CET
END:STANDARD
BEGIN:STANDARD
DTSTART:20231029T020000
RDATE:20240331T030000
TZOFFSETFROM:+0200
TZOFFSETTO:+0100
TZNAME:Europe/Paris CET
END:STANDARD
BEGIN:STANDARD
DTSTART:20241027T020000
RDATE:20250330T030000
TZOFFSETFROM:+0200
TZOFFSETTO:+0100
TZNAME:Europe/Paris CET
END:STANDARD
BEGIN:STANDARD
DTSTART:20251026T020000
RDATE:20260329T030000
TZOFFSETFROM:+0200
TZOFFSETTO:+0100
TZNAME:Europe/Paris CET
END:STANDARD
BEGIN:STANDARD
DTSTART:20261025T020000
RDATE:20270328T030000
TZOFFSETFROM:+0200
TZOFFSETTO:+0100
TZNAME:Europe/Paris CET
END:STANDARD
BEGIN:DAYLIGHT
DTSTART:20130331T030000
RDATE:20131027T020000
TZOFFSETFROM:+0100
TZOFFSETTO:+0200
TZNAME:Europe/Paris CEST
END:DAYLIGHT
BEGIN:DAYLIGHT
DTSTART:20140330T030000
RDATE:20141026T020000
TZOFFSETFROM:+0100
TZOFFSETTO:+0200
TZNAME:Europe/Paris CEST
END:DAYLIGHT
BEGIN:DAYLIGHT
DTSTART:20150329T030000
RDATE:20151025T020000
TZOFFSETFROM:+0100
TZOFFSETTO:+0200
TZNAME:Europe/Paris CEST
END:DAYLIGHT
BEGIN:DAYLIGHT
DTSTART:20160327T030000
RDATE:20161030T020000
TZOFFSETFROM:+0100
TZOFFSETTO:+0200
TZNAME:Europe/Paris CEST
END:DAYLIGHT
BEGIN:DAYLIGHT
DTSTART:20170326T030000
RDATE:20171029T020000
TZOFFSETFROM:+0100
TZOFFSETTO:+0200
TZNAME:Europe/Paris CEST
END:DAYLIGHT
BEGIN:DAYLIGHT
DTSTART:20180325T030000
RDATE:20181028T020000
TZOFFSETFROM:+0100
TZOFFSETTO:+0200
TZNAME:Europe/Paris CEST
END:DAYLIGHT
BEGIN:DAYLIGHT
DTSTART:20190331T030000
RDATE:20191027T020000
TZOFFSETFROM:+0100
TZOFFSETTO:+0200
TZNAME:Europe/Paris CEST
END:DAYLIGHT
BEGIN:DAYLIGHT
DTSTART:20200329T030000
RDATE:20201025T020000
TZOFFSETFROM:+0100
TZOFFSETTO:+0200
TZNAME:Europe/Paris CEST
END:DAYLIGHT
BEGIN:DAYLIGHT
DTSTART:20210328T030000
RDATE:20211031T020000
TZOFFSETFROM:+0100
TZOFFSETTO:+0200
TZNAME:Europe/Paris CEST
END:DAYLIGHT
BEGIN:DAYLIGHT
DTSTART:20220327T030000
RDATE:20221030T020000
TZOFFSETFROM:+0100
TZOFFSETTO:+0200
TZNAME:Europe/Paris CEST
END:DAYLIGHT
BEGIN:DAYLIGHT
DTSTART:20230326T030000
RDATE:20231029T020000
TZOFFSETFROM:+0100
TZOFFSETTO:+0200
TZNAME:Europe/Paris CEST
END:DAYLIGHT
BEGIN:DAYLIGHT
DTSTART:20240331T030000
RDATE:20241027T020000
TZOFFSETFROM:+0100
TZOFFSETTO:+0200
TZNAME:Europe/Paris CEST
END:DAYLIGHT
BEGIN:DAYLIGHT
DTSTART:20250330T030000
RDATE:20251026T020000
TZOFFSETFROM:+0100
TZOFFSETTO:+0200
TZNAME:Europe/Paris CEST
END:DAYLIGHT
BEGIN:DAYLIGHT
DTSTART:20260329T030000
RDATE:20261025T020000
TZOFFSETFROM:+0100
TZOFFSETTO:+0200
TZNAME:Europe/Paris CEST
END:DAYLIGHT
END:VTIMEZONE
BEGIN:VEVENT
UID:a03e70006d8475f9dd72fb78c3b21232
CATEGORIES:Circuit Alsace Adultes (alpin)
CREATED:20131203T122059
SUMMARY:CAA        Coupe CESA Markstein **REPORTE**
URL;VALUE=URI:https://skivosges.net/agenda/detailevenement/60/-/caa-coupe-cesa-markstein-
 reporte?tmpl=component
DESCRIPTION:CAA        Coupe CESA Markstein (Epreuve reportée) \n(Coupe d'Alsace Adulte
 s)\n\nLieu : MARKSTEIN \nOrganisateur : S.C VALLEE DE WESSERLING  (14186 S.
 C VALLEE DE WESSERLING)\nEmail : RegularLabs.EmailProtector.unCloak("ep_d51
 dbb70");\n\ndépart 9h30\n - AMVF0061  Slalom (Courses FFS) U16-&gt;Mas (Min
  à Mast/Vet) Dames\n  CAA        Coupe CESA Markstein\n - AMVM0061  Slalom 
 (Courses FFS) U16-&gt;Mas (Min à Mast/Vet) Hommes\n  CAA        Coupe CESA 
 Markstein Cet évènement a été importé depuis :https://skivosges.net/agenda/
 detailevenement/60/-/caa-coupe-cesa-markstein-reporte?tmpl=component (https
 ://skivosges.net/agenda/detailevenement/60/-/caa-coupe-cesa-markstein-repor
 te?tmpl=component)
X-ALT-DESC;FMTTYPE=text/html:<strong>CAA        Coupe CESA Markstein</strong> <font class="attention4">(
 Epreuve reportée)</font> <br /><i>(Coupe d'Alsace Adultes)</i><br /><br />L
 ieu : MARKSTEIN <br />Organisateur : S.C VALLEE DE WESSERLING  <small>(1418
 6 S.C VALLEE DE WESSERLING)</small><br />Email : <!-- Cette adresse électro
 nique est protégée contre les robots spammeurs. --><span class="cloaked_ema
 il ep_d51dbb70"><span data-ep-b="&#109;" data-ep-a="&#115;&#99;&#118;w"><sp
 an data-ep-b="&#108;&#46;c&#111;" data-ep-a="&#101;&#115;&#115;&#101;"><spa
 n data-ep-a="r&#108;&#105;&#110;" data-ep-b="&#103;&#64;&#97;&#111;"></span
 ></span></span></span><script>RegularLabs.EmailProtector.unCloak("ep_d51dbb
 70");</script><br /><br />départ 9h30<ul type="disc"><li>AMVF0061  Slalom <
 nobr><i>(Courses FFS)</i></nobr> <nobr>U16->Mas (Min à Mast/Vet)</nobr> Dam
 es<br />&nbsp;&nbsp;CAA        Coupe CESA Markstein</li><li>AMVM0061  Slalo
 m <nobr><i>(Courses FFS)</i></nobr> <nobr>U16->Mas (Min à Mast/Vet)</nobr> 
 Hommes<br />&nbsp;&nbsp;CAA        Coupe CESA Markstein</li></ul> <a href="
 https://skivosges.net/agenda/detailevenement/60/-/caa-coupe-cesa-markstein-
 reporte?tmpl=component">Cet évènement a été importé depuis :https://skivosg
 es.net/agenda/detailevenement/60/-/caa-coupe-cesa-markstein-reporte?tmpl=co
 mponent</a>DTSTAMP:20260420T221014
DTSTART;TZID=Europe/Paris:20131222T080000
DTEND;TZID=Europe/Paris:20131222T170000
SEQUENCE:0
TRANSP:OPAQUE
END:VEVENT
END:VCALENDAR