BEGIN:VCALENDAR
VERSION:2.0
PRODID:-//jEvents 2.0 for Joomla//EN
CALSCALE:GREGORIAN
METHOD:PUBLISH
BEGIN:VTIMEZONE
TZID:Europe/Paris
BEGIN:STANDARD
DTSTART:20150116T080000
RDATE:20150329T030000
TZOFFSETFROM:+0200
TZOFFSETTO:+0100
TZNAME:Europe/Paris CET
END:STANDARD
BEGIN:STANDARD
DTSTART:20151025T020000
RDATE:20160327T030000
TZOFFSETFROM:+0200
TZOFFSETTO:+0100
TZNAME:Europe/Paris CET
END:STANDARD
BEGIN:STANDARD
DTSTART:20161030T020000
RDATE:20170326T030000
TZOFFSETFROM:+0200
TZOFFSETTO:+0100
TZNAME:Europe/Paris CET
END:STANDARD
BEGIN:STANDARD
DTSTART:20171029T020000
RDATE:20180325T030000
TZOFFSETFROM:+0200
TZOFFSETTO:+0100
TZNAME:Europe/Paris CET
END:STANDARD
BEGIN:STANDARD
DTSTART:20181028T020000
RDATE:20190331T030000
TZOFFSETFROM:+0200
TZOFFSETTO:+0100
TZNAME:Europe/Paris CET
END:STANDARD
BEGIN:STANDARD
DTSTART:20191027T020000
RDATE:20200329T030000
TZOFFSETFROM:+0200
TZOFFSETTO:+0100
TZNAME:Europe/Paris CET
END:STANDARD
BEGIN:STANDARD
DTSTART:20201025T020000
RDATE:20210328T030000
TZOFFSETFROM:+0200
TZOFFSETTO:+0100
TZNAME:Europe/Paris CET
END:STANDARD
BEGIN:STANDARD
DTSTART:20211031T020000
RDATE:20220327T030000
TZOFFSETFROM:+0200
TZOFFSETTO:+0100
TZNAME:Europe/Paris CET
END:STANDARD
BEGIN:STANDARD
DTSTART:20221030T020000
RDATE:20230326T030000
TZOFFSETFROM:+0200
TZOFFSETTO:+0100
TZNAME:Europe/Paris CET
END:STANDARD
BEGIN:STANDARD
DTSTART:20231029T020000
RDATE:20240331T030000
TZOFFSETFROM:+0200
TZOFFSETTO:+0100
TZNAME:Europe/Paris CET
END:STANDARD
BEGIN:STANDARD
DTSTART:20241027T020000
RDATE:20250330T030000
TZOFFSETFROM:+0200
TZOFFSETTO:+0100
TZNAME:Europe/Paris CET
END:STANDARD
BEGIN:STANDARD
DTSTART:20251026T020000
RDATE:20260329T030000
TZOFFSETFROM:+0200
TZOFFSETTO:+0100
TZNAME:Europe/Paris CET
END:STANDARD
BEGIN:STANDARD
DTSTART:20261025T020000
RDATE:20270328T030000
TZOFFSETFROM:+0200
TZOFFSETTO:+0100
TZNAME:Europe/Paris CET
END:STANDARD
BEGIN:DAYLIGHT
DTSTART:20150329T030000
RDATE:20151025T020000
TZOFFSETFROM:+0100
TZOFFSETTO:+0200
TZNAME:Europe/Paris CEST
END:DAYLIGHT
BEGIN:DAYLIGHT
DTSTART:20160327T030000
RDATE:20161030T020000
TZOFFSETFROM:+0100
TZOFFSETTO:+0200
TZNAME:Europe/Paris CEST
END:DAYLIGHT
BEGIN:DAYLIGHT
DTSTART:20170326T030000
RDATE:20171029T020000
TZOFFSETFROM:+0100
TZOFFSETTO:+0200
TZNAME:Europe/Paris CEST
END:DAYLIGHT
BEGIN:DAYLIGHT
DTSTART:20180325T030000
RDATE:20181028T020000
TZOFFSETFROM:+0100
TZOFFSETTO:+0200
TZNAME:Europe/Paris CEST
END:DAYLIGHT
BEGIN:DAYLIGHT
DTSTART:20190331T030000
RDATE:20191027T020000
TZOFFSETFROM:+0100
TZOFFSETTO:+0200
TZNAME:Europe/Paris CEST
END:DAYLIGHT
BEGIN:DAYLIGHT
DTSTART:20200329T030000
RDATE:20201025T020000
TZOFFSETFROM:+0100
TZOFFSETTO:+0200
TZNAME:Europe/Paris CEST
END:DAYLIGHT
BEGIN:DAYLIGHT
DTSTART:20210328T030000
RDATE:20211031T020000
TZOFFSETFROM:+0100
TZOFFSETTO:+0200
TZNAME:Europe/Paris CEST
END:DAYLIGHT
BEGIN:DAYLIGHT
DTSTART:20220327T030000
RDATE:20221030T020000
TZOFFSETFROM:+0100
TZOFFSETTO:+0200
TZNAME:Europe/Paris CEST
END:DAYLIGHT
BEGIN:DAYLIGHT
DTSTART:20230326T030000
RDATE:20231029T020000
TZOFFSETFROM:+0100
TZOFFSETTO:+0200
TZNAME:Europe/Paris CEST
END:DAYLIGHT
BEGIN:DAYLIGHT
DTSTART:20240331T030000
RDATE:20241027T020000
TZOFFSETFROM:+0100
TZOFFSETTO:+0200
TZNAME:Europe/Paris CEST
END:DAYLIGHT
BEGIN:DAYLIGHT
DTSTART:20250330T030000
RDATE:20251026T020000
TZOFFSETFROM:+0100
TZOFFSETTO:+0200
TZNAME:Europe/Paris CEST
END:DAYLIGHT
BEGIN:DAYLIGHT
DTSTART:20260329T030000
RDATE:20261025T020000
TZOFFSETFROM:+0100
TZOFFSETTO:+0200
TZNAME:Europe/Paris CEST
END:DAYLIGHT
END:VTIMEZONE
BEGIN:VEVENT
UID:b3e056d1a1a54ad562317fa86c86cc93
CATEGORIES:Circuit Alsace Jeunes (alpin)
CREATED:20160113T161543
SUMMARY:CAJ  U8etU10-U12-U14     Coupe Serge LANG
URL;VALUE=URI:https://skivosges.net/agenda/detailevenement/602/-/caj-u8etu10-u12-u14-coup
 e-serge-lang?tmpl=component
DESCRIPTION:CAJ  U8etU10-U12-U14     Coupe Serge LANG \n(Coupe d'Alsace Jeunes)\n\nLieu
  : MARKSTEIN\nPiste : STADE\nOrganisateur : S.C VALLEE DE WESSERLING (14186
  S.C VALLEE DE WESSERLING)\nEmail : RegularLabs.EmailProtector.unCloak("ep_
 e53e69b4");\nTelecopie : 03 89 82 78 08\n\nInscriptions en cours sur ce sit
 e\n - AMVF1031  Slalom (Micro Coupe) U8/U10 Filles\n  CAJ  U8etU10-U12-U14 
     Coupe Serge LANG\n - AMVM1031  Slalom (Micro Coupe) U8/U10 Garçons\n  C
 AJ  U8etU10-U12-U14     Coupe Serge LANG\n - AMVF1032  Slalom (Coupe de Bro
 nze) U12/U14 Filles\n  CAJ  U8etU10-U12-U14     Coupe Serge LANG\n - AMVM10
 32  Slalom (Coupe de Bronze) U12/U14 Garçons\n  CAJ  U8etU10-U12-U14     Co
 upe Serge LANG Cet évènement a été importé depuis :https://skivosges.net/ag
 enda/detailevenement/602/-/caj-u8etu10-u12-u14-coupe-serge-lang?tmpl=compon
 ent
X-ALT-DESC;FMTTYPE=text/html:<strong>CAJ  U8etU10-U12-U14     Coupe Serge LANG</strong> <br /><i>(Coupe 
 d'Alsace Jeunes)</i><br /><br />Lieu : MARKSTEIN<br />Piste : STADE<br />Or
 ganisateur : S.C VALLEE DE WESSERLING <small>(14186 S.C VALLEE DE WESSERLIN
 G)</small><br />Email : <!-- Cette adresse électronique est protégée contre
  les robots spammeurs. --><span class="cloaked_email ep_e53e69b4"><span dat
 a-ep-b="&#109;" data-ep-a="s&#99;v&#119;"><span data-ep-b="&#108;&#46;&#99;
 &#111;" data-ep-a="&#101;&#115;s&#101;"><span data-ep-a="&#114;&#108;&#105;
 &#110;" data-ep-b="&#103;&#64;&#97;o"></span></span></span></span><script>R
 egularLabs.EmailProtector.unCloak("ep_e53e69b4");</script><br />Telecopie :
  03 89 82 78 08<br /><br />Inscriptions en cours sur ce site<ul type="disc"
 ><li>AMVF1031  Slalom <nobr><i>(Micro Coupe)</i></nobr> <nobr>U8/U10</nobr>
  Filles<br />&nbsp;&nbsp;CAJ  U8etU10-U12-U14     Coupe Serge LANG</li><li>
 AMVM1031  Slalom <nobr><i>(Micro Coupe)</i></nobr> <nobr>U8/U10</nobr> Garç
 ons<br />&nbsp;&nbsp;CAJ  U8etU10-U12-U14     Coupe Serge LANG</li><li>AMVF
 1032  Slalom <nobr><i>(Coupe de Bronze)</i></nobr> <nobr>U12/U14</nobr> Fil
 les<br />&nbsp;&nbsp;CAJ  U8etU10-U12-U14     Coupe Serge LANG</li><li>AMVM
 1032  Slalom <nobr><i>(Coupe de Bronze)</i></nobr> <nobr>U12/U14</nobr> Gar
 çons<br />&nbsp;&nbsp;CAJ  U8etU10-U12-U14     Coupe Serge LANG</li></ul> <
 a href="https://skivosges.net/agenda/detailevenement/602/-/caj-u8etu10-u12-
 u14-coupe-serge-lang?tmpl=component">Cet évènement a été importé depuis :ht
 tps://skivosges.net/agenda/detailevenement/602/-/caj-u8etu10-u12-u14-coupe-
 serge-lang?tmpl=component</a>DTSTAMP:20260421T050937
DTSTART;TZID=Europe/Paris:20160117T080000
DTEND;TZID=Europe/Paris:20160117T170000
SEQUENCE:0
TRANSP:OPAQUE
END:VEVENT
END:VCALENDAR