BEGIN:VCALENDAR
VERSION:2.0
PRODID:-//jEvents 2.0 for Joomla//EN
CALSCALE:GREGORIAN
METHOD:PUBLISH
BEGIN:VTIMEZONE
TZID:Europe/Paris
BEGIN:STANDARD
DTSTART:20121221T080000
RDATE:20130331T030000
TZOFFSETFROM:+0200
TZOFFSETTO:+0100
TZNAME:Europe/Paris CET
END:STANDARD
BEGIN:STANDARD
DTSTART:20131027T020000
RDATE:20140330T030000
TZOFFSETFROM:+0200
TZOFFSETTO:+0100
TZNAME:Europe/Paris CET
END:STANDARD
BEGIN:STANDARD
DTSTART:20141026T020000
RDATE:20150329T030000
TZOFFSETFROM:+0200
TZOFFSETTO:+0100
TZNAME:Europe/Paris CET
END:STANDARD
BEGIN:STANDARD
DTSTART:20151025T020000
RDATE:20160327T030000
TZOFFSETFROM:+0200
TZOFFSETTO:+0100
TZNAME:Europe/Paris CET
END:STANDARD
BEGIN:STANDARD
DTSTART:20161030T020000
RDATE:20170326T030000
TZOFFSETFROM:+0200
TZOFFSETTO:+0100
TZNAME:Europe/Paris CET
END:STANDARD
BEGIN:STANDARD
DTSTART:20171029T020000
RDATE:20180325T030000
TZOFFSETFROM:+0200
TZOFFSETTO:+0100
TZNAME:Europe/Paris CET
END:STANDARD
BEGIN:STANDARD
DTSTART:20181028T020000
RDATE:20190331T030000
TZOFFSETFROM:+0200
TZOFFSETTO:+0100
TZNAME:Europe/Paris CET
END:STANDARD
BEGIN:STANDARD
DTSTART:20191027T020000
RDATE:20200329T030000
TZOFFSETFROM:+0200
TZOFFSETTO:+0100
TZNAME:Europe/Paris CET
END:STANDARD
BEGIN:STANDARD
DTSTART:20201025T020000
RDATE:20210328T030000
TZOFFSETFROM:+0200
TZOFFSETTO:+0100
TZNAME:Europe/Paris CET
END:STANDARD
BEGIN:STANDARD
DTSTART:20211031T020000
RDATE:20220327T030000
TZOFFSETFROM:+0200
TZOFFSETTO:+0100
TZNAME:Europe/Paris CET
END:STANDARD
BEGIN:STANDARD
DTSTART:20221030T020000
RDATE:20230326T030000
TZOFFSETFROM:+0200
TZOFFSETTO:+0100
TZNAME:Europe/Paris CET
END:STANDARD
BEGIN:STANDARD
DTSTART:20231029T020000
RDATE:20240331T030000
TZOFFSETFROM:+0200
TZOFFSETTO:+0100
TZNAME:Europe/Paris CET
END:STANDARD
BEGIN:STANDARD
DTSTART:20241027T020000
RDATE:20250330T030000
TZOFFSETFROM:+0200
TZOFFSETTO:+0100
TZNAME:Europe/Paris CET
END:STANDARD
BEGIN:STANDARD
DTSTART:20251026T020000
RDATE:20260329T030000
TZOFFSETFROM:+0200
TZOFFSETTO:+0100
TZNAME:Europe/Paris CET
END:STANDARD
BEGIN:STANDARD
DTSTART:20261025T020000
RDATE:20270328T030000
TZOFFSETFROM:+0200
TZOFFSETTO:+0100
TZNAME:Europe/Paris CET
END:STANDARD
BEGIN:DAYLIGHT
DTSTART:20130331T030000
RDATE:20131027T020000
TZOFFSETFROM:+0100
TZOFFSETTO:+0200
TZNAME:Europe/Paris CEST
END:DAYLIGHT
BEGIN:DAYLIGHT
DTSTART:20140330T030000
RDATE:20141026T020000
TZOFFSETFROM:+0100
TZOFFSETTO:+0200
TZNAME:Europe/Paris CEST
END:DAYLIGHT
BEGIN:DAYLIGHT
DTSTART:20150329T030000
RDATE:20151025T020000
TZOFFSETFROM:+0100
TZOFFSETTO:+0200
TZNAME:Europe/Paris CEST
END:DAYLIGHT
BEGIN:DAYLIGHT
DTSTART:20160327T030000
RDATE:20161030T020000
TZOFFSETFROM:+0100
TZOFFSETTO:+0200
TZNAME:Europe/Paris CEST
END:DAYLIGHT
BEGIN:DAYLIGHT
DTSTART:20170326T030000
RDATE:20171029T020000
TZOFFSETFROM:+0100
TZOFFSETTO:+0200
TZNAME:Europe/Paris CEST
END:DAYLIGHT
BEGIN:DAYLIGHT
DTSTART:20180325T030000
RDATE:20181028T020000
TZOFFSETFROM:+0100
TZOFFSETTO:+0200
TZNAME:Europe/Paris CEST
END:DAYLIGHT
BEGIN:DAYLIGHT
DTSTART:20190331T030000
RDATE:20191027T020000
TZOFFSETFROM:+0100
TZOFFSETTO:+0200
TZNAME:Europe/Paris CEST
END:DAYLIGHT
BEGIN:DAYLIGHT
DTSTART:20200329T030000
RDATE:20201025T020000
TZOFFSETFROM:+0100
TZOFFSETTO:+0200
TZNAME:Europe/Paris CEST
END:DAYLIGHT
BEGIN:DAYLIGHT
DTSTART:20210328T030000
RDATE:20211031T020000
TZOFFSETFROM:+0100
TZOFFSETTO:+0200
TZNAME:Europe/Paris CEST
END:DAYLIGHT
BEGIN:DAYLIGHT
DTSTART:20220327T030000
RDATE:20221030T020000
TZOFFSETFROM:+0100
TZOFFSETTO:+0200
TZNAME:Europe/Paris CEST
END:DAYLIGHT
BEGIN:DAYLIGHT
DTSTART:20230326T030000
RDATE:20231029T020000
TZOFFSETFROM:+0100
TZOFFSETTO:+0200
TZNAME:Europe/Paris CEST
END:DAYLIGHT
BEGIN:DAYLIGHT
DTSTART:20240331T030000
RDATE:20241027T020000
TZOFFSETFROM:+0100
TZOFFSETTO:+0200
TZNAME:Europe/Paris CEST
END:DAYLIGHT
BEGIN:DAYLIGHT
DTSTART:20250330T030000
RDATE:20251026T020000
TZOFFSETFROM:+0100
TZOFFSETTO:+0200
TZNAME:Europe/Paris CEST
END:DAYLIGHT
BEGIN:DAYLIGHT
DTSTART:20260329T030000
RDATE:20261025T020000
TZOFFSETFROM:+0100
TZOFFSETTO:+0200
TZNAME:Europe/Paris CEST
END:DAYLIGHT
END:VTIMEZONE
BEGIN:VEVENT
UID:d9e046989bbb66d9a9aee237556661ae
CATEGORIES:Circuit Lorraine Adultes (alpin)
CREATED:20131203T122059
SUMMARY:CLA        Prix du Crédit Agricole **REPORTE**
URL;VALUE=URI:https://skivosges.net/agenda/detailevenement/61/-/cla-prix-du-credit-agrico
 le-reporte?tmpl=component
DESCRIPTION:CLA        Prix du Crédit Agricole (Epreuve reportée, date à determiner) \n
 (Coupe de Lorraine Adultes)\n\nLieu : FRERE JOSEPH \nOrganisateur : U.S VEN
 TRON(14083)\nEmail : RegularLabs.EmailProtector.unCloak("ep_583283ab");\nTe
 lecopie : 03 29 24 08 26\n - AMVF0051  Slalom (Courses FFS) U16-&gt;Mas (Mi
 n à Mast/Vet) Dames\n  CLA        Prix du Crédit Agricole\n - AMVM0051  Sla
 lom (Courses FFS) U16-&gt;Mas (Min à Mast/Vet) Hommes\n  CLA        Prix du
  Crédit Agricole Cet évènement a été importé depuis :https://skivosges.net/
 agenda/detailevenement/61/-/cla-prix-du-credit-agricole-reporte?tmpl=compon
 ent
X-ALT-DESC;FMTTYPE=text/html:<strong>CLA        Prix du Crédit Agricole</strong> <font class="attention4
 ">(Epreuve reportée, date à determiner)</font> <br /><i>(Coupe de Lorraine 
 Adultes)</i><br /><br />Lieu : FRERE JOSEPH <br />Organisateur : U.S VENTRO
 N<small>(14083)</small><br />Email : <!-- Cette adresse électronique est pr
 otégée contre les robots spammeurs. --><span class="cloaked_email ep_583283
 ab"><span data-ep-b="" data-ep-a="&#117;&#115;&#118;&#101;"><span data-ep-a
 ="&#110;&#116;ro" data-ep-b="&#46;&#102;&#114;"><span data-ep-b="&#97;&#110
 ;ge" data-ep-a="n&#64;or"></span></span></span></span><script>RegularLabs.E
 mailProtector.unCloak("ep_583283ab");</script><br />Telecopie : 03 29 24 08
  26<ul type="disc"><li>AMVF0051  Slalom <nobr><i>(Courses FFS)</i></nobr> <
 nobr>U16->Mas (Min à Mast/Vet)</nobr> Dames<br />&nbsp;&nbsp;CLA        Pri
 x du Crédit Agricole</li><li>AMVM0051  Slalom <nobr><i>(Courses FFS)</i></n
 obr> <nobr>U16->Mas (Min à Mast/Vet)</nobr> Hommes<br />&nbsp;&nbsp;CLA    
     Prix du Crédit Agricole</li></ul> <a href="https://skivosges.net/agenda
 /detailevenement/61/-/cla-prix-du-credit-agricole-reporte?tmpl=component">C
 et évènement a été importé depuis :https://skivosges.net/agenda/detailevene
 ment/61/-/cla-prix-du-credit-agricole-reporte?tmpl=component</a>DTSTAMP:20260420T221127
DTSTART;TZID=Europe/Paris:20131222T080000
DTEND;TZID=Europe/Paris:20131222T170000
SEQUENCE:0
TRANSP:OPAQUE
END:VEVENT
END:VCALENDAR