BEGIN:VCALENDAR
VERSION:2.0
PRODID:-//jEvents 2.0 for Joomla//EN
CALSCALE:GREGORIAN
METHOD:PUBLISH
BEGIN:VTIMEZONE
TZID:Europe/Paris
BEGIN:STANDARD
DTSTART:20121228T080000
RDATE:20130331T030000
TZOFFSETFROM:+0200
TZOFFSETTO:+0100
TZNAME:Europe/Paris CET
END:STANDARD
BEGIN:STANDARD
DTSTART:20131027T020000
RDATE:20140330T030000
TZOFFSETFROM:+0200
TZOFFSETTO:+0100
TZNAME:Europe/Paris CET
END:STANDARD
BEGIN:STANDARD
DTSTART:20141026T020000
RDATE:20150329T030000
TZOFFSETFROM:+0200
TZOFFSETTO:+0100
TZNAME:Europe/Paris CET
END:STANDARD
BEGIN:STANDARD
DTSTART:20151025T020000
RDATE:20160327T030000
TZOFFSETFROM:+0200
TZOFFSETTO:+0100
TZNAME:Europe/Paris CET
END:STANDARD
BEGIN:STANDARD
DTSTART:20161030T020000
RDATE:20170326T030000
TZOFFSETFROM:+0200
TZOFFSETTO:+0100
TZNAME:Europe/Paris CET
END:STANDARD
BEGIN:STANDARD
DTSTART:20171029T020000
RDATE:20180325T030000
TZOFFSETFROM:+0200
TZOFFSETTO:+0100
TZNAME:Europe/Paris CET
END:STANDARD
BEGIN:STANDARD
DTSTART:20181028T020000
RDATE:20190331T030000
TZOFFSETFROM:+0200
TZOFFSETTO:+0100
TZNAME:Europe/Paris CET
END:STANDARD
BEGIN:STANDARD
DTSTART:20191027T020000
RDATE:20200329T030000
TZOFFSETFROM:+0200
TZOFFSETTO:+0100
TZNAME:Europe/Paris CET
END:STANDARD
BEGIN:STANDARD
DTSTART:20201025T020000
RDATE:20210328T030000
TZOFFSETFROM:+0200
TZOFFSETTO:+0100
TZNAME:Europe/Paris CET
END:STANDARD
BEGIN:STANDARD
DTSTART:20211031T020000
RDATE:20220327T030000
TZOFFSETFROM:+0200
TZOFFSETTO:+0100
TZNAME:Europe/Paris CET
END:STANDARD
BEGIN:STANDARD
DTSTART:20221030T020000
RDATE:20230326T030000
TZOFFSETFROM:+0200
TZOFFSETTO:+0100
TZNAME:Europe/Paris CET
END:STANDARD
BEGIN:STANDARD
DTSTART:20231029T020000
RDATE:20240331T030000
TZOFFSETFROM:+0200
TZOFFSETTO:+0100
TZNAME:Europe/Paris CET
END:STANDARD
BEGIN:STANDARD
DTSTART:20241027T020000
RDATE:20250330T030000
TZOFFSETFROM:+0200
TZOFFSETTO:+0100
TZNAME:Europe/Paris CET
END:STANDARD
BEGIN:STANDARD
DTSTART:20251026T020000
RDATE:20260329T030000
TZOFFSETFROM:+0200
TZOFFSETTO:+0100
TZNAME:Europe/Paris CET
END:STANDARD
BEGIN:STANDARD
DTSTART:20261025T020000
RDATE:20270328T030000
TZOFFSETFROM:+0200
TZOFFSETTO:+0100
TZNAME:Europe/Paris CET
END:STANDARD
BEGIN:DAYLIGHT
DTSTART:20130331T030000
RDATE:20131027T020000
TZOFFSETFROM:+0100
TZOFFSETTO:+0200
TZNAME:Europe/Paris CEST
END:DAYLIGHT
BEGIN:DAYLIGHT
DTSTART:20140330T030000
RDATE:20141026T020000
TZOFFSETFROM:+0100
TZOFFSETTO:+0200
TZNAME:Europe/Paris CEST
END:DAYLIGHT
BEGIN:DAYLIGHT
DTSTART:20150329T030000
RDATE:20151025T020000
TZOFFSETFROM:+0100
TZOFFSETTO:+0200
TZNAME:Europe/Paris CEST
END:DAYLIGHT
BEGIN:DAYLIGHT
DTSTART:20160327T030000
RDATE:20161030T020000
TZOFFSETFROM:+0100
TZOFFSETTO:+0200
TZNAME:Europe/Paris CEST
END:DAYLIGHT
BEGIN:DAYLIGHT
DTSTART:20170326T030000
RDATE:20171029T020000
TZOFFSETFROM:+0100
TZOFFSETTO:+0200
TZNAME:Europe/Paris CEST
END:DAYLIGHT
BEGIN:DAYLIGHT
DTSTART:20180325T030000
RDATE:20181028T020000
TZOFFSETFROM:+0100
TZOFFSETTO:+0200
TZNAME:Europe/Paris CEST
END:DAYLIGHT
BEGIN:DAYLIGHT
DTSTART:20190331T030000
RDATE:20191027T020000
TZOFFSETFROM:+0100
TZOFFSETTO:+0200
TZNAME:Europe/Paris CEST
END:DAYLIGHT
BEGIN:DAYLIGHT
DTSTART:20200329T030000
RDATE:20201025T020000
TZOFFSETFROM:+0100
TZOFFSETTO:+0200
TZNAME:Europe/Paris CEST
END:DAYLIGHT
BEGIN:DAYLIGHT
DTSTART:20210328T030000
RDATE:20211031T020000
TZOFFSETFROM:+0100
TZOFFSETTO:+0200
TZNAME:Europe/Paris CEST
END:DAYLIGHT
BEGIN:DAYLIGHT
DTSTART:20220327T030000
RDATE:20221030T020000
TZOFFSETFROM:+0100
TZOFFSETTO:+0200
TZNAME:Europe/Paris CEST
END:DAYLIGHT
BEGIN:DAYLIGHT
DTSTART:20230326T030000
RDATE:20231029T020000
TZOFFSETFROM:+0100
TZOFFSETTO:+0200
TZNAME:Europe/Paris CEST
END:DAYLIGHT
BEGIN:DAYLIGHT
DTSTART:20240331T030000
RDATE:20241027T020000
TZOFFSETFROM:+0100
TZOFFSETTO:+0200
TZNAME:Europe/Paris CEST
END:DAYLIGHT
BEGIN:DAYLIGHT
DTSTART:20250330T030000
RDATE:20251026T020000
TZOFFSETFROM:+0100
TZOFFSETTO:+0200
TZNAME:Europe/Paris CEST
END:DAYLIGHT
BEGIN:DAYLIGHT
DTSTART:20260329T030000
RDATE:20261025T020000
TZOFFSETFROM:+0100
TZOFFSETTO:+0200
TZNAME:Europe/Paris CEST
END:DAYLIGHT
END:VTIMEZONE
BEGIN:VEVENT
UID:194d6ad512e49c500846480db18fa6e2
CATEGORIES:Compétition Ski de Fond
CREATED:20131203T122059
SUMMARY:Coupe de la Hasel **REPORTE**
URL;VALUE=URI:https://skivosges.net/agenda/detailevenement/62/-/coupe-de-la-hasel-reporte
 ?tmpl=component
DESCRIPTION:Coupe de la Hasel (Epreuve reportée, date à determiner)\n\nLieu : CHAMP DU 
 FEU \nOrganisateur : SKI CLUB OBERHASLACH  (14336 SKI CLUB OBERHASLACH)\nTe
 lecopie : 0624124123\n\nla course est reportée en raison de l´enneigement l
 imite et des prévisions météo défavorable \n\nInscriptions en cours sur ce 
 site\n - FMVF0051  D?part Individuel Minime Filles\n  Coupe de la Hasel\n -
  FMVF0052  D?part Individuel Cadet Filles\n  Coupe de la Hasel\n - FMVF0053
   D?part Individuel Jeune a Senior Dames\n  Coupe de la Hasel\n - FMVM0051 
  D?part Individuel Minime Garçons\n  Coupe de la Hasel\n - FMVM0052  D?part
  Individuel Cadet Garçons\n  Coupe de la Hasel\n - FMVM0053  D?part Individ
 uel Jeune Hommes\n  Coupe de la Hasel\n - FMVM0054  D?part Individuel Junio
 r/Senior Hommes\n  Coupe de la Hasel Cet évènement a été importé depuis :ht
 tps://skivosges.net/agenda/detailevenement/62/-/coupe-de-la-hasel-reporte?t
 mpl=component (https://skivosges.net/agenda/detailevenement/62/-/coupe-de-l
 a-hasel-reporte?tmpl=component)
X-ALT-DESC;FMTTYPE=text/html:<strong>Coupe de la Hasel</strong> <font class="attention4">(Epreuve report
 ée, date à determiner)</font><br /><br />Lieu : CHAMP DU FEU <br />Organisa
 teur : SKI CLUB OBERHASLACH  <small>(14336 SKI CLUB OBERHASLACH)</small><br
  />Telecopie : 0624124123<br /><br />la course est reportée en raison de l´
 enneigement limite et des prévisions météo défavorable <br /><br />Inscript
 ions en cours sur ce site<ul type="disc"><li>FMVF0051  D?part Individuel <n
 obr>Minime</nobr> Filles<br />&nbsp;&nbsp;Coupe de la Hasel</li><li>FMVF005
 2  D?part Individuel <nobr>Cadet</nobr> Filles<br />&nbsp;&nbsp;Coupe de la
  Hasel</li><li>FMVF0053  D?part Individuel <nobr>Jeune a Senior</nobr> Dame
 s<br />&nbsp;&nbsp;Coupe de la Hasel</li><li>FMVM0051  D?part Individuel <n
 obr>Minime</nobr> Garçons<br />&nbsp;&nbsp;Coupe de la Hasel</li><li>FMVM00
 52  D?part Individuel <nobr>Cadet</nobr> Garçons<br />&nbsp;&nbsp;Coupe de 
 la Hasel</li><li>FMVM0053  D?part Individuel <nobr>Jeune</nobr> Hommes<br /
 >&nbsp;&nbsp;Coupe de la Hasel</li><li>FMVM0054  D?part Individuel <nobr>Ju
 nior/Senior</nobr> Hommes<br />&nbsp;&nbsp;Coupe de la Hasel</li></ul> <a h
 ref="https://skivosges.net/agenda/detailevenement/62/-/coupe-de-la-hasel-re
 porte?tmpl=component">Cet évènement a été importé depuis :https://skivosges
 .net/agenda/detailevenement/62/-/coupe-de-la-hasel-reporte?tmpl=component</
 a>DTSTAMP:20260420T221247
DTSTART;TZID=Europe/Paris:20131229T080000
DTEND;TZID=Europe/Paris:20131229T170000
SEQUENCE:0
TRANSP:OPAQUE
END:VEVENT
END:VCALENDAR