BEGIN:VCALENDAR
VERSION:2.0
PRODID:-//jEvents 2.0 for Joomla//EN
CALSCALE:GREGORIAN
METHOD:PUBLISH
BEGIN:VTIMEZONE
TZID:Europe/Paris
BEGIN:STANDARD
DTSTART:20121228T080000
RDATE:20130331T030000
TZOFFSETFROM:+0200
TZOFFSETTO:+0100
TZNAME:Europe/Paris CET
END:STANDARD
BEGIN:STANDARD
DTSTART:20131027T020000
RDATE:20140330T030000
TZOFFSETFROM:+0200
TZOFFSETTO:+0100
TZNAME:Europe/Paris CET
END:STANDARD
BEGIN:STANDARD
DTSTART:20141026T020000
RDATE:20150329T030000
TZOFFSETFROM:+0200
TZOFFSETTO:+0100
TZNAME:Europe/Paris CET
END:STANDARD
BEGIN:STANDARD
DTSTART:20151025T020000
RDATE:20160327T030000
TZOFFSETFROM:+0200
TZOFFSETTO:+0100
TZNAME:Europe/Paris CET
END:STANDARD
BEGIN:STANDARD
DTSTART:20161030T020000
RDATE:20170326T030000
TZOFFSETFROM:+0200
TZOFFSETTO:+0100
TZNAME:Europe/Paris CET
END:STANDARD
BEGIN:STANDARD
DTSTART:20171029T020000
RDATE:20180325T030000
TZOFFSETFROM:+0200
TZOFFSETTO:+0100
TZNAME:Europe/Paris CET
END:STANDARD
BEGIN:STANDARD
DTSTART:20181028T020000
RDATE:20190331T030000
TZOFFSETFROM:+0200
TZOFFSETTO:+0100
TZNAME:Europe/Paris CET
END:STANDARD
BEGIN:STANDARD
DTSTART:20191027T020000
RDATE:20200329T030000
TZOFFSETFROM:+0200
TZOFFSETTO:+0100
TZNAME:Europe/Paris CET
END:STANDARD
BEGIN:STANDARD
DTSTART:20201025T020000
RDATE:20210328T030000
TZOFFSETFROM:+0200
TZOFFSETTO:+0100
TZNAME:Europe/Paris CET
END:STANDARD
BEGIN:STANDARD
DTSTART:20211031T020000
RDATE:20220327T030000
TZOFFSETFROM:+0200
TZOFFSETTO:+0100
TZNAME:Europe/Paris CET
END:STANDARD
BEGIN:STANDARD
DTSTART:20221030T020000
RDATE:20230326T030000
TZOFFSETFROM:+0200
TZOFFSETTO:+0100
TZNAME:Europe/Paris CET
END:STANDARD
BEGIN:STANDARD
DTSTART:20231029T020000
RDATE:20240331T030000
TZOFFSETFROM:+0200
TZOFFSETTO:+0100
TZNAME:Europe/Paris CET
END:STANDARD
BEGIN:STANDARD
DTSTART:20241027T020000
RDATE:20250330T030000
TZOFFSETFROM:+0200
TZOFFSETTO:+0100
TZNAME:Europe/Paris CET
END:STANDARD
BEGIN:STANDARD
DTSTART:20251026T020000
RDATE:20260329T030000
TZOFFSETFROM:+0200
TZOFFSETTO:+0100
TZNAME:Europe/Paris CET
END:STANDARD
BEGIN:STANDARD
DTSTART:20261025T020000
RDATE:20270328T030000
TZOFFSETFROM:+0200
TZOFFSETTO:+0100
TZNAME:Europe/Paris CET
END:STANDARD
BEGIN:DAYLIGHT
DTSTART:20130331T030000
RDATE:20131027T020000
TZOFFSETFROM:+0100
TZOFFSETTO:+0200
TZNAME:Europe/Paris CEST
END:DAYLIGHT
BEGIN:DAYLIGHT
DTSTART:20140330T030000
RDATE:20141026T020000
TZOFFSETFROM:+0100
TZOFFSETTO:+0200
TZNAME:Europe/Paris CEST
END:DAYLIGHT
BEGIN:DAYLIGHT
DTSTART:20150329T030000
RDATE:20151025T020000
TZOFFSETFROM:+0100
TZOFFSETTO:+0200
TZNAME:Europe/Paris CEST
END:DAYLIGHT
BEGIN:DAYLIGHT
DTSTART:20160327T030000
RDATE:20161030T020000
TZOFFSETFROM:+0100
TZOFFSETTO:+0200
TZNAME:Europe/Paris CEST
END:DAYLIGHT
BEGIN:DAYLIGHT
DTSTART:20170326T030000
RDATE:20171029T020000
TZOFFSETFROM:+0100
TZOFFSETTO:+0200
TZNAME:Europe/Paris CEST
END:DAYLIGHT
BEGIN:DAYLIGHT
DTSTART:20180325T030000
RDATE:20181028T020000
TZOFFSETFROM:+0100
TZOFFSETTO:+0200
TZNAME:Europe/Paris CEST
END:DAYLIGHT
BEGIN:DAYLIGHT
DTSTART:20190331T030000
RDATE:20191027T020000
TZOFFSETFROM:+0100
TZOFFSETTO:+0200
TZNAME:Europe/Paris CEST
END:DAYLIGHT
BEGIN:DAYLIGHT
DTSTART:20200329T030000
RDATE:20201025T020000
TZOFFSETFROM:+0100
TZOFFSETTO:+0200
TZNAME:Europe/Paris CEST
END:DAYLIGHT
BEGIN:DAYLIGHT
DTSTART:20210328T030000
RDATE:20211031T020000
TZOFFSETFROM:+0100
TZOFFSETTO:+0200
TZNAME:Europe/Paris CEST
END:DAYLIGHT
BEGIN:DAYLIGHT
DTSTART:20220327T030000
RDATE:20221030T020000
TZOFFSETFROM:+0100
TZOFFSETTO:+0200
TZNAME:Europe/Paris CEST
END:DAYLIGHT
BEGIN:DAYLIGHT
DTSTART:20230326T030000
RDATE:20231029T020000
TZOFFSETFROM:+0100
TZOFFSETTO:+0200
TZNAME:Europe/Paris CEST
END:DAYLIGHT
BEGIN:DAYLIGHT
DTSTART:20240331T030000
RDATE:20241027T020000
TZOFFSETFROM:+0100
TZOFFSETTO:+0200
TZNAME:Europe/Paris CEST
END:DAYLIGHT
BEGIN:DAYLIGHT
DTSTART:20250330T030000
RDATE:20251026T020000
TZOFFSETFROM:+0100
TZOFFSETTO:+0200
TZNAME:Europe/Paris CEST
END:DAYLIGHT
BEGIN:DAYLIGHT
DTSTART:20260329T030000
RDATE:20261025T020000
TZOFFSETFROM:+0100
TZOFFSETTO:+0200
TZNAME:Europe/Paris CEST
END:DAYLIGHT
END:VTIMEZONE
BEGIN:VEVENT
UID:21eb8b90dc6d6e3f3678978d50fea715
CATEGORIES:Opens et Promos (alpin)
CREATED:20131203T122059
SUMMARY:PROMO J     Haribo Kids Snow Cup 2014 **REPORTE**
URL;VALUE=URI:https://skivosges.net/agenda/detailevenement/63/-/promo-j-haribo-kids-snow-
 cup-2014-reporte?tmpl=component
DESCRIPTION:PROMO J     Haribo Kids Snow Cup 2014 (Epreuve reportée, date à determiner)
 \n\nLieu : MARKSTEIN \nOrganisateur : S.C VALLEE DE WESSERLING  (14186 S.C 
 VALLEE DE WESSERLING)\nEmail : RegularLabs.EmailProtector.unCloak("ep_3a59a
 64e");\n\nInscriptions en cours sur ce site\n - AMVF0071  Slalom Geant U8 F
 illes\n  PROMO J     Haribo Kids Snow Cup 2014\n - AMVM0071  Slalom Geant U
 8 Garçons\n  PROMO J     Haribo Kids Snow Cup 2014\n - AMVM0072  Slalom Gea
 nt de 8 a 15ans au 31/12/2012(Mic a Min) Garçons\n  PROMO J     Haribo Kids
  Snow Cup 2014\n - AMVF0072  Slalom Geant de 8 a 15ans au 31/12/2012(Mic a 
 Min) Filles\n  PROMO J     Haribo Kids Snow Cup 2014 Cet évènement a été im
 porté depuis :https://skivosges.net/agenda/detailevenement/63/-/promo-j-har
 ibo-kids-snow-cup-2014-reporte?tmpl=component
X-ALT-DESC;FMTTYPE=text/html:<strong>PROMO J     Haribo Kids Snow Cup 2014</strong> <font class="attenti
 on4">(Epreuve reportée, date à determiner)</font><br /><br />Lieu : MARKSTE
 IN <br />Organisateur : S.C VALLEE DE WESSERLING  <small>(14186 S.C VALLEE 
 DE WESSERLING)</small><br />Email : <!-- Cette adresse électronique est pro
 tégée contre les robots spammeurs. --><span class="cloaked_email ep_3a59a64
 e"><span data-ep-b="&#109;" data-ep-a="&#115;&#99;&#118;w"><span data-ep-a=
 "&#101;&#115;&#115;e" data-ep-b="&#108;.c&#111;"><span data-ep-b="&#103;&#6
 4;&#97;&#111;" data-ep-a="r&#108;&#105;&#110;"></span></span></span></span>
 <script>RegularLabs.EmailProtector.unCloak("ep_3a59a64e");</script><br /><b
 r />Inscriptions en cours sur ce site<ul type="disc"><li>AMVF0071  Slalom G
 eant <nobr>U8</nobr> Filles<br />&nbsp;&nbsp;PROMO J     Haribo Kids Snow C
 up 2014</li><li>AMVM0071  Slalom Geant <nobr>U8</nobr> Garçons<br />&nbsp;&
 nbsp;PROMO J     Haribo Kids Snow Cup 2014</li><li>AMVM0072  Slalom Geant <
 nobr>de 8 a 15ans au 31/12/2012(Mic a Min)</nobr> Garçons<br />&nbsp;&nbsp;
 PROMO J     Haribo Kids Snow Cup 2014</li><li>AMVF0072  Slalom Geant <nobr>
 de 8 a 15ans au 31/12/2012(Mic a Min)</nobr> Filles<br />&nbsp;&nbsp;PROMO 
 J     Haribo Kids Snow Cup 2014</li></ul> <a href="https://skivosges.net/ag
 enda/detailevenement/63/-/promo-j-haribo-kids-snow-cup-2014-reporte?tmpl=co
 mponent">Cet évènement a été importé depuis :https://skivosges.net/agenda/d
 etailevenement/63/-/promo-j-haribo-kids-snow-cup-2014-reporte?tmpl=componen
 t</a>DTSTAMP:20260420T221027
DTSTART;TZID=Europe/Paris:20131229T080000
DTEND;TZID=Europe/Paris:20131229T170000
SEQUENCE:0
TRANSP:OPAQUE
END:VEVENT
END:VCALENDAR