BEGIN:VCALENDAR
VERSION:2.0
PRODID:-//jEvents 2.0 for Joomla//EN
CALSCALE:GREGORIAN
METHOD:PUBLISH
BEGIN:VTIMEZONE
TZID:Europe/Paris
BEGIN:STANDARD
DTSTART:20151126T000000
RDATE:20160327T030000
TZOFFSETFROM:+0200
TZOFFSETTO:+0100
TZNAME:Europe/Paris CET
END:STANDARD
BEGIN:STANDARD
DTSTART:20161030T020000
RDATE:20170326T030000
TZOFFSETFROM:+0200
TZOFFSETTO:+0100
TZNAME:Europe/Paris CET
END:STANDARD
BEGIN:STANDARD
DTSTART:20171029T020000
RDATE:20180325T030000
TZOFFSETFROM:+0200
TZOFFSETTO:+0100
TZNAME:Europe/Paris CET
END:STANDARD
BEGIN:STANDARD
DTSTART:20181028T020000
RDATE:20190331T030000
TZOFFSETFROM:+0200
TZOFFSETTO:+0100
TZNAME:Europe/Paris CET
END:STANDARD
BEGIN:STANDARD
DTSTART:20191027T020000
RDATE:20200329T030000
TZOFFSETFROM:+0200
TZOFFSETTO:+0100
TZNAME:Europe/Paris CET
END:STANDARD
BEGIN:STANDARD
DTSTART:20201025T020000
RDATE:20210328T030000
TZOFFSETFROM:+0200
TZOFFSETTO:+0100
TZNAME:Europe/Paris CET
END:STANDARD
BEGIN:STANDARD
DTSTART:20211031T020000
RDATE:20220327T030000
TZOFFSETFROM:+0200
TZOFFSETTO:+0100
TZNAME:Europe/Paris CET
END:STANDARD
BEGIN:STANDARD
DTSTART:20221030T020000
RDATE:20230326T030000
TZOFFSETFROM:+0200
TZOFFSETTO:+0100
TZNAME:Europe/Paris CET
END:STANDARD
BEGIN:STANDARD
DTSTART:20231029T020000
RDATE:20240331T030000
TZOFFSETFROM:+0200
TZOFFSETTO:+0100
TZNAME:Europe/Paris CET
END:STANDARD
BEGIN:STANDARD
DTSTART:20241027T020000
RDATE:20250330T030000
TZOFFSETFROM:+0200
TZOFFSETTO:+0100
TZNAME:Europe/Paris CET
END:STANDARD
BEGIN:STANDARD
DTSTART:20251026T020000
RDATE:20260329T030000
TZOFFSETFROM:+0200
TZOFFSETTO:+0100
TZNAME:Europe/Paris CET
END:STANDARD
BEGIN:STANDARD
DTSTART:20261025T020000
RDATE:20270328T030000
TZOFFSETFROM:+0200
TZOFFSETTO:+0100
TZNAME:Europe/Paris CET
END:STANDARD
BEGIN:DAYLIGHT
DTSTART:20160327T030000
RDATE:20161030T020000
TZOFFSETFROM:+0100
TZOFFSETTO:+0200
TZNAME:Europe/Paris CEST
END:DAYLIGHT
BEGIN:DAYLIGHT
DTSTART:20170326T030000
RDATE:20171029T020000
TZOFFSETFROM:+0100
TZOFFSETTO:+0200
TZNAME:Europe/Paris CEST
END:DAYLIGHT
BEGIN:DAYLIGHT
DTSTART:20180325T030000
RDATE:20181028T020000
TZOFFSETFROM:+0100
TZOFFSETTO:+0200
TZNAME:Europe/Paris CEST
END:DAYLIGHT
BEGIN:DAYLIGHT
DTSTART:20190331T030000
RDATE:20191027T020000
TZOFFSETFROM:+0100
TZOFFSETTO:+0200
TZNAME:Europe/Paris CEST
END:DAYLIGHT
BEGIN:DAYLIGHT
DTSTART:20200329T030000
RDATE:20201025T020000
TZOFFSETFROM:+0100
TZOFFSETTO:+0200
TZNAME:Europe/Paris CEST
END:DAYLIGHT
BEGIN:DAYLIGHT
DTSTART:20210328T030000
RDATE:20211031T020000
TZOFFSETFROM:+0100
TZOFFSETTO:+0200
TZNAME:Europe/Paris CEST
END:DAYLIGHT
BEGIN:DAYLIGHT
DTSTART:20220327T030000
RDATE:20221030T020000
TZOFFSETFROM:+0100
TZOFFSETTO:+0200
TZNAME:Europe/Paris CEST
END:DAYLIGHT
BEGIN:DAYLIGHT
DTSTART:20230326T030000
RDATE:20231029T020000
TZOFFSETFROM:+0100
TZOFFSETTO:+0200
TZNAME:Europe/Paris CEST
END:DAYLIGHT
BEGIN:DAYLIGHT
DTSTART:20240331T030000
RDATE:20241027T020000
TZOFFSETFROM:+0100
TZOFFSETTO:+0200
TZNAME:Europe/Paris CEST
END:DAYLIGHT
BEGIN:DAYLIGHT
DTSTART:20250330T030000
RDATE:20251026T020000
TZOFFSETFROM:+0100
TZOFFSETTO:+0200
TZNAME:Europe/Paris CEST
END:DAYLIGHT
BEGIN:DAYLIGHT
DTSTART:20260329T030000
RDATE:20261025T020000
TZOFFSETFROM:+0100
TZOFFSETTO:+0200
TZNAME:Europe/Paris CEST
END:DAYLIGHT
END:VTIMEZONE
BEGIN:VEVENT
UID:2121f36d54ec92339ae8cbb8a8597c80
CATEGORIES:Opens et Promos (alpin)
CREATED:20161202T134851
SUMMARY:OPEN Jeunes Coupe d'Amnéville
URL;VALUE=URI:https://skivosges.net/agenda/detailevenement/642/-/open-jeunes-coupe-damnev
 ille?tmpl=component
DESCRIPTION:<!-- #gskiepreuve code généré par le plugin jevents pour GskiEpreuves. Ne p
 as modifier cette ligne, ni tout le contenu suivant  #gskiepreuve --><div c
 lass="gski-evenement_infos"><div class="gski-evenement-nom">OPEN Jeunes Cou
 pe d'Amnéville</div><div class="gski-evenement-report"></div><ul class="gsk
 i-evenement-liste-infos"><li>Codex évenement AMVT0030</li><li>Lieu : AMNEVI
 LLE LES THERMES</li><li>Station : AMNEVILLE LES THERMES</li><li>Organisateu
 r : 14482 SKI CLUB D'AMNEVILLE</li><li>Courriel : <!-- Cette adresse électr
 onique est protégée contre les robots spammeurs. --><span class="cloaked_em
 ail ep_fc8117b7"><span data-ep-b="&#111;&#114;g" data-ep-a="&#115;&#103;&#6
 4;&#115;"><span data-ep-b="lle&#46;" data-ep-a="&#107;&#105;&#99;&#108;"><s
 pan data-ep-b="&#110;&#101;&#118;&#105;" data-ep-a="&#117;&#98;am"></span><
 /span></span></span><script>RegularLabs.EmailProtector.unCloak("ep_fc8117b7
 ");</script></li></ul><div class="gski-evenement-infos-2"><div class="gski-
 evenement-info-inscriptions"><div class="gski-evenement-inscriptions-period
 es">Période d'inscription à l'evènement du samedi 19 novembre 2016 à 01:00 
 au jeudi 24 novembre 2016 à 13:00 <span class="gski-evenement-inscriptions-
 impossibles">(Inscriptions impossibles).</span><div class="gski-evenement-i
 nscriptions-types-titres">Le type de titres Fédéraux autorisé n'est pas déf
 ini. Veuillez contacter l'organisateur et lui signaler le problème.</div></
 div></div><div class="gski-evenement-epreuves"><div class="gski-evenement-e
 preuves-titres">Epreuves :</div><ul class="gski-evenement-epreuves-list"><l
 i><div class="gski-epreuve-date">Le samedi 26 novembre 2016</div><ul class=
 "gski-epreuve-liste-infos"><li>Codex épreuve AMVM0031</li><li>Slalom</li></
 ul></li><li><div class="gski-epreuve-date">Le samedi 26 novembre 2016</div>
 <ul class="gski-epreuve-liste-infos"><li>Codex épreuve AMVF0031</li><li>Sla
 lom</li></ul></li><li><div class="gski-epreuve-date">Le samedi 26 novembre 
 2016</div><ul class="gski-epreuve-liste-infos"><li>Codex épreuve AMVF0032</
 li><li>Slalom</li></ul></li><li><div class="gski-epreuve-date">Le samedi 26
  novembre 2016</div><ul class="gski-epreuve-liste-infos"><li>Codex épreuve 
 AMVM0032</li><li>Slalom</li></ul></li><li><div class="gski-epreuve-date">Le
  samedi 26 novembre 2016</div><ul class="gski-epreuve-liste-infos"><li>Code
 x épreuve AMVM0033</li><li>Slalom</li></ul></li><li><div class="gski-epreuv
 e-date">Le samedi 26 novembre 2016</div><ul class="gski-epreuve-liste-infos
 "><li>Codex épreuve AMVF0033</li><li>Slalom</li></ul></li></ul></div><div c
 lass="gskiepreuves-links"><ul><li><a href="/index.php?option=com_jevents&ta
 sk=icalevent.detail&evid=637&Itemid=1703">Voir les informations dans l'agen
 da...</a></li><li><a href="/index.php?option=com_gskiepreuves&view=afficher
 esultats&format_option=tous&filter[search]=AMVT0030&filter[date_debut]=26-1
 1-2016&filter[date_fin]=26-11-2016&code_activite=ALP&Itemid=1703">Vers les 
 résultats...</a></li></ul></div></div"><!-- #/gskiepreuve fin du dode génér
 é par le plugin jevents pour GskiEpreuves. . Ne pas modifier cette ligne, n
 i tout le contenu précedant.  #/gskiepreuve --> <a href="https://skivosges.
 net/agenda/detailevenement/642/-/open-jeunes-coupe-damneville?tmpl=componen
 t">Cet évènement a été importé depuis :https://skivosges.net/agenda/detaile
 venement/642/-/open-jeunes-coupe-damneville?tmpl=component</a>
X-ALT-DESC;FMTTYPE=text/html:<!-- #gskiepreuve code généré par le plugin jevents pour GskiEpreuves. Ne p
 as modifier cette ligne, ni tout le contenu suivant  #gskiepreuve --><div c
 lass="gski-evenement_infos"><div class="gski-evenement-nom">OPEN Jeunes Cou
 pe d'Amnéville</div><div class="gski-evenement-report"></div><ul class="gsk
 i-evenement-liste-infos"><li>Codex évenement AMVT0030</li><li>Lieu : AMNEVI
 LLE LES THERMES</li><li>Station : AMNEVILLE LES THERMES</li><li>Organisateu
 r : 14482 SKI CLUB D'AMNEVILLE</li><li>Courriel : <!-- Cette adresse électr
 onique est protégée contre les robots spammeurs. --><span class="cloaked_em
 ail ep_fc8117b7"><span data-ep-b="&#111;&#114;g" data-ep-a="&#115;&#103;&#6
 4;&#115;"><span data-ep-b="lle&#46;" data-ep-a="&#107;&#105;&#99;&#108;"><s
 pan data-ep-b="&#110;&#101;&#118;&#105;" data-ep-a="&#117;&#98;am"></span><
 /span></span></span><script>RegularLabs.EmailProtector.unCloak("ep_fc8117b7
 ");</script></li></ul><div class="gski-evenement-infos-2"><div class="gski-
 evenement-info-inscriptions"><div class="gski-evenement-inscriptions-period
 es">Période d'inscription à l'evènement du samedi 19 novembre 2016 à 01:00 
 au jeudi 24 novembre 2016 à 13:00 <span class="gski-evenement-inscriptions-
 impossibles">(Inscriptions impossibles).</span><div class="gski-evenement-i
 nscriptions-types-titres">Le type de titres Fédéraux autorisé n'est pas déf
 ini. Veuillez contacter l'organisateur et lui signaler le problème.</div></
 div></div><div class="gski-evenement-epreuves"><div class="gski-evenement-e
 preuves-titres">Epreuves :</div><ul class="gski-evenement-epreuves-list"><l
 i><div class="gski-epreuve-date">Le samedi 26 novembre 2016</div><ul class=
 "gski-epreuve-liste-infos"><li>Codex épreuve AMVM0031</li><li>Slalom</li></
 ul></li><li><div class="gski-epreuve-date">Le samedi 26 novembre 2016</div>
 <ul class="gski-epreuve-liste-infos"><li>Codex épreuve AMVF0031</li><li>Sla
 lom</li></ul></li><li><div class="gski-epreuve-date">Le samedi 26 novembre 
 2016</div><ul class="gski-epreuve-liste-infos"><li>Codex épreuve AMVF0032</
 li><li>Slalom</li></ul></li><li><div class="gski-epreuve-date">Le samedi 26
  novembre 2016</div><ul class="gski-epreuve-liste-infos"><li>Codex épreuve 
 AMVM0032</li><li>Slalom</li></ul></li><li><div class="gski-epreuve-date">Le
  samedi 26 novembre 2016</div><ul class="gski-epreuve-liste-infos"><li>Code
 x épreuve AMVM0033</li><li>Slalom</li></ul></li><li><div class="gski-epreuv
 e-date">Le samedi 26 novembre 2016</div><ul class="gski-epreuve-liste-infos
 "><li>Codex épreuve AMVF0033</li><li>Slalom</li></ul></li></ul></div><div c
 lass="gskiepreuves-links"><ul><li><a href="https://skivosges.net/index.php?
 option=com_jevents&task=icalevent.detail&evid=637&Itemid=1703">Voir les inf
 ormations dans l'agenda...</a></li><li><a href="https://skivosges.net/index
 .php?option=com_gskiepreuves&view=afficheresultats&format_option=tous&filte
 r[search]=AMVT0030&filter[date_debut]=26-11-2016&filter[date_fin]=26-11-201
 6&code_activite=ALP&Itemid=1703">Vers les résultats...</a></li></ul></div><
 /div"><!-- #/gskiepreuve fin du dode généré par le plugin jevents pour Gski
 Epreuves. . Ne pas modifier cette ligne, ni tout le contenu précedant.  #/g
 skiepreuve --> <a href="https://skivosges.net/agenda/detailevenement/642/-/
 open-jeunes-coupe-damneville?tmpl=component">Cet évènement a été importé de
 puis :https://skivosges.net/agenda/detailevenement/642/-/open-jeunes-coupe-
 damneville?tmpl=component</a>DTSTAMP:20260421T051411
DTSTART;TZID=Europe/Paris;VALUE=DATE:20161126
DTEND;TZID=Europe/Paris;VALUE=DATE:20161127
SEQUENCE:0
TRANSP:OPAQUE
END:VEVENT
END:VCALENDAR