BEGIN:VCALENDAR
VERSION:2.0
PRODID:-//jEvents 2.0 for Joomla//EN
CALSCALE:GREGORIAN
METHOD:PUBLISH
BEGIN:VTIMEZONE
TZID:Europe/Paris
BEGIN:STANDARD
DTSTART:20151218T000000
RDATE:20160327T030000
TZOFFSETFROM:+0200
TZOFFSETTO:+0100
TZNAME:Europe/Paris CET
END:STANDARD
BEGIN:STANDARD
DTSTART:20161030T020000
RDATE:20170326T030000
TZOFFSETFROM:+0200
TZOFFSETTO:+0100
TZNAME:Europe/Paris CET
END:STANDARD
BEGIN:STANDARD
DTSTART:20171029T020000
RDATE:20180325T030000
TZOFFSETFROM:+0200
TZOFFSETTO:+0100
TZNAME:Europe/Paris CET
END:STANDARD
BEGIN:STANDARD
DTSTART:20181028T020000
RDATE:20190331T030000
TZOFFSETFROM:+0200
TZOFFSETTO:+0100
TZNAME:Europe/Paris CET
END:STANDARD
BEGIN:STANDARD
DTSTART:20191027T020000
RDATE:20200329T030000
TZOFFSETFROM:+0200
TZOFFSETTO:+0100
TZNAME:Europe/Paris CET
END:STANDARD
BEGIN:STANDARD
DTSTART:20201025T020000
RDATE:20210328T030000
TZOFFSETFROM:+0200
TZOFFSETTO:+0100
TZNAME:Europe/Paris CET
END:STANDARD
BEGIN:STANDARD
DTSTART:20211031T020000
RDATE:20220327T030000
TZOFFSETFROM:+0200
TZOFFSETTO:+0100
TZNAME:Europe/Paris CET
END:STANDARD
BEGIN:STANDARD
DTSTART:20221030T020000
RDATE:20230326T030000
TZOFFSETFROM:+0200
TZOFFSETTO:+0100
TZNAME:Europe/Paris CET
END:STANDARD
BEGIN:STANDARD
DTSTART:20231029T020000
RDATE:20240331T030000
TZOFFSETFROM:+0200
TZOFFSETTO:+0100
TZNAME:Europe/Paris CET
END:STANDARD
BEGIN:STANDARD
DTSTART:20241027T020000
RDATE:20250330T030000
TZOFFSETFROM:+0200
TZOFFSETTO:+0100
TZNAME:Europe/Paris CET
END:STANDARD
BEGIN:STANDARD
DTSTART:20251026T020000
RDATE:20260329T030000
TZOFFSETFROM:+0200
TZOFFSETTO:+0100
TZNAME:Europe/Paris CET
END:STANDARD
BEGIN:STANDARD
DTSTART:20261025T020000
RDATE:20270328T030000
TZOFFSETFROM:+0200
TZOFFSETTO:+0100
TZNAME:Europe/Paris CET
END:STANDARD
BEGIN:DAYLIGHT
DTSTART:20160327T030000
RDATE:20161030T020000
TZOFFSETFROM:+0100
TZOFFSETTO:+0200
TZNAME:Europe/Paris CEST
END:DAYLIGHT
BEGIN:DAYLIGHT
DTSTART:20170326T030000
RDATE:20171029T020000
TZOFFSETFROM:+0100
TZOFFSETTO:+0200
TZNAME:Europe/Paris CEST
END:DAYLIGHT
BEGIN:DAYLIGHT
DTSTART:20180325T030000
RDATE:20181028T020000
TZOFFSETFROM:+0100
TZOFFSETTO:+0200
TZNAME:Europe/Paris CEST
END:DAYLIGHT
BEGIN:DAYLIGHT
DTSTART:20190331T030000
RDATE:20191027T020000
TZOFFSETFROM:+0100
TZOFFSETTO:+0200
TZNAME:Europe/Paris CEST
END:DAYLIGHT
BEGIN:DAYLIGHT
DTSTART:20200329T030000
RDATE:20201025T020000
TZOFFSETFROM:+0100
TZOFFSETTO:+0200
TZNAME:Europe/Paris CEST
END:DAYLIGHT
BEGIN:DAYLIGHT
DTSTART:20210328T030000
RDATE:20211031T020000
TZOFFSETFROM:+0100
TZOFFSETTO:+0200
TZNAME:Europe/Paris CEST
END:DAYLIGHT
BEGIN:DAYLIGHT
DTSTART:20220327T030000
RDATE:20221030T020000
TZOFFSETFROM:+0100
TZOFFSETTO:+0200
TZNAME:Europe/Paris CEST
END:DAYLIGHT
BEGIN:DAYLIGHT
DTSTART:20230326T030000
RDATE:20231029T020000
TZOFFSETFROM:+0100
TZOFFSETTO:+0200
TZNAME:Europe/Paris CEST
END:DAYLIGHT
BEGIN:DAYLIGHT
DTSTART:20240331T030000
RDATE:20241027T020000
TZOFFSETFROM:+0100
TZOFFSETTO:+0200
TZNAME:Europe/Paris CEST
END:DAYLIGHT
BEGIN:DAYLIGHT
DTSTART:20250330T030000
RDATE:20251026T020000
TZOFFSETFROM:+0100
TZOFFSETTO:+0200
TZNAME:Europe/Paris CEST
END:DAYLIGHT
BEGIN:DAYLIGHT
DTSTART:20260329T030000
RDATE:20261025T020000
TZOFFSETFROM:+0100
TZOFFSETTO:+0200
TZNAME:Europe/Paris CEST
END:DAYLIGHT
END:VTIMEZONE
BEGIN:VEVENT
UID:2cc9dab037f5eca2c375a785746511ab
CATEGORIES:Opens et Promos (alpin)
CREATED:20161202T134851
SUMMARY:CD2 Coupe WGS CESA Markstein **REPORTE**
URL;VALUE=URI:https://skivosges.net/agenda/detailevenement/651/-/cd2-coupe-wgs-cesa-marks
 tein-reporte?tmpl=component
DESCRIPTION:<!-- #gskiepreuve code généré par le plugin jevents pour GskiEpreuves. Ne p
 as modifier cette ligne, ni tout le contenu suivant  #gskiepreuve --><div c
 lass="gski-evenement_infos"><div class="gski-evenement-nom">CD2 Coupe WGS C
 ESA Markstein</div><div class="gski-evenement-report"> <font class="gskiatt
 ention">(Epreuve reportée, date à determiner)</font></div><ul class="gski-e
 venement-liste-infos"><li>Codex évenement AMVT0080</li><li>Lieu : MARKSTEIN
 </li><li>Station : MARKSTEIN</li><li>Organisateur : 14186 S.C VALLEE DE WES
 SERLING</li><li>Courriel : <!-- Cette adresse électronique est protégée con
 tre les robots spammeurs. --><span class="cloaked_email ep_5d130622"><span 
 data-ep-a="s&#99;&#118;&#119;" data-ep-b="&#109;"><span data-ep-b="&#108;&#
 46;&#99;o" data-ep-a="&#101;&#115;&#115;&#101;"><span data-ep-a="&#114;&#10
 8;i&#110;" data-ep-b="g&#64;&#97;&#111;"></span></span></span></span><scrip
 t>RegularLabs.EmailProtector.unCloak("ep_5d130622");</script></li><li>Télép
 hone : 03 89 82 78 08</li></ul><div class="gski-evenement-infos-2"><div cla
 ss="gski-evenement-info-inscriptions"><div class="gski-evenement-inscriptio
 ns-periodes">Période d'inscription à l'evènement du dimanche 11 décembre 20
 16 à 01:00 au vendredi 16 décembre 2016 à 13:00 <span class="gski-evenement
 -inscriptions-impossibles">(Inscriptions impossibles).</span><div class="gs
 ki-evenement-inscriptions-types-titres">Le type de titres Fédéraux autorisé
  n'est pas défini. Veuillez contacter l'organisateur et lui signaler le pro
 blème.</div></div></div><div class="gski-evenement-epreuves"><div class="gs
 ki-evenement-epreuves-titres">Epreuves :</div><ul class="gski-evenement-epr
 euves-list"><li><div class="gski-epreuve-date">Le dimanche 18 décembre 2016
 </div><ul class="gski-epreuve-liste-infos"><li>Codex épreuve AMVM0081</li><
 li>Slalom</li></ul></li><li><div class="gski-epreuve-date">Le dimanche 18 d
 écembre 2016</div><ul class="gski-epreuve-liste-infos"><li>Codex épreuve AM
 VF0081</li><li>Slalom</li></ul></li></ul></div><div class="gskiepreuves-lin
 ks"><ul><li><a href="/index.php?option=com_jevents&task=icalevent.detail&ev
 id=646&Itemid=1703">Voir les informations dans l'agenda...</a></li></ul></d
 iv></div"><!-- #/gskiepreuve fin du dode généré par le plugin jevents pour 
 GskiEpreuves. . Ne pas modifier cette ligne, ni tout le contenu précedant. 
  #/gskiepreuve --> <a href="https://skivosges.net/agenda/detailevenement/65
 1/-/cd2-coupe-wgs-cesa-markstein-reporte?tmpl=component">Cet évènement a ét
 é importé depuis :https://skivosges.net/agenda/detailevenement/651/-/cd2-co
 upe-wgs-cesa-markstein-reporte?tmpl=component</a>
X-ALT-DESC;FMTTYPE=text/html:<!-- #gskiepreuve code généré par le plugin jevents pour GskiEpreuves. Ne p
 as modifier cette ligne, ni tout le contenu suivant  #gskiepreuve --><div c
 lass="gski-evenement_infos"><div class="gski-evenement-nom">CD2 Coupe WGS C
 ESA Markstein</div><div class="gski-evenement-report"> <font class="gskiatt
 ention">(Epreuve reportée, date à determiner)</font></div><ul class="gski-e
 venement-liste-infos"><li>Codex évenement AMVT0080</li><li>Lieu : MARKSTEIN
 </li><li>Station : MARKSTEIN</li><li>Organisateur : 14186 S.C VALLEE DE WES
 SERLING</li><li>Courriel : <!-- Cette adresse électronique est protégée con
 tre les robots spammeurs. --><span class="cloaked_email ep_5d130622"><span 
 data-ep-a="s&#99;&#118;&#119;" data-ep-b="&#109;"><span data-ep-b="&#108;&#
 46;&#99;o" data-ep-a="&#101;&#115;&#115;&#101;"><span data-ep-a="&#114;&#10
 8;i&#110;" data-ep-b="g&#64;&#97;&#111;"></span></span></span></span><scrip
 t>RegularLabs.EmailProtector.unCloak("ep_5d130622");</script></li><li>Télép
 hone : 03 89 82 78 08</li></ul><div class="gski-evenement-infos-2"><div cla
 ss="gski-evenement-info-inscriptions"><div class="gski-evenement-inscriptio
 ns-periodes">Période d'inscription à l'evènement du dimanche 11 décembre 20
 16 à 01:00 au vendredi 16 décembre 2016 à 13:00 <span class="gski-evenement
 -inscriptions-impossibles">(Inscriptions impossibles).</span><div class="gs
 ki-evenement-inscriptions-types-titres">Le type de titres Fédéraux autorisé
  n'est pas défini. Veuillez contacter l'organisateur et lui signaler le pro
 blème.</div></div></div><div class="gski-evenement-epreuves"><div class="gs
 ki-evenement-epreuves-titres">Epreuves :</div><ul class="gski-evenement-epr
 euves-list"><li><div class="gski-epreuve-date">Le dimanche 18 décembre 2016
 </div><ul class="gski-epreuve-liste-infos"><li>Codex épreuve AMVM0081</li><
 li>Slalom</li></ul></li><li><div class="gski-epreuve-date">Le dimanche 18 d
 écembre 2016</div><ul class="gski-epreuve-liste-infos"><li>Codex épreuve AM
 VF0081</li><li>Slalom</li></ul></li></ul></div><div class="gskiepreuves-lin
 ks"><ul><li><a href="https://skivosges.net/index.php?option=com_jevents&tas
 k=icalevent.detail&evid=646&Itemid=1703">Voir les informations dans l'agend
 a...</a></li></ul></div></div"><!-- #/gskiepreuve fin du dode généré par le
  plugin jevents pour GskiEpreuves. . Ne pas modifier cette ligne, ni tout l
 e contenu précedant.  #/gskiepreuve --> <a href="https://skivosges.net/agen
 da/detailevenement/651/-/cd2-coupe-wgs-cesa-markstein-reporte?tmpl=componen
 t">Cet évènement a été importé depuis :https://skivosges.net/agenda/detaile
 venement/651/-/cd2-coupe-wgs-cesa-markstein-reporte?tmpl=component</a>DTSTAMP:20260421T051409
DTSTART;TZID=Europe/Paris;VALUE=DATE:20161218
DTEND;TZID=Europe/Paris;VALUE=DATE:20161219
SEQUENCE:0
TRANSP:OPAQUE
END:VEVENT
END:VCALENDAR