BEGIN:VCALENDAR
VERSION:2.0
PRODID:-//jEvents 2.0 for Joomla//EN
CALSCALE:GREGORIAN
METHOD:PUBLISH
BEGIN:VTIMEZONE
TZID:Europe/Paris
BEGIN:STANDARD
DTSTART:20160124T000000
RDATE:20160327T030000
TZOFFSETFROM:+0200
TZOFFSETTO:+0100
TZNAME:Europe/Paris CET
END:STANDARD
BEGIN:STANDARD
DTSTART:20161030T020000
RDATE:20170326T030000
TZOFFSETFROM:+0200
TZOFFSETTO:+0100
TZNAME:Europe/Paris CET
END:STANDARD
BEGIN:STANDARD
DTSTART:20171029T020000
RDATE:20180325T030000
TZOFFSETFROM:+0200
TZOFFSETTO:+0100
TZNAME:Europe/Paris CET
END:STANDARD
BEGIN:STANDARD
DTSTART:20181028T020000
RDATE:20190331T030000
TZOFFSETFROM:+0200
TZOFFSETTO:+0100
TZNAME:Europe/Paris CET
END:STANDARD
BEGIN:STANDARD
DTSTART:20191027T020000
RDATE:20200329T030000
TZOFFSETFROM:+0200
TZOFFSETTO:+0100
TZNAME:Europe/Paris CET
END:STANDARD
BEGIN:STANDARD
DTSTART:20201025T020000
RDATE:20210328T030000
TZOFFSETFROM:+0200
TZOFFSETTO:+0100
TZNAME:Europe/Paris CET
END:STANDARD
BEGIN:STANDARD
DTSTART:20211031T020000
RDATE:20220327T030000
TZOFFSETFROM:+0200
TZOFFSETTO:+0100
TZNAME:Europe/Paris CET
END:STANDARD
BEGIN:STANDARD
DTSTART:20221030T020000
RDATE:20230326T030000
TZOFFSETFROM:+0200
TZOFFSETTO:+0100
TZNAME:Europe/Paris CET
END:STANDARD
BEGIN:STANDARD
DTSTART:20231029T020000
RDATE:20240331T030000
TZOFFSETFROM:+0200
TZOFFSETTO:+0100
TZNAME:Europe/Paris CET
END:STANDARD
BEGIN:STANDARD
DTSTART:20241027T020000
RDATE:20250330T030000
TZOFFSETFROM:+0200
TZOFFSETTO:+0100
TZNAME:Europe/Paris CET
END:STANDARD
BEGIN:STANDARD
DTSTART:20251026T020000
RDATE:20260329T030000
TZOFFSETFROM:+0200
TZOFFSETTO:+0100
TZNAME:Europe/Paris CET
END:STANDARD
BEGIN:STANDARD
DTSTART:20261025T020000
RDATE:20270328T030000
TZOFFSETFROM:+0200
TZOFFSETTO:+0100
TZNAME:Europe/Paris CET
END:STANDARD
BEGIN:DAYLIGHT
DTSTART:20160327T030000
RDATE:20161030T020000
TZOFFSETFROM:+0100
TZOFFSETTO:+0200
TZNAME:Europe/Paris CEST
END:DAYLIGHT
BEGIN:DAYLIGHT
DTSTART:20170326T030000
RDATE:20171029T020000
TZOFFSETFROM:+0100
TZOFFSETTO:+0200
TZNAME:Europe/Paris CEST
END:DAYLIGHT
BEGIN:DAYLIGHT
DTSTART:20180325T030000
RDATE:20181028T020000
TZOFFSETFROM:+0100
TZOFFSETTO:+0200
TZNAME:Europe/Paris CEST
END:DAYLIGHT
BEGIN:DAYLIGHT
DTSTART:20190331T030000
RDATE:20191027T020000
TZOFFSETFROM:+0100
TZOFFSETTO:+0200
TZNAME:Europe/Paris CEST
END:DAYLIGHT
BEGIN:DAYLIGHT
DTSTART:20200329T030000
RDATE:20201025T020000
TZOFFSETFROM:+0100
TZOFFSETTO:+0200
TZNAME:Europe/Paris CEST
END:DAYLIGHT
BEGIN:DAYLIGHT
DTSTART:20210328T030000
RDATE:20211031T020000
TZOFFSETFROM:+0100
TZOFFSETTO:+0200
TZNAME:Europe/Paris CEST
END:DAYLIGHT
BEGIN:DAYLIGHT
DTSTART:20220327T030000
RDATE:20221030T020000
TZOFFSETFROM:+0100
TZOFFSETTO:+0200
TZNAME:Europe/Paris CEST
END:DAYLIGHT
BEGIN:DAYLIGHT
DTSTART:20230326T030000
RDATE:20231029T020000
TZOFFSETFROM:+0100
TZOFFSETTO:+0200
TZNAME:Europe/Paris CEST
END:DAYLIGHT
BEGIN:DAYLIGHT
DTSTART:20240331T030000
RDATE:20241027T020000
TZOFFSETFROM:+0100
TZOFFSETTO:+0200
TZNAME:Europe/Paris CEST
END:DAYLIGHT
BEGIN:DAYLIGHT
DTSTART:20250330T030000
RDATE:20251026T020000
TZOFFSETFROM:+0100
TZOFFSETTO:+0200
TZNAME:Europe/Paris CEST
END:DAYLIGHT
BEGIN:DAYLIGHT
DTSTART:20260329T030000
RDATE:20261025T020000
TZOFFSETFROM:+0100
TZOFFSETTO:+0200
TZNAME:Europe/Paris CEST
END:DAYLIGHT
END:VTIMEZONE
BEGIN:VEVENT
UID:bd10209f8001b6254a716db626cd04b4
CATEGORIES:Compétition Ski Alpin
CREATED:20161202T134851
SUMMARY:Ski Chrono National Tour Technique Markstein - gerardmer
URL;VALUE=URI:https://skivosges.net/agenda/detailevenement/686/-/ski-chrono-national-tour
 -technique-markstein-gerardmer?tmpl=component
DESCRIPTION:<!-- #gskiepreuve code généré par le plugin jevents pour GskiEpreuves. Ne p
 as modifier cette ligne, ni tout le contenu suivant  #gskiepreuve --><div c
 lass="gski-evenement_infos"><div class="gski-evenement-nom">Ski Chrono Nati
 onal Tour Technique Markstein - gerardmer</div><div class="gski-evenement-r
 eport"></div><ul class="gski-evenement-liste-infos"><li>Codex évenement ---
 -</li><li>Organisateur : 14053 S.C MARKSTEIN RANSPACH</li><li>Courriel : <!
 -- Cette adresse électronique est protégée contre les robots spammeurs. -->
 <span class="cloaked_email ep_d7ed3d1f"><span data-ep-b="" data-ep-a="&#105
 ;&#115;&#97;&#107;"><span data-ep-b="e&#46;fr" data-ep-a="&#101;ssl"><span 
 data-ep-a="&#101;&#114;&#64;&#111;" data-ep-b="&#114;an&#103;"></span></spa
 n></span></span><script>RegularLabs.EmailProtector.unCloak("ep_d7ed3d1f");<
 /script></li><li>Téléphone : 33(389) 82 72 6</li></ul><div class="gski-even
 ement-infos-2"><div class="gski-evenement-info-inscriptions"><div class="gs
 ki-evenement-inscriptions-periodes">Période d'inscription à l'evènement du 
 mardi 17 janvier 2017 à 01:00 au dimanche 22 janvier 2017 à 13:00 <span cla
 ss="gski-evenement-inscriptions-impossibles">(Inscriptions impossibles).</s
 pan><div class="gski-evenement-inscriptions-types-titres">Le type de titres
  Fédéraux autorisé n'est pas défini. Veuillez contacter l'organisateur et l
 ui signaler le problème.</div></div></div><div class="gski-evenement-epreuv
 es"><div class="gski-evenement-epreuves-titres">Epreuves :</div><ul class="
 gski-evenement-epreuves-list"><li><div class="gski-epreuve-date">Le mardi 2
 4 janvier 2017</div><ul class="gski-epreuve-liste-infos"><li>Codex épreuve 
 6578</li><li>Slalom Geant</li></ul></li><li><div class="gski-epreuve-date">
 Le mercredi 25 janvier 2017</div><ul class="gski-epreuve-liste-infos"><li>C
 odex épreuve 6579</li><li>Slalom Geant</li></ul></li><li><div class="gski-e
 preuve-date">Le jeudi 26 janvier 2017</div><ul class="gski-epreuve-liste-in
 fos"><li>Codex épreuve 6580</li><li>Slalom</li></ul></li><li><div class="gs
 ki-epreuve-date">Le vendredi 27 janvier 2017</div><ul class="gski-epreuve-l
 iste-infos"><li>Codex épreuve 6581</li><li>Slalom</li></ul></li></ul></div>
 <div class="gskiepreuves-links"><ul><li><a href="/index.php?option=com_jeve
 nts&task=icalevent.detail&evid=681&Itemid=1703">Voir les informations dans 
 l'agenda...</a></li></ul></div></div"><!-- #/gskiepreuve fin du dode généré
  par le plugin jevents pour GskiEpreuves. . Ne pas modifier cette ligne, ni
  tout le contenu précedant.  #/gskiepreuve --> <a href="https://skivosges.n
 et/agenda/detailevenement/686/-/ski-chrono-national-tour-technique-markstei
 n-gerardmer?tmpl=component">Cet évènement a été importé depuis :https://ski
 vosges.net/agenda/detailevenement/686/-/ski-chrono-national-tour-technique-
 markstein-gerardmer?tmpl=component</a>
X-ALT-DESC;FMTTYPE=text/html:<!-- #gskiepreuve code généré par le plugin jevents pour GskiEpreuves. Ne p
 as modifier cette ligne, ni tout le contenu suivant  #gskiepreuve --><div c
 lass="gski-evenement_infos"><div class="gski-evenement-nom">Ski Chrono Nati
 onal Tour Technique Markstein - gerardmer</div><div class="gski-evenement-r
 eport"></div><ul class="gski-evenement-liste-infos"><li>Codex évenement ---
 -</li><li>Organisateur : 14053 S.C MARKSTEIN RANSPACH</li><li>Courriel : <!
 -- Cette adresse électronique est protégée contre les robots spammeurs. -->
 <span class="cloaked_email ep_d7ed3d1f"><span data-ep-b="" data-ep-a="&#105
 ;&#115;&#97;&#107;"><span data-ep-b="e&#46;fr" data-ep-a="&#101;ssl"><span 
 data-ep-a="&#101;&#114;&#64;&#111;" data-ep-b="&#114;an&#103;"></span></spa
 n></span></span><script>RegularLabs.EmailProtector.unCloak("ep_d7ed3d1f");<
 /script></li><li>Téléphone : 33(389) 82 72 6</li></ul><div class="gski-even
 ement-infos-2"><div class="gski-evenement-info-inscriptions"><div class="gs
 ki-evenement-inscriptions-periodes">Période d'inscription à l'evènement du 
 mardi 17 janvier 2017 à 01:00 au dimanche 22 janvier 2017 à 13:00 <span cla
 ss="gski-evenement-inscriptions-impossibles">(Inscriptions impossibles).</s
 pan><div class="gski-evenement-inscriptions-types-titres">Le type de titres
  Fédéraux autorisé n'est pas défini. Veuillez contacter l'organisateur et l
 ui signaler le problème.</div></div></div><div class="gski-evenement-epreuv
 es"><div class="gski-evenement-epreuves-titres">Epreuves :</div><ul class="
 gski-evenement-epreuves-list"><li><div class="gski-epreuve-date">Le mardi 2
 4 janvier 2017</div><ul class="gski-epreuve-liste-infos"><li>Codex épreuve 
 6578</li><li>Slalom Geant</li></ul></li><li><div class="gski-epreuve-date">
 Le mercredi 25 janvier 2017</div><ul class="gski-epreuve-liste-infos"><li>C
 odex épreuve 6579</li><li>Slalom Geant</li></ul></li><li><div class="gski-e
 preuve-date">Le jeudi 26 janvier 2017</div><ul class="gski-epreuve-liste-in
 fos"><li>Codex épreuve 6580</li><li>Slalom</li></ul></li><li><div class="gs
 ki-epreuve-date">Le vendredi 27 janvier 2017</div><ul class="gski-epreuve-l
 iste-infos"><li>Codex épreuve 6581</li><li>Slalom</li></ul></li></ul></div>
 <div class="gskiepreuves-links"><ul><li><a href="https://skivosges.net/inde
 x.php?option=com_jevents&task=icalevent.detail&evid=681&Itemid=1703">Voir l
 es informations dans l'agenda...</a></li></ul></div></div"><!-- #/gskiepreu
 ve fin du dode généré par le plugin jevents pour GskiEpreuves. . Ne pas mod
 ifier cette ligne, ni tout le contenu précedant.  #/gskiepreuve --> <a href
 ="https://skivosges.net/agenda/detailevenement/686/-/ski-chrono-national-to
 ur-technique-markstein-gerardmer?tmpl=component">Cet évènement a été import
 é depuis :https://skivosges.net/agenda/detailevenement/686/-/ski-chrono-nat
 ional-tour-technique-markstein-gerardmer?tmpl=component</a>DTSTAMP:20260421T051320
DTSTART;TZID=Europe/Paris;VALUE=DATE:20170124
DTEND;TZID=Europe/Paris;VALUE=DATE:20170128
SEQUENCE:0
TRANSP:OPAQUE
END:VEVENT
END:VCALENDAR