BEGIN:VCALENDAR
VERSION:2.0
PRODID:-//jEvents 2.0 for Joomla//EN
CALSCALE:GREGORIAN
METHOD:PUBLISH
BEGIN:VTIMEZONE
TZID:Europe/Paris
BEGIN:STANDARD
DTSTART:20160226T000000
RDATE:20160327T030000
TZOFFSETFROM:+0200
TZOFFSETTO:+0100
TZNAME:Europe/Paris CET
END:STANDARD
BEGIN:STANDARD
DTSTART:20161030T020000
RDATE:20170326T030000
TZOFFSETFROM:+0200
TZOFFSETTO:+0100
TZNAME:Europe/Paris CET
END:STANDARD
BEGIN:STANDARD
DTSTART:20171029T020000
RDATE:20180325T030000
TZOFFSETFROM:+0200
TZOFFSETTO:+0100
TZNAME:Europe/Paris CET
END:STANDARD
BEGIN:STANDARD
DTSTART:20181028T020000
RDATE:20190331T030000
TZOFFSETFROM:+0200
TZOFFSETTO:+0100
TZNAME:Europe/Paris CET
END:STANDARD
BEGIN:STANDARD
DTSTART:20191027T020000
RDATE:20200329T030000
TZOFFSETFROM:+0200
TZOFFSETTO:+0100
TZNAME:Europe/Paris CET
END:STANDARD
BEGIN:STANDARD
DTSTART:20201025T020000
RDATE:20210328T030000
TZOFFSETFROM:+0200
TZOFFSETTO:+0100
TZNAME:Europe/Paris CET
END:STANDARD
BEGIN:STANDARD
DTSTART:20211031T020000
RDATE:20220327T030000
TZOFFSETFROM:+0200
TZOFFSETTO:+0100
TZNAME:Europe/Paris CET
END:STANDARD
BEGIN:STANDARD
DTSTART:20221030T020000
RDATE:20230326T030000
TZOFFSETFROM:+0200
TZOFFSETTO:+0100
TZNAME:Europe/Paris CET
END:STANDARD
BEGIN:STANDARD
DTSTART:20231029T020000
RDATE:20240331T030000
TZOFFSETFROM:+0200
TZOFFSETTO:+0100
TZNAME:Europe/Paris CET
END:STANDARD
BEGIN:STANDARD
DTSTART:20241027T020000
RDATE:20250330T030000
TZOFFSETFROM:+0200
TZOFFSETTO:+0100
TZNAME:Europe/Paris CET
END:STANDARD
BEGIN:STANDARD
DTSTART:20251026T020000
RDATE:20260329T030000
TZOFFSETFROM:+0200
TZOFFSETTO:+0100
TZNAME:Europe/Paris CET
END:STANDARD
BEGIN:STANDARD
DTSTART:20261025T020000
RDATE:20270328T030000
TZOFFSETFROM:+0200
TZOFFSETTO:+0100
TZNAME:Europe/Paris CET
END:STANDARD
BEGIN:DAYLIGHT
DTSTART:20160327T030000
RDATE:20161030T020000
TZOFFSETFROM:+0100
TZOFFSETTO:+0200
TZNAME:Europe/Paris CEST
END:DAYLIGHT
BEGIN:DAYLIGHT
DTSTART:20170326T030000
RDATE:20171029T020000
TZOFFSETFROM:+0100
TZOFFSETTO:+0200
TZNAME:Europe/Paris CEST
END:DAYLIGHT
BEGIN:DAYLIGHT
DTSTART:20180325T030000
RDATE:20181028T020000
TZOFFSETFROM:+0100
TZOFFSETTO:+0200
TZNAME:Europe/Paris CEST
END:DAYLIGHT
BEGIN:DAYLIGHT
DTSTART:20190331T030000
RDATE:20191027T020000
TZOFFSETFROM:+0100
TZOFFSETTO:+0200
TZNAME:Europe/Paris CEST
END:DAYLIGHT
BEGIN:DAYLIGHT
DTSTART:20200329T030000
RDATE:20201025T020000
TZOFFSETFROM:+0100
TZOFFSETTO:+0200
TZNAME:Europe/Paris CEST
END:DAYLIGHT
BEGIN:DAYLIGHT
DTSTART:20210328T030000
RDATE:20211031T020000
TZOFFSETFROM:+0100
TZOFFSETTO:+0200
TZNAME:Europe/Paris CEST
END:DAYLIGHT
BEGIN:DAYLIGHT
DTSTART:20220327T030000
RDATE:20221030T020000
TZOFFSETFROM:+0100
TZOFFSETTO:+0200
TZNAME:Europe/Paris CEST
END:DAYLIGHT
BEGIN:DAYLIGHT
DTSTART:20230326T030000
RDATE:20231029T020000
TZOFFSETFROM:+0100
TZOFFSETTO:+0200
TZNAME:Europe/Paris CEST
END:DAYLIGHT
BEGIN:DAYLIGHT
DTSTART:20240331T030000
RDATE:20241027T020000
TZOFFSETFROM:+0100
TZOFFSETTO:+0200
TZNAME:Europe/Paris CEST
END:DAYLIGHT
BEGIN:DAYLIGHT
DTSTART:20250330T030000
RDATE:20251026T020000
TZOFFSETFROM:+0100
TZOFFSETTO:+0200
TZNAME:Europe/Paris CEST
END:DAYLIGHT
BEGIN:DAYLIGHT
DTSTART:20260329T030000
RDATE:20261025T020000
TZOFFSETFROM:+0100
TZOFFSETTO:+0200
TZNAME:Europe/Paris CEST
END:DAYLIGHT
END:VTIMEZONE
BEGIN:VEVENT
UID:1c8fb0879a9e729e552ff068daf6a7ff
CATEGORIES:Compétition Ski de Fond
CREATED:20161202T134851
SUMMARY:Trace Vosgienne BigMat Atomic n°6
URL;VALUE=URI:https://skivosges.net/agenda/detailevenement/733/-/trace-vosgienne-bigmat-a
 tomic-n-6?tmpl=component
DESCRIPTION:<!-- #gskiepreuve code généré par le plugin jevents pour GskiEpreuves. Ne p
 as modifier cette ligne, ni tout le contenu suivant  #gskiepreuve --><div c
 lass="gski-evenement_infos"><div class="gski-evenement-nom">Trace Vosgienne
  BigMat Atomic n°6</div><div class="gski-evenement-report"></div><ul class=
 "gski-evenement-liste-infos"><li>Codex évenement FMVT0180</li><li>Organisat
 eur : 14024 LA BRESSAUDE SECTION SKI</li></ul><div class="gski-evenement-in
 fos-2"><div class="gski-evenement-info-inscriptions"><div class="gski-evene
 ment-inscriptions-periodes">Période d'inscription à l'evènement du dimanche
  19 février 2017 à 01:00 au vendredi 24 février 2017 à 13:00 <span class="g
 ski-evenement-inscriptions-impossibles">(Inscriptions impossibles).</span><
 div class="gski-evenement-inscriptions-types-titres">Le type de titres Fédé
 raux autorisé n'est pas défini. Veuillez contacter l'organisateur et lui si
 gnaler le problème.</div></div></div><div class="gski-evenement-epreuves"><
 div class="gski-evenement-epreuves-titres">Epreuves :</div><ul class="gski-
 evenement-epreuves-list"><li><div class="gski-epreuve-date">Le dimanche 26 
 février 2017</div><ul class="gski-epreuve-liste-infos"><li>Codex épreuve FM
 VF0181</li><li>Mass Start (Depart ligne)</li></ul></li><li><div class="gski
 -epreuve-date">Le dimanche 26 février 2017</div><ul class="gski-epreuve-lis
 te-infos"><li>Codex épreuve FMVF0182</li><li>Mass Start (Depart ligne)</li>
 </ul></li><li><div class="gski-epreuve-date">Le dimanche 26 février 2017</d
 iv><ul class="gski-epreuve-liste-infos"><li>Codex épreuve FMVF0183</li><li>
 Mass Start (Depart ligne)</li></ul></li><li><div class="gski-epreuve-date">
 Le dimanche 26 février 2017</div><ul class="gski-epreuve-liste-infos"><li>C
 odex épreuve FMVF0184</li><li>Mass Start (Depart ligne)</li></ul></li><li><
 div class="gski-epreuve-date">Le dimanche 26 février 2017</div><ul class="g
 ski-epreuve-liste-infos"><li>Codex épreuve FMVM0181</li><li>Mass Start (Dep
 art ligne)</li></ul></li><li><div class="gski-epreuve-date">Le dimanche 26 
 février 2017</div><ul class="gski-epreuve-liste-infos"><li>Codex épreuve FM
 VM0182</li><li>Mass Start (Depart ligne)</li></ul></li><li><div class="gski
 -epreuve-date">Le dimanche 26 février 2017</div><ul class="gski-epreuve-lis
 te-infos"><li>Codex épreuve FMVM0183</li><li>Mass Start (Depart ligne)</li>
 </ul></li><li><div class="gski-epreuve-date">Le dimanche 26 février 2017</d
 iv><ul class="gski-epreuve-liste-infos"><li>Codex épreuve FMVM0184</li><li>
 Mass Start (Depart ligne)</li></ul></li></ul></div><div class="gskiepreuves
 -links"><ul><li><a href="/index.php?option=com_jevents&task=icalevent.detai
 l&evid=728&Itemid=1703">Voir les informations dans l'agenda...</a></li><li>
 <a href="/index.php?option=com_gskiepreuves&view=afficheresultats&format_op
 tion=tous&filter[search]=FMVT0180&filter[date_debut]=26-02-2017&filter[date
 _fin]=26-02-2017&code_activite=FOND&Itemid=1703">Vers les résultats...</a><
 /li></ul></div></div"><!-- #/gskiepreuve fin du dode généré par le plugin j
 events pour GskiEpreuves. . Ne pas modifier cette ligne, ni tout le contenu
  précedant.  #/gskiepreuve --> <a href="https://skivosges.net/agenda/detail
 evenement/733/-/trace-vosgienne-bigmat-atomic-n-6?tmpl=component">Cet évène
 ment a été importé depuis :https://skivosges.net/agenda/detailevenement/733
 /-/trace-vosgienne-bigmat-atomic-n-6?tmpl=component</a>
X-ALT-DESC;FMTTYPE=text/html:<!-- #gskiepreuve code généré par le plugin jevents pour GskiEpreuves. Ne p
 as modifier cette ligne, ni tout le contenu suivant  #gskiepreuve --><div c
 lass="gski-evenement_infos"><div class="gski-evenement-nom">Trace Vosgienne
  BigMat Atomic n°6</div><div class="gski-evenement-report"></div><ul class=
 "gski-evenement-liste-infos"><li>Codex évenement FMVT0180</li><li>Organisat
 eur : 14024 LA BRESSAUDE SECTION SKI</li></ul><div class="gski-evenement-in
 fos-2"><div class="gski-evenement-info-inscriptions"><div class="gski-evene
 ment-inscriptions-periodes">Période d'inscription à l'evènement du dimanche
  19 février 2017 à 01:00 au vendredi 24 février 2017 à 13:00 <span class="g
 ski-evenement-inscriptions-impossibles">(Inscriptions impossibles).</span><
 div class="gski-evenement-inscriptions-types-titres">Le type de titres Fédé
 raux autorisé n'est pas défini. Veuillez contacter l'organisateur et lui si
 gnaler le problème.</div></div></div><div class="gski-evenement-epreuves"><
 div class="gski-evenement-epreuves-titres">Epreuves :</div><ul class="gski-
 evenement-epreuves-list"><li><div class="gski-epreuve-date">Le dimanche 26 
 février 2017</div><ul class="gski-epreuve-liste-infos"><li>Codex épreuve FM
 VF0181</li><li>Mass Start (Depart ligne)</li></ul></li><li><div class="gski
 -epreuve-date">Le dimanche 26 février 2017</div><ul class="gski-epreuve-lis
 te-infos"><li>Codex épreuve FMVF0182</li><li>Mass Start (Depart ligne)</li>
 </ul></li><li><div class="gski-epreuve-date">Le dimanche 26 février 2017</d
 iv><ul class="gski-epreuve-liste-infos"><li>Codex épreuve FMVF0183</li><li>
 Mass Start (Depart ligne)</li></ul></li><li><div class="gski-epreuve-date">
 Le dimanche 26 février 2017</div><ul class="gski-epreuve-liste-infos"><li>C
 odex épreuve FMVF0184</li><li>Mass Start (Depart ligne)</li></ul></li><li><
 div class="gski-epreuve-date">Le dimanche 26 février 2017</div><ul class="g
 ski-epreuve-liste-infos"><li>Codex épreuve FMVM0181</li><li>Mass Start (Dep
 art ligne)</li></ul></li><li><div class="gski-epreuve-date">Le dimanche 26 
 février 2017</div><ul class="gski-epreuve-liste-infos"><li>Codex épreuve FM
 VM0182</li><li>Mass Start (Depart ligne)</li></ul></li><li><div class="gski
 -epreuve-date">Le dimanche 26 février 2017</div><ul class="gski-epreuve-lis
 te-infos"><li>Codex épreuve FMVM0183</li><li>Mass Start (Depart ligne)</li>
 </ul></li><li><div class="gski-epreuve-date">Le dimanche 26 février 2017</d
 iv><ul class="gski-epreuve-liste-infos"><li>Codex épreuve FMVM0184</li><li>
 Mass Start (Depart ligne)</li></ul></li></ul></div><div class="gskiepreuves
 -links"><ul><li><a href="https://skivosges.net/index.php?option=com_jevents
 &task=icalevent.detail&evid=728&Itemid=1703">Voir les informations dans l'a
 genda...</a></li><li><a href="https://skivosges.net/index.php?option=com_gs
 kiepreuves&view=afficheresultats&format_option=tous&filter[search]=FMVT0180
 &filter[date_debut]=26-02-2017&filter[date_fin]=26-02-2017&code_activite=FO
 ND&Itemid=1703">Vers les résultats...</a></li></ul></div></div"><!-- #/gski
 epreuve fin du dode généré par le plugin jevents pour GskiEpreuves. . Ne pa
 s modifier cette ligne, ni tout le contenu précedant.  #/gskiepreuve --> <a
  href="https://skivosges.net/agenda/detailevenement/733/-/trace-vosgienne-b
 igmat-atomic-n-6?tmpl=component">Cet évènement a été importé depuis :https:
 //skivosges.net/agenda/detailevenement/733/-/trace-vosgienne-bigmat-atomic-
 n-6?tmpl=component</a>DTSTAMP:20260421T051418
DTSTART;TZID=Europe/Paris;VALUE=DATE:20170226
DTEND;TZID=Europe/Paris;VALUE=DATE:20170227
SEQUENCE:0
TRANSP:OPAQUE
END:VEVENT
END:VCALENDAR