BEGIN:VCALENDAR
VERSION:2.0
PRODID:-//jEvents 2.0 for Joomla//EN
CALSCALE:GREGORIAN
METHOD:PUBLISH
BEGIN:VTIMEZONE
TZID:Europe/Paris
BEGIN:STANDARD
DTSTART:20160226T000000
RDATE:20160327T030000
TZOFFSETFROM:+0200
TZOFFSETTO:+0100
TZNAME:Europe/Paris CET
END:STANDARD
BEGIN:STANDARD
DTSTART:20161030T020000
RDATE:20170326T030000
TZOFFSETFROM:+0200
TZOFFSETTO:+0100
TZNAME:Europe/Paris CET
END:STANDARD
BEGIN:STANDARD
DTSTART:20171029T020000
RDATE:20180325T030000
TZOFFSETFROM:+0200
TZOFFSETTO:+0100
TZNAME:Europe/Paris CET
END:STANDARD
BEGIN:STANDARD
DTSTART:20181028T020000
RDATE:20190331T030000
TZOFFSETFROM:+0200
TZOFFSETTO:+0100
TZNAME:Europe/Paris CET
END:STANDARD
BEGIN:STANDARD
DTSTART:20191027T020000
RDATE:20200329T030000
TZOFFSETFROM:+0200
TZOFFSETTO:+0100
TZNAME:Europe/Paris CET
END:STANDARD
BEGIN:STANDARD
DTSTART:20201025T020000
RDATE:20210328T030000
TZOFFSETFROM:+0200
TZOFFSETTO:+0100
TZNAME:Europe/Paris CET
END:STANDARD
BEGIN:STANDARD
DTSTART:20211031T020000
RDATE:20220327T030000
TZOFFSETFROM:+0200
TZOFFSETTO:+0100
TZNAME:Europe/Paris CET
END:STANDARD
BEGIN:STANDARD
DTSTART:20221030T020000
RDATE:20230326T030000
TZOFFSETFROM:+0200
TZOFFSETTO:+0100
TZNAME:Europe/Paris CET
END:STANDARD
BEGIN:STANDARD
DTSTART:20231029T020000
RDATE:20240331T030000
TZOFFSETFROM:+0200
TZOFFSETTO:+0100
TZNAME:Europe/Paris CET
END:STANDARD
BEGIN:STANDARD
DTSTART:20241027T020000
RDATE:20250330T030000
TZOFFSETFROM:+0200
TZOFFSETTO:+0100
TZNAME:Europe/Paris CET
END:STANDARD
BEGIN:STANDARD
DTSTART:20251026T020000
RDATE:20260329T030000
TZOFFSETFROM:+0200
TZOFFSETTO:+0100
TZNAME:Europe/Paris CET
END:STANDARD
BEGIN:STANDARD
DTSTART:20261025T020000
RDATE:20270328T030000
TZOFFSETFROM:+0200
TZOFFSETTO:+0100
TZNAME:Europe/Paris CET
END:STANDARD
BEGIN:DAYLIGHT
DTSTART:20160327T030000
RDATE:20161030T020000
TZOFFSETFROM:+0100
TZOFFSETTO:+0200
TZNAME:Europe/Paris CEST
END:DAYLIGHT
BEGIN:DAYLIGHT
DTSTART:20170326T030000
RDATE:20171029T020000
TZOFFSETFROM:+0100
TZOFFSETTO:+0200
TZNAME:Europe/Paris CEST
END:DAYLIGHT
BEGIN:DAYLIGHT
DTSTART:20180325T030000
RDATE:20181028T020000
TZOFFSETFROM:+0100
TZOFFSETTO:+0200
TZNAME:Europe/Paris CEST
END:DAYLIGHT
BEGIN:DAYLIGHT
DTSTART:20190331T030000
RDATE:20191027T020000
TZOFFSETFROM:+0100
TZOFFSETTO:+0200
TZNAME:Europe/Paris CEST
END:DAYLIGHT
BEGIN:DAYLIGHT
DTSTART:20200329T030000
RDATE:20201025T020000
TZOFFSETFROM:+0100
TZOFFSETTO:+0200
TZNAME:Europe/Paris CEST
END:DAYLIGHT
BEGIN:DAYLIGHT
DTSTART:20210328T030000
RDATE:20211031T020000
TZOFFSETFROM:+0100
TZOFFSETTO:+0200
TZNAME:Europe/Paris CEST
END:DAYLIGHT
BEGIN:DAYLIGHT
DTSTART:20220327T030000
RDATE:20221030T020000
TZOFFSETFROM:+0100
TZOFFSETTO:+0200
TZNAME:Europe/Paris CEST
END:DAYLIGHT
BEGIN:DAYLIGHT
DTSTART:20230326T030000
RDATE:20231029T020000
TZOFFSETFROM:+0100
TZOFFSETTO:+0200
TZNAME:Europe/Paris CEST
END:DAYLIGHT
BEGIN:DAYLIGHT
DTSTART:20240331T030000
RDATE:20241027T020000
TZOFFSETFROM:+0100
TZOFFSETTO:+0200
TZNAME:Europe/Paris CEST
END:DAYLIGHT
BEGIN:DAYLIGHT
DTSTART:20250330T030000
RDATE:20251026T020000
TZOFFSETFROM:+0100
TZOFFSETTO:+0200
TZNAME:Europe/Paris CEST
END:DAYLIGHT
BEGIN:DAYLIGHT
DTSTART:20260329T030000
RDATE:20261025T020000
TZOFFSETFROM:+0100
TZOFFSETTO:+0200
TZNAME:Europe/Paris CEST
END:DAYLIGHT
END:VTIMEZONE
BEGIN:VEVENT
UID:1aa807230b3a624a360b334b0d5dd778
CATEGORIES:Compétition Ski de Fond
CREATED:20161202T134851
SUMMARY:Promo Foyer Massif
URL;VALUE=URI:https://skivosges.net/agenda/detailevenement/734/-/promo-foyer-massif?tmpl=
 component
DESCRIPTION:<!-- #gskiepreuve code généré par le plugin jevents pour GskiEpreuves. Ne p
 as modifier cette ligne, ni tout le contenu suivant  #gskiepreuve --><div c
 lass="gski-evenement_infos"><div class="gski-evenement-nom">Promo Foyer Mas
 sif</div><div class="gski-evenement-report"></div><ul class="gski-evenement
 -liste-infos"><li>Codex évenement FMVT0190</li><li>Organisateur : 14329 CLU
 B VOSGIEN VAGNEY ROCHESSON</li></ul><div class="gski-evenement-infos-2"><di
 v class="gski-evenement-info-inscriptions"><div class="gski-evenement-inscr
 iptions-periodes">Période d'inscription à l'evènement du dimanche 19 févrie
 r 2017 à 01:00 au vendredi 24 février 2017 à 13:00 <span class="gski-evenem
 ent-inscriptions-impossibles">(Inscriptions impossibles).</span><div class=
 "gski-evenement-inscriptions-types-titres">Le type de titres Fédéraux autor
 isé n'est pas défini. Veuillez contacter l'organisateur et lui signaler le 
 problème.</div></div></div><div class="gski-evenement-epreuves"><div class=
 "gski-evenement-epreuves-titres">Epreuves :</div><ul class="gski-evenement-
 epreuves-list"><li><div class="gski-epreuve-date">Le dimanche 26 février 20
 17</div><ul class="gski-epreuve-liste-infos"><li>Codex épreuve FMVF0191</li
 ><li>Depart Individuel</li></ul></li><li><div class="gski-epreuve-date">Le 
 dimanche 26 février 2017</div><ul class="gski-epreuve-liste-infos"><li>Code
 x épreuve FMVM0191</li><li>Depart Individuel</li></ul></li><li><div class="
 gski-epreuve-date">Le dimanche 26 février 2017</div><ul class="gski-epreuve
 -liste-infos"><li>Codex épreuve FMVF0192</li><li>Depart Individuel</li></ul
 ></li><li><div class="gski-epreuve-date">Le dimanche 26 février 2017</div><
 ul class="gski-epreuve-liste-infos"><li>Codex épreuve FMVM0192</li><li>Depa
 rt Individuel</li></ul></li></ul></div><div class="gskiepreuves-links"><ul>
 <li><a href="/index.php?option=com_jevents&task=icalevent.detail&evid=729&I
 temid=1703">Voir les informations dans l'agenda...</a></li><li><a href="/in
 dex.php?option=com_gskiepreuves&view=afficheresultats&format_option=tous&fi
 lter[search]=FMVT0190&filter[date_debut]=26-02-2017&filter[date_fin]=26-02-
 2017&code_activite=FOND&Itemid=1703">Vers les résultats...</a></li></ul></d
 iv></div"><!-- #/gskiepreuve fin du dode généré par le plugin jevents pour 
 GskiEpreuves. . Ne pas modifier cette ligne, ni tout le contenu précedant. 
  #/gskiepreuve --> <a href="https://skivosges.net/agenda/detailevenement/73
 4/-/promo-foyer-massif?tmpl=component">Cet évènement a été importé depuis :
 https://skivosges.net/agenda/detailevenement/734/-/promo-foyer-massif?tmpl=
 component</a>
X-ALT-DESC;FMTTYPE=text/html:<!-- #gskiepreuve code généré par le plugin jevents pour GskiEpreuves. Ne p
 as modifier cette ligne, ni tout le contenu suivant  #gskiepreuve --><div c
 lass="gski-evenement_infos"><div class="gski-evenement-nom">Promo Foyer Mas
 sif</div><div class="gski-evenement-report"></div><ul class="gski-evenement
 -liste-infos"><li>Codex évenement FMVT0190</li><li>Organisateur : 14329 CLU
 B VOSGIEN VAGNEY ROCHESSON</li></ul><div class="gski-evenement-infos-2"><di
 v class="gski-evenement-info-inscriptions"><div class="gski-evenement-inscr
 iptions-periodes">Période d'inscription à l'evènement du dimanche 19 févrie
 r 2017 à 01:00 au vendredi 24 février 2017 à 13:00 <span class="gski-evenem
 ent-inscriptions-impossibles">(Inscriptions impossibles).</span><div class=
 "gski-evenement-inscriptions-types-titres">Le type de titres Fédéraux autor
 isé n'est pas défini. Veuillez contacter l'organisateur et lui signaler le 
 problème.</div></div></div><div class="gski-evenement-epreuves"><div class=
 "gski-evenement-epreuves-titres">Epreuves :</div><ul class="gski-evenement-
 epreuves-list"><li><div class="gski-epreuve-date">Le dimanche 26 février 20
 17</div><ul class="gski-epreuve-liste-infos"><li>Codex épreuve FMVF0191</li
 ><li>Depart Individuel</li></ul></li><li><div class="gski-epreuve-date">Le 
 dimanche 26 février 2017</div><ul class="gski-epreuve-liste-infos"><li>Code
 x épreuve FMVM0191</li><li>Depart Individuel</li></ul></li><li><div class="
 gski-epreuve-date">Le dimanche 26 février 2017</div><ul class="gski-epreuve
 -liste-infos"><li>Codex épreuve FMVF0192</li><li>Depart Individuel</li></ul
 ></li><li><div class="gski-epreuve-date">Le dimanche 26 février 2017</div><
 ul class="gski-epreuve-liste-infos"><li>Codex épreuve FMVM0192</li><li>Depa
 rt Individuel</li></ul></li></ul></div><div class="gskiepreuves-links"><ul>
 <li><a href="https://skivosges.net/index.php?option=com_jevents&task=icalev
 ent.detail&evid=729&Itemid=1703">Voir les informations dans l'agenda...</a>
 </li><li><a href="https://skivosges.net/index.php?option=com_gskiepreuves&v
 iew=afficheresultats&format_option=tous&filter[search]=FMVT0190&filter[date
 _debut]=26-02-2017&filter[date_fin]=26-02-2017&code_activite=FOND&Itemid=17
 03">Vers les résultats...</a></li></ul></div></div"><!-- #/gskiepreuve fin 
 du dode généré par le plugin jevents pour GskiEpreuves. . Ne pas modifier c
 ette ligne, ni tout le contenu précedant.  #/gskiepreuve --> <a href="https
 ://skivosges.net/agenda/detailevenement/734/-/promo-foyer-massif?tmpl=compo
 nent">Cet évènement a été importé depuis :https://skivosges.net/agenda/deta
 ilevenement/734/-/promo-foyer-massif?tmpl=component</a>DTSTAMP:20260421T051434
DTSTART;TZID=Europe/Paris;VALUE=DATE:20170226
DTEND;TZID=Europe/Paris;VALUE=DATE:20170227
SEQUENCE:0
TRANSP:OPAQUE
END:VEVENT
END:VCALENDAR