BEGIN:VCALENDAR
VERSION:2.0
PRODID:-//jEvents 2.0 for Joomla//EN
CALSCALE:GREGORIAN
METHOD:PUBLISH
BEGIN:VTIMEZONE
TZID:Europe/Paris
BEGIN:STANDARD
DTSTART:20160303T000000
RDATE:20160327T030000
TZOFFSETFROM:+0200
TZOFFSETTO:+0100
TZNAME:Europe/Paris CET
END:STANDARD
BEGIN:STANDARD
DTSTART:20161030T020000
RDATE:20170326T030000
TZOFFSETFROM:+0200
TZOFFSETTO:+0100
TZNAME:Europe/Paris CET
END:STANDARD
BEGIN:STANDARD
DTSTART:20171029T020000
RDATE:20180325T030000
TZOFFSETFROM:+0200
TZOFFSETTO:+0100
TZNAME:Europe/Paris CET
END:STANDARD
BEGIN:STANDARD
DTSTART:20181028T020000
RDATE:20190331T030000
TZOFFSETFROM:+0200
TZOFFSETTO:+0100
TZNAME:Europe/Paris CET
END:STANDARD
BEGIN:STANDARD
DTSTART:20191027T020000
RDATE:20200329T030000
TZOFFSETFROM:+0200
TZOFFSETTO:+0100
TZNAME:Europe/Paris CET
END:STANDARD
BEGIN:STANDARD
DTSTART:20201025T020000
RDATE:20210328T030000
TZOFFSETFROM:+0200
TZOFFSETTO:+0100
TZNAME:Europe/Paris CET
END:STANDARD
BEGIN:STANDARD
DTSTART:20211031T020000
RDATE:20220327T030000
TZOFFSETFROM:+0200
TZOFFSETTO:+0100
TZNAME:Europe/Paris CET
END:STANDARD
BEGIN:STANDARD
DTSTART:20221030T020000
RDATE:20230326T030000
TZOFFSETFROM:+0200
TZOFFSETTO:+0100
TZNAME:Europe/Paris CET
END:STANDARD
BEGIN:STANDARD
DTSTART:20231029T020000
RDATE:20240331T030000
TZOFFSETFROM:+0200
TZOFFSETTO:+0100
TZNAME:Europe/Paris CET
END:STANDARD
BEGIN:STANDARD
DTSTART:20241027T020000
RDATE:20250330T030000
TZOFFSETFROM:+0200
TZOFFSETTO:+0100
TZNAME:Europe/Paris CET
END:STANDARD
BEGIN:STANDARD
DTSTART:20251026T020000
RDATE:20260329T030000
TZOFFSETFROM:+0200
TZOFFSETTO:+0100
TZNAME:Europe/Paris CET
END:STANDARD
BEGIN:STANDARD
DTSTART:20261025T020000
RDATE:20270328T030000
TZOFFSETFROM:+0200
TZOFFSETTO:+0100
TZNAME:Europe/Paris CET
END:STANDARD
BEGIN:DAYLIGHT
DTSTART:20160327T030000
RDATE:20161030T020000
TZOFFSETFROM:+0100
TZOFFSETTO:+0200
TZNAME:Europe/Paris CEST
END:DAYLIGHT
BEGIN:DAYLIGHT
DTSTART:20170326T030000
RDATE:20171029T020000
TZOFFSETFROM:+0100
TZOFFSETTO:+0200
TZNAME:Europe/Paris CEST
END:DAYLIGHT
BEGIN:DAYLIGHT
DTSTART:20180325T030000
RDATE:20181028T020000
TZOFFSETFROM:+0100
TZOFFSETTO:+0200
TZNAME:Europe/Paris CEST
END:DAYLIGHT
BEGIN:DAYLIGHT
DTSTART:20190331T030000
RDATE:20191027T020000
TZOFFSETFROM:+0100
TZOFFSETTO:+0200
TZNAME:Europe/Paris CEST
END:DAYLIGHT
BEGIN:DAYLIGHT
DTSTART:20200329T030000
RDATE:20201025T020000
TZOFFSETFROM:+0100
TZOFFSETTO:+0200
TZNAME:Europe/Paris CEST
END:DAYLIGHT
BEGIN:DAYLIGHT
DTSTART:20210328T030000
RDATE:20211031T020000
TZOFFSETFROM:+0100
TZOFFSETTO:+0200
TZNAME:Europe/Paris CEST
END:DAYLIGHT
BEGIN:DAYLIGHT
DTSTART:20220327T030000
RDATE:20221030T020000
TZOFFSETFROM:+0100
TZOFFSETTO:+0200
TZNAME:Europe/Paris CEST
END:DAYLIGHT
BEGIN:DAYLIGHT
DTSTART:20230326T030000
RDATE:20231029T020000
TZOFFSETFROM:+0100
TZOFFSETTO:+0200
TZNAME:Europe/Paris CEST
END:DAYLIGHT
BEGIN:DAYLIGHT
DTSTART:20240331T030000
RDATE:20241027T020000
TZOFFSETFROM:+0100
TZOFFSETTO:+0200
TZNAME:Europe/Paris CEST
END:DAYLIGHT
BEGIN:DAYLIGHT
DTSTART:20250330T030000
RDATE:20251026T020000
TZOFFSETFROM:+0100
TZOFFSETTO:+0200
TZNAME:Europe/Paris CEST
END:DAYLIGHT
BEGIN:DAYLIGHT
DTSTART:20260329T030000
RDATE:20261025T020000
TZOFFSETFROM:+0100
TZOFFSETTO:+0200
TZNAME:Europe/Paris CEST
END:DAYLIGHT
END:VTIMEZONE
BEGIN:VEVENT
UID:cc5588fac63f74b918ea9a36ab7e9402
CATEGORIES:Circuit Massif Masters (alpin)
CREATED:20161202T134851
SUMMARY:GPM de la Brasserie de la Schlucht **REPORTE**
URL;VALUE=URI:https://skivosges.net/agenda/detailevenement/737/-/gpm-de-la-brasserie-de-l
 a-schlucht-reporte?tmpl=component
DESCRIPTION:<!-- #gskiepreuve code généré par le plugin jevents pour GskiEpreuves. Ne p
 as modifier cette ligne, ni tout le contenu suivant  #gskiepreuve --><div c
 lass="gski-evenement_infos"><div class="gski-evenement-nom">GPM de la Brass
 erie de la Schlucht</div><div class="gski-evenement-report"> <font class="g
 skiattention">(Epreuve reportée)</font></div><ul class="gski-evenement-list
 e-infos"><li>Codex évenement AMVT0960</li><li>Circuit : Grand Prix Masters<
 /li><li>Lieu : LA BRESSE</li><li>Station : LA BRESSE</li><li>COM_GSKIEPREUV
 ES_EPREUVE_PISTEStade du Petit Artimont</li><li>Organisateur : 14024 LA BRE
 SSAUDE SECTION SKI</li><li>Courriel : <!-- Cette adresse électronique est p
 rotégée contre les robots spammeurs. --><span class="cloaked_email ep_92606
 f57"><span data-ep-b="f&#114;" data-ep-a="odile"><span data-ep-b="a&#110;&#
 103;&#101;." data-ep-a="&#46;m&#117;&#110;&#115;"><span data-ep-a="ch&#46;&
 #115;c" data-ep-b="&#108;&#98;&#64;&#111;&#114;"></span></span></span></spa
 n><script>RegularLabs.EmailProtector.unCloak("ep_92606f57");</script></li><
 li>Téléphone : 0608855252</li><li><span class="gski-evenement-obs">Autres i
 nformations : Comp&eacute;tition avanc&eacute;e &agrave; vendredi 3 en noct
 urne. 1er d&eacute;part &agrave; 18 heures</span></li></ul><div class="gski
 -evenement-infos-2"><div class="gski-evenement-info-inscriptions"><div clas
 s="gski-evenement-inscriptions-periodes">Période d'inscription à l'evènemen
 t du samedi 25 février 2017 à 01:00 au jeudi 02 mars 2017 à 13:00 <span cla
 ss="gski-evenement-inscriptions-impossibles">(Inscriptions impossibles).</s
 pan><div class="gski-evenement-inscriptions-types-titres">Le type de titres
  Fédéraux autorisé n'est pas défini. Veuillez contacter l'organisateur et l
 ui signaler le problème.</div></div></div><div class="gski-evenement-epreuv
 es"><div class="gski-evenement-epreuves-titres">Epreuves :</div><ul class="
 gski-evenement-epreuves-list"><li><div class="gski-epreuve-date">Le samedi 
 04 mars 2017</div><ul class="gski-epreuve-liste-infos"><li>Codex épreuve AM
 VF0961</li><li>Slalom Geant</li><li>Circuit : Grand Prix Masters</li></ul><
 /li><li><div class="gski-epreuve-date">Le samedi 04 mars 2017</div><ul clas
 s="gski-epreuve-liste-infos"><li>Codex épreuve AMVM0961</li><li>Slalom Gean
 t</li><li>Circuit : Grand Prix Masters</li></ul></li></ul></div><div class=
 "gskiepreuves-links"><ul><li><a href="/index.php?option=com_jevents&task=ic
 alevent.detail&evid=732&Itemid=1703">Voir les informations dans l'agenda...
 </a></li><li><a href="/index.php?option=com_gskiepreuves&view=afficheresult
 ats&format_option=tous&filter[search]=AMVT0960&filter[date_debut]=03-03-201
 7&filter[date_fin]=03-03-2017&code_activite=ALP&Itemid=1703">Vers les résul
 tats...</a></li></ul></div></div"><!-- #/gskiepreuve fin du dode généré par
  le plugin jevents pour GskiEpreuves. . Ne pas modifier cette ligne, ni tou
 t le contenu précedant.  #/gskiepreuve --> <a href="https://skivosges.net/a
 genda/detailevenement/737/-/gpm-de-la-brasserie-de-la-schlucht-reporte?tmpl
 =component">Cet évènement a été importé depuis :https://skivosges.net/agend
 a/detailevenement/737/-/gpm-de-la-brasserie-de-la-schlucht-reporte?tmpl=com
 ponent</a>
X-ALT-DESC;FMTTYPE=text/html:<!-- #gskiepreuve code généré par le plugin jevents pour GskiEpreuves. Ne p
 as modifier cette ligne, ni tout le contenu suivant  #gskiepreuve --><div c
 lass="gski-evenement_infos"><div class="gski-evenement-nom">GPM de la Brass
 erie de la Schlucht</div><div class="gski-evenement-report"> <font class="g
 skiattention">(Epreuve reportée)</font></div><ul class="gski-evenement-list
 e-infos"><li>Codex évenement AMVT0960</li><li>Circuit : Grand Prix Masters<
 /li><li>Lieu : LA BRESSE</li><li>Station : LA BRESSE</li><li>COM_GSKIEPREUV
 ES_EPREUVE_PISTEStade du Petit Artimont</li><li>Organisateur : 14024 LA BRE
 SSAUDE SECTION SKI</li><li>Courriel : <!-- Cette adresse électronique est p
 rotégée contre les robots spammeurs. --><span class="cloaked_email ep_92606
 f57"><span data-ep-b="f&#114;" data-ep-a="odile"><span data-ep-b="a&#110;&#
 103;&#101;." data-ep-a="&#46;m&#117;&#110;&#115;"><span data-ep-a="ch&#46;&
 #115;c" data-ep-b="&#108;&#98;&#64;&#111;&#114;"></span></span></span></spa
 n><script>RegularLabs.EmailProtector.unCloak("ep_92606f57");</script></li><
 li>Téléphone : 0608855252</li><li><span class="gski-evenement-obs">Autres i
 nformations : Comp&eacute;tition avanc&eacute;e &agrave; vendredi 3 en noct
 urne. 1er d&eacute;part &agrave; 18 heures</span></li></ul><div class="gski
 -evenement-infos-2"><div class="gski-evenement-info-inscriptions"><div clas
 s="gski-evenement-inscriptions-periodes">Période d'inscription à l'evènemen
 t du samedi 25 février 2017 à 01:00 au jeudi 02 mars 2017 à 13:00 <span cla
 ss="gski-evenement-inscriptions-impossibles">(Inscriptions impossibles).</s
 pan><div class="gski-evenement-inscriptions-types-titres">Le type de titres
  Fédéraux autorisé n'est pas défini. Veuillez contacter l'organisateur et l
 ui signaler le problème.</div></div></div><div class="gski-evenement-epreuv
 es"><div class="gski-evenement-epreuves-titres">Epreuves :</div><ul class="
 gski-evenement-epreuves-list"><li><div class="gski-epreuve-date">Le samedi 
 04 mars 2017</div><ul class="gski-epreuve-liste-infos"><li>Codex épreuve AM
 VF0961</li><li>Slalom Geant</li><li>Circuit : Grand Prix Masters</li></ul><
 /li><li><div class="gski-epreuve-date">Le samedi 04 mars 2017</div><ul clas
 s="gski-epreuve-liste-infos"><li>Codex épreuve AMVM0961</li><li>Slalom Gean
 t</li><li>Circuit : Grand Prix Masters</li></ul></li></ul></div><div class=
 "gskiepreuves-links"><ul><li><a href="https://skivosges.net/index.php?optio
 n=com_jevents&task=icalevent.detail&evid=732&Itemid=1703">Voir les informat
 ions dans l'agenda...</a></li><li><a href="https://skivosges.net/index.php?
 option=com_gskiepreuves&view=afficheresultats&format_option=tous&filter[sea
 rch]=AMVT0960&filter[date_debut]=03-03-2017&filter[date_fin]=03-03-2017&cod
 e_activite=ALP&Itemid=1703">Vers les résultats...</a></li></ul></div></div"
 ><!-- #/gskiepreuve fin du dode généré par le plugin jevents pour GskiEpreu
 ves. . Ne pas modifier cette ligne, ni tout le contenu précedant.  #/gskiep
 reuve --> <a href="https://skivosges.net/agenda/detailevenement/737/-/gpm-d
 e-la-brasserie-de-la-schlucht-reporte?tmpl=component">Cet évènement a été i
 mporté depuis :https://skivosges.net/agenda/detailevenement/737/-/gpm-de-la
 -brasserie-de-la-schlucht-reporte?tmpl=component</a>DTSTAMP:20260421T051320
DTSTART;TZID=Europe/Paris;VALUE=DATE:20170304
DTEND;TZID=Europe/Paris;VALUE=DATE:20170305
SEQUENCE:0
TRANSP:OPAQUE
END:VEVENT
END:VCALENDAR