BEGIN:VCALENDAR
VERSION:2.0
PRODID:-//jEvents 2.0 for Joomla//EN
CALSCALE:GREGORIAN
METHOD:PUBLISH
BEGIN:VTIMEZONE
TZID:Europe/Paris
BEGIN:STANDARD
DTSTART:20160304T000000
RDATE:20160327T030000
TZOFFSETFROM:+0200
TZOFFSETTO:+0100
TZNAME:Europe/Paris CET
END:STANDARD
BEGIN:STANDARD
DTSTART:20161030T020000
RDATE:20170326T030000
TZOFFSETFROM:+0200
TZOFFSETTO:+0100
TZNAME:Europe/Paris CET
END:STANDARD
BEGIN:STANDARD
DTSTART:20171029T020000
RDATE:20180325T030000
TZOFFSETFROM:+0200
TZOFFSETTO:+0100
TZNAME:Europe/Paris CET
END:STANDARD
BEGIN:STANDARD
DTSTART:20181028T020000
RDATE:20190331T030000
TZOFFSETFROM:+0200
TZOFFSETTO:+0100
TZNAME:Europe/Paris CET
END:STANDARD
BEGIN:STANDARD
DTSTART:20191027T020000
RDATE:20200329T030000
TZOFFSETFROM:+0200
TZOFFSETTO:+0100
TZNAME:Europe/Paris CET
END:STANDARD
BEGIN:STANDARD
DTSTART:20201025T020000
RDATE:20210328T030000
TZOFFSETFROM:+0200
TZOFFSETTO:+0100
TZNAME:Europe/Paris CET
END:STANDARD
BEGIN:STANDARD
DTSTART:20211031T020000
RDATE:20220327T030000
TZOFFSETFROM:+0200
TZOFFSETTO:+0100
TZNAME:Europe/Paris CET
END:STANDARD
BEGIN:STANDARD
DTSTART:20221030T020000
RDATE:20230326T030000
TZOFFSETFROM:+0200
TZOFFSETTO:+0100
TZNAME:Europe/Paris CET
END:STANDARD
BEGIN:STANDARD
DTSTART:20231029T020000
RDATE:20240331T030000
TZOFFSETFROM:+0200
TZOFFSETTO:+0100
TZNAME:Europe/Paris CET
END:STANDARD
BEGIN:STANDARD
DTSTART:20241027T020000
RDATE:20250330T030000
TZOFFSETFROM:+0200
TZOFFSETTO:+0100
TZNAME:Europe/Paris CET
END:STANDARD
BEGIN:STANDARD
DTSTART:20251026T020000
RDATE:20260329T030000
TZOFFSETFROM:+0200
TZOFFSETTO:+0100
TZNAME:Europe/Paris CET
END:STANDARD
BEGIN:STANDARD
DTSTART:20261025T020000
RDATE:20270328T030000
TZOFFSETFROM:+0200
TZOFFSETTO:+0100
TZNAME:Europe/Paris CET
END:STANDARD
BEGIN:DAYLIGHT
DTSTART:20160327T030000
RDATE:20161030T020000
TZOFFSETFROM:+0100
TZOFFSETTO:+0200
TZNAME:Europe/Paris CEST
END:DAYLIGHT
BEGIN:DAYLIGHT
DTSTART:20170326T030000
RDATE:20171029T020000
TZOFFSETFROM:+0100
TZOFFSETTO:+0200
TZNAME:Europe/Paris CEST
END:DAYLIGHT
BEGIN:DAYLIGHT
DTSTART:20180325T030000
RDATE:20181028T020000
TZOFFSETFROM:+0100
TZOFFSETTO:+0200
TZNAME:Europe/Paris CEST
END:DAYLIGHT
BEGIN:DAYLIGHT
DTSTART:20190331T030000
RDATE:20191027T020000
TZOFFSETFROM:+0100
TZOFFSETTO:+0200
TZNAME:Europe/Paris CEST
END:DAYLIGHT
BEGIN:DAYLIGHT
DTSTART:20200329T030000
RDATE:20201025T020000
TZOFFSETFROM:+0100
TZOFFSETTO:+0200
TZNAME:Europe/Paris CEST
END:DAYLIGHT
BEGIN:DAYLIGHT
DTSTART:20210328T030000
RDATE:20211031T020000
TZOFFSETFROM:+0100
TZOFFSETTO:+0200
TZNAME:Europe/Paris CEST
END:DAYLIGHT
BEGIN:DAYLIGHT
DTSTART:20220327T030000
RDATE:20221030T020000
TZOFFSETFROM:+0100
TZOFFSETTO:+0200
TZNAME:Europe/Paris CEST
END:DAYLIGHT
BEGIN:DAYLIGHT
DTSTART:20230326T030000
RDATE:20231029T020000
TZOFFSETFROM:+0100
TZOFFSETTO:+0200
TZNAME:Europe/Paris CEST
END:DAYLIGHT
BEGIN:DAYLIGHT
DTSTART:20240331T030000
RDATE:20241027T020000
TZOFFSETFROM:+0100
TZOFFSETTO:+0200
TZNAME:Europe/Paris CEST
END:DAYLIGHT
BEGIN:DAYLIGHT
DTSTART:20250330T030000
RDATE:20251026T020000
TZOFFSETFROM:+0100
TZOFFSETTO:+0200
TZNAME:Europe/Paris CEST
END:DAYLIGHT
BEGIN:DAYLIGHT
DTSTART:20260329T030000
RDATE:20261025T020000
TZOFFSETFROM:+0100
TZOFFSETTO:+0200
TZNAME:Europe/Paris CEST
END:DAYLIGHT
END:VTIMEZONE
BEGIN:VEVENT
UID:2755d25257132c4c9c97b7119ec2e282
CATEGORIES:Circuit Massif Adultes (alpin)
CREATED:20161202T134851
SUMMARY:GPA   U16 à Masters GP Gaby Curien **REPORTE**
URL;VALUE=URI:https://skivosges.net/agenda/detailevenement/740/-/gpa-u16-a-masters-gp-gab
 y-curien-reporte?tmpl=component
DESCRIPTION:<!-- #gskiepreuve code généré par le plugin jevents pour GskiEpreuves. Ne p
 as modifier cette ligne, ni tout le contenu suivant  #gskiepreuve --><div c
 lass="gski-evenement_infos"><div class="gski-evenement-nom">GPA   U16 à Mas
 ters GP Gaby Curien</div><div class="gski-evenement-report"> <font class="g
 skiattention">(Epreuve reportée)</font></div><ul class="gski-evenement-list
 e-infos"><li>Codex évenement AMVT0550</li><li>Circuit : Grand Prix Adultes<
 /li><li>Lieu : LA BRESSE</li><li>Station : LA BRESSE</li><li>Organisateur :
  14024 LA BRESSAUDE SECTION SKI</li></ul><div class="gski-evenement-infos-2
 "><div class="gski-evenement-info-inscriptions"><div class="gski-evenement-
 inscriptions-periodes">Période d'inscription à l'evènement du dimanche 26 f
 évrier 2017 à 01:00 au vendredi 03 mars 2017 à 13:00 <span class="gski-even
 ement-inscriptions-impossibles">(Inscriptions impossibles).</span><div clas
 s="gski-evenement-inscriptions-types-titres">Le type de titres Fédéraux aut
 orisé n'est pas défini. Veuillez contacter l'organisateur et lui signaler l
 e problème.</div></div></div><div class="gski-evenement-epreuves"><div clas
 s="gski-evenement-epreuves-titres">Epreuves :</div><ul class="gski-evenemen
 t-epreuves-list"><li><div class="gski-epreuve-date">Le dimanche 05 mars 201
 7</div><ul class="gski-epreuve-liste-infos"><li>Codex épreuve AMVM0551</li>
 <li>Slalom Geant</li><li>Circuit : Grand Prix Adultes</li></ul></li><li><di
 v class="gski-epreuve-date">Le dimanche 05 mars 2017</div><ul class="gski-e
 preuve-liste-infos"><li>Codex épreuve AMVF0551</li><li>Slalom Geant</li><li
 >Circuit : Grand Prix Adultes</li></ul></li><li><div class="gski-epreuve-da
 te">Le dimanche 05 mars 2017</div><ul class="gski-epreuve-liste-infos"><li>
 Codex épreuve AMVM0552</li><li>Slalom Geant</li><li>Circuit : Grand Prix Ad
 ultes</li></ul></li><li><div class="gski-epreuve-date">Le dimanche 05 mars 
 2017</div><ul class="gski-epreuve-liste-infos"><li>Codex épreuve AMVF0552</
 li><li>Slalom Geant</li><li>Circuit : Grand Prix Adultes</li></ul></li></ul
 ></div><div class="gskiepreuves-links"><ul><li><a href="/index.php?option=c
 om_jevents&task=icalevent.detail&evid=735&Itemid=1703">Voir les information
 s dans l'agenda...</a></li><li><a href="/index.php?option=com_gskiepreuves&
 view=afficheresultats&format_option=tous&filter[search]=AMVT0550&filter[dat
 e_debut]=04-03-2017&filter[date_fin]=04-03-2017&code_activite=ALP&Itemid=17
 03">Vers les résultats...</a></li></ul></div></div"><!-- #/gskiepreuve fin 
 du dode généré par le plugin jevents pour GskiEpreuves. . Ne pas modifier c
 ette ligne, ni tout le contenu précedant.  #/gskiepreuve --> <a href="https
 ://skivosges.net/agenda/detailevenement/740/-/gpa-u16-a-masters-gp-gaby-cur
 ien-reporte?tmpl=component">Cet évènement a été importé depuis :https://ski
 vosges.net/agenda/detailevenement/740/-/gpa-u16-a-masters-gp-gaby-curien-re
 porte?tmpl=component</a>
X-ALT-DESC;FMTTYPE=text/html:<!-- #gskiepreuve code généré par le plugin jevents pour GskiEpreuves. Ne p
 as modifier cette ligne, ni tout le contenu suivant  #gskiepreuve --><div c
 lass="gski-evenement_infos"><div class="gski-evenement-nom">GPA   U16 à Mas
 ters GP Gaby Curien</div><div class="gski-evenement-report"> <font class="g
 skiattention">(Epreuve reportée)</font></div><ul class="gski-evenement-list
 e-infos"><li>Codex évenement AMVT0550</li><li>Circuit : Grand Prix Adultes<
 /li><li>Lieu : LA BRESSE</li><li>Station : LA BRESSE</li><li>Organisateur :
  14024 LA BRESSAUDE SECTION SKI</li></ul><div class="gski-evenement-infos-2
 "><div class="gski-evenement-info-inscriptions"><div class="gski-evenement-
 inscriptions-periodes">Période d'inscription à l'evènement du dimanche 26 f
 évrier 2017 à 01:00 au vendredi 03 mars 2017 à 13:00 <span class="gski-even
 ement-inscriptions-impossibles">(Inscriptions impossibles).</span><div clas
 s="gski-evenement-inscriptions-types-titres">Le type de titres Fédéraux aut
 orisé n'est pas défini. Veuillez contacter l'organisateur et lui signaler l
 e problème.</div></div></div><div class="gski-evenement-epreuves"><div clas
 s="gski-evenement-epreuves-titres">Epreuves :</div><ul class="gski-evenemen
 t-epreuves-list"><li><div class="gski-epreuve-date">Le dimanche 05 mars 201
 7</div><ul class="gski-epreuve-liste-infos"><li>Codex épreuve AMVM0551</li>
 <li>Slalom Geant</li><li>Circuit : Grand Prix Adultes</li></ul></li><li><di
 v class="gski-epreuve-date">Le dimanche 05 mars 2017</div><ul class="gski-e
 preuve-liste-infos"><li>Codex épreuve AMVF0551</li><li>Slalom Geant</li><li
 >Circuit : Grand Prix Adultes</li></ul></li><li><div class="gski-epreuve-da
 te">Le dimanche 05 mars 2017</div><ul class="gski-epreuve-liste-infos"><li>
 Codex épreuve AMVM0552</li><li>Slalom Geant</li><li>Circuit : Grand Prix Ad
 ultes</li></ul></li><li><div class="gski-epreuve-date">Le dimanche 05 mars 
 2017</div><ul class="gski-epreuve-liste-infos"><li>Codex épreuve AMVF0552</
 li><li>Slalom Geant</li><li>Circuit : Grand Prix Adultes</li></ul></li></ul
 ></div><div class="gskiepreuves-links"><ul><li><a href="https://skivosges.n
 et/index.php?option=com_jevents&task=icalevent.detail&evid=735&Itemid=1703"
 >Voir les informations dans l'agenda...</a></li><li><a href="https://skivos
 ges.net/index.php?option=com_gskiepreuves&view=afficheresultats&format_opti
 on=tous&filter[search]=AMVT0550&filter[date_debut]=04-03-2017&filter[date_f
 in]=04-03-2017&code_activite=ALP&Itemid=1703">Vers les résultats...</a></li
 ></ul></div></div"><!-- #/gskiepreuve fin du dode généré par le plugin jeve
 nts pour GskiEpreuves. . Ne pas modifier cette ligne, ni tout le contenu pr
 écedant.  #/gskiepreuve --> <a href="https://skivosges.net/agenda/detaileve
 nement/740/-/gpa-u16-a-masters-gp-gaby-curien-reporte?tmpl=component">Cet é
 vènement a été importé depuis :https://skivosges.net/agenda/detailevenement
 /740/-/gpa-u16-a-masters-gp-gaby-curien-reporte?tmpl=component</a>DTSTAMP:20260421T051320
DTSTART;TZID=Europe/Paris;VALUE=DATE:20170305
DTEND;TZID=Europe/Paris;VALUE=DATE:20170306
SEQUENCE:0
TRANSP:OPAQUE
END:VEVENT
END:VCALENDAR