BEGIN:VCALENDAR
VERSION:2.0
PRODID:-//jEvents 2.0 for Joomla//EN
CALSCALE:GREGORIAN
METHOD:PUBLISH
BEGIN:VTIMEZONE
TZID:Europe/Paris
BEGIN:STANDARD
DTSTART:20160310T000000
RDATE:20160327T030000
TZOFFSETFROM:+0200
TZOFFSETTO:+0100
TZNAME:Europe/Paris CET
END:STANDARD
BEGIN:STANDARD
DTSTART:20161030T020000
RDATE:20170326T030000
TZOFFSETFROM:+0200
TZOFFSETTO:+0100
TZNAME:Europe/Paris CET
END:STANDARD
BEGIN:STANDARD
DTSTART:20171029T020000
RDATE:20180325T030000
TZOFFSETFROM:+0200
TZOFFSETTO:+0100
TZNAME:Europe/Paris CET
END:STANDARD
BEGIN:STANDARD
DTSTART:20181028T020000
RDATE:20190331T030000
TZOFFSETFROM:+0200
TZOFFSETTO:+0100
TZNAME:Europe/Paris CET
END:STANDARD
BEGIN:STANDARD
DTSTART:20191027T020000
RDATE:20200329T030000
TZOFFSETFROM:+0200
TZOFFSETTO:+0100
TZNAME:Europe/Paris CET
END:STANDARD
BEGIN:STANDARD
DTSTART:20201025T020000
RDATE:20210328T030000
TZOFFSETFROM:+0200
TZOFFSETTO:+0100
TZNAME:Europe/Paris CET
END:STANDARD
BEGIN:STANDARD
DTSTART:20211031T020000
RDATE:20220327T030000
TZOFFSETFROM:+0200
TZOFFSETTO:+0100
TZNAME:Europe/Paris CET
END:STANDARD
BEGIN:STANDARD
DTSTART:20221030T020000
RDATE:20230326T030000
TZOFFSETFROM:+0200
TZOFFSETTO:+0100
TZNAME:Europe/Paris CET
END:STANDARD
BEGIN:STANDARD
DTSTART:20231029T020000
RDATE:20240331T030000
TZOFFSETFROM:+0200
TZOFFSETTO:+0100
TZNAME:Europe/Paris CET
END:STANDARD
BEGIN:STANDARD
DTSTART:20241027T020000
RDATE:20250330T030000
TZOFFSETFROM:+0200
TZOFFSETTO:+0100
TZNAME:Europe/Paris CET
END:STANDARD
BEGIN:STANDARD
DTSTART:20251026T020000
RDATE:20260329T030000
TZOFFSETFROM:+0200
TZOFFSETTO:+0100
TZNAME:Europe/Paris CET
END:STANDARD
BEGIN:STANDARD
DTSTART:20261025T020000
RDATE:20270328T030000
TZOFFSETFROM:+0200
TZOFFSETTO:+0100
TZNAME:Europe/Paris CET
END:STANDARD
BEGIN:DAYLIGHT
DTSTART:20160327T030000
RDATE:20161030T020000
TZOFFSETFROM:+0100
TZOFFSETTO:+0200
TZNAME:Europe/Paris CEST
END:DAYLIGHT
BEGIN:DAYLIGHT
DTSTART:20170326T030000
RDATE:20171029T020000
TZOFFSETFROM:+0100
TZOFFSETTO:+0200
TZNAME:Europe/Paris CEST
END:DAYLIGHT
BEGIN:DAYLIGHT
DTSTART:20180325T030000
RDATE:20181028T020000
TZOFFSETFROM:+0100
TZOFFSETTO:+0200
TZNAME:Europe/Paris CEST
END:DAYLIGHT
BEGIN:DAYLIGHT
DTSTART:20190331T030000
RDATE:20191027T020000
TZOFFSETFROM:+0100
TZOFFSETTO:+0200
TZNAME:Europe/Paris CEST
END:DAYLIGHT
BEGIN:DAYLIGHT
DTSTART:20200329T030000
RDATE:20201025T020000
TZOFFSETFROM:+0100
TZOFFSETTO:+0200
TZNAME:Europe/Paris CEST
END:DAYLIGHT
BEGIN:DAYLIGHT
DTSTART:20210328T030000
RDATE:20211031T020000
TZOFFSETFROM:+0100
TZOFFSETTO:+0200
TZNAME:Europe/Paris CEST
END:DAYLIGHT
BEGIN:DAYLIGHT
DTSTART:20220327T030000
RDATE:20221030T020000
TZOFFSETFROM:+0100
TZOFFSETTO:+0200
TZNAME:Europe/Paris CEST
END:DAYLIGHT
BEGIN:DAYLIGHT
DTSTART:20230326T030000
RDATE:20231029T020000
TZOFFSETFROM:+0100
TZOFFSETTO:+0200
TZNAME:Europe/Paris CEST
END:DAYLIGHT
BEGIN:DAYLIGHT
DTSTART:20240331T030000
RDATE:20241027T020000
TZOFFSETFROM:+0100
TZOFFSETTO:+0200
TZNAME:Europe/Paris CEST
END:DAYLIGHT
BEGIN:DAYLIGHT
DTSTART:20250330T030000
RDATE:20251026T020000
TZOFFSETFROM:+0100
TZOFFSETTO:+0200
TZNAME:Europe/Paris CEST
END:DAYLIGHT
BEGIN:DAYLIGHT
DTSTART:20260329T030000
RDATE:20261025T020000
TZOFFSETFROM:+0100
TZOFFSETTO:+0200
TZNAME:Europe/Paris CEST
END:DAYLIGHT
END:VTIMEZONE
BEGIN:VEVENT
UID:1828bbb89ebd12e0abc1258d8895b0bb
CATEGORIES:Compétition Saut
CREATED:20161202T134851
SUMMARY:Bussang Larcenaire Coupe des Vosges
URL;VALUE=URI:https://skivosges.net/agenda/detailevenement/751/-/bussang-larcenaire-coupe
 -des-vosges?tmpl=component
DESCRIPTION:<!-- #gskiepreuve code généré par le plugin jevents pour GskiEpreuves. Ne p
 as modifier cette ligne, ni tout le contenu suivant  #gskiepreuve --><div c
 lass="gski-evenement_infos"><div class="gski-evenement-nom">Bussang Larcena
 ire Coupe des Vosges</div><div class="gski-evenement-report"></div><ul clas
 s="gski-evenement-liste-infos"><li>Codex évenement TMVT0100</li><li>Lieu : 
 BUSSANG LARCENAIRE</li><li>Station : BUSSANG LARCENAIRE</li><li>Organisateu
 r : </li></ul><div class="gski-evenement-infos-2"><div class="gski-evenemen
 t-info-inscriptions"><div class="gski-evenement-inscriptions-periodes">Péri
 ode d'inscription à l'evènement du samedi 04 mars 2017 à 01:00 au jeudi 09 
 mars 2017 à 13:00 <span class="gski-evenement-inscriptions-impossibles">(In
 scriptions impossibles).</span><div class="gski-evenement-inscriptions-type
 s-titres">Le type de titres Fédéraux autorisé n'est pas défini. Veuillez co
 ntacter l'organisateur et lui signaler le problème.</div></div></div><div c
 lass="gski-evenement-epreuves"><div class="gski-evenement-epreuves-titres">
 Epreuves :</div><ul class="gski-evenement-epreuves-list"><li><div class="gs
 ki-epreuve-date">Le samedi 11 mars 2017</div><ul class="gski-epreuve-liste-
 infos"><li>Codex épreuve TMVF0101</li><li>Saut Special</li></ul></li><li><d
 iv class="gski-epreuve-date">Le samedi 11 mars 2017</div><ul class="gski-ep
 reuve-liste-infos"><li>Codex épreuve TMVF0102</li><li>Saut Special</li></ul
 ></li><li><div class="gski-epreuve-date">Le samedi 11 mars 2017</div><ul cl
 ass="gski-epreuve-liste-infos"><li>Codex épreuve TMVM0101</li><li>Saut Spec
 ial</li></ul></li><li><div class="gski-epreuve-date">Le samedi 11 mars 2017
 </div><ul class="gski-epreuve-liste-infos"><li>Codex épreuve TMVM0102</li><
 li>Saut Special</li></ul></li></ul></div><div class="gskiepreuves-links"><u
 l><li><a href="/index.php?option=com_jevents&task=icalevent.detail&evid=746
 &Itemid=1703">Voir les informations dans l'agenda...</a></li></ul></div></d
 iv"><!-- #/gskiepreuve fin du dode généré par le plugin jevents pour GskiEp
 reuves. . Ne pas modifier cette ligne, ni tout le contenu précedant.  #/gsk
 iepreuve --> <a href="https://skivosges.net/agenda/detailevenement/751/-/bu
 ssang-larcenaire-coupe-des-vosges?tmpl=component">Cet évènement a été impor
 té depuis :https://skivosges.net/agenda/detailevenement/751/-/bussang-larce
 naire-coupe-des-vosges?tmpl=component</a>
X-ALT-DESC;FMTTYPE=text/html:<!-- #gskiepreuve code généré par le plugin jevents pour GskiEpreuves. Ne p
 as modifier cette ligne, ni tout le contenu suivant  #gskiepreuve --><div c
 lass="gski-evenement_infos"><div class="gski-evenement-nom">Bussang Larcena
 ire Coupe des Vosges</div><div class="gski-evenement-report"></div><ul clas
 s="gski-evenement-liste-infos"><li>Codex évenement TMVT0100</li><li>Lieu : 
 BUSSANG LARCENAIRE</li><li>Station : BUSSANG LARCENAIRE</li><li>Organisateu
 r : </li></ul><div class="gski-evenement-infos-2"><div class="gski-evenemen
 t-info-inscriptions"><div class="gski-evenement-inscriptions-periodes">Péri
 ode d'inscription à l'evènement du samedi 04 mars 2017 à 01:00 au jeudi 09 
 mars 2017 à 13:00 <span class="gski-evenement-inscriptions-impossibles">(In
 scriptions impossibles).</span><div class="gski-evenement-inscriptions-type
 s-titres">Le type de titres Fédéraux autorisé n'est pas défini. Veuillez co
 ntacter l'organisateur et lui signaler le problème.</div></div></div><div c
 lass="gski-evenement-epreuves"><div class="gski-evenement-epreuves-titres">
 Epreuves :</div><ul class="gski-evenement-epreuves-list"><li><div class="gs
 ki-epreuve-date">Le samedi 11 mars 2017</div><ul class="gski-epreuve-liste-
 infos"><li>Codex épreuve TMVF0101</li><li>Saut Special</li></ul></li><li><d
 iv class="gski-epreuve-date">Le samedi 11 mars 2017</div><ul class="gski-ep
 reuve-liste-infos"><li>Codex épreuve TMVF0102</li><li>Saut Special</li></ul
 ></li><li><div class="gski-epreuve-date">Le samedi 11 mars 2017</div><ul cl
 ass="gski-epreuve-liste-infos"><li>Codex épreuve TMVM0101</li><li>Saut Spec
 ial</li></ul></li><li><div class="gski-epreuve-date">Le samedi 11 mars 2017
 </div><ul class="gski-epreuve-liste-infos"><li>Codex épreuve TMVM0102</li><
 li>Saut Special</li></ul></li></ul></div><div class="gskiepreuves-links"><u
 l><li><a href="https://skivosges.net/index.php?option=com_jevents&task=ical
 event.detail&evid=746&Itemid=1703">Voir les informations dans l'agenda...</
 a></li></ul></div></div"><!-- #/gskiepreuve fin du dode généré par le plugi
 n jevents pour GskiEpreuves. . Ne pas modifier cette ligne, ni tout le cont
 enu précedant.  #/gskiepreuve --> <a href="https://skivosges.net/agenda/det
 ailevenement/751/-/bussang-larcenaire-coupe-des-vosges?tmpl=component">Cet 
 évènement a été importé depuis :https://skivosges.net/agenda/detailevenemen
 t/751/-/bussang-larcenaire-coupe-des-vosges?tmpl=component</a>DTSTAMP:20260421T051248
DTSTART;TZID=Europe/Paris;VALUE=DATE:20170311
DTEND;TZID=Europe/Paris;VALUE=DATE:20170312
SEQUENCE:0
TRANSP:OPAQUE
END:VEVENT
END:VCALENDAR