BEGIN:VCALENDAR
VERSION:2.0
PRODID:-//jEvents 2.0 for Joomla//EN
CALSCALE:GREGORIAN
METHOD:PUBLISH
BEGIN:VTIMEZONE
TZID:Europe/Paris
BEGIN:STANDARD
DTSTART:20160311T000000
RDATE:20160327T030000
TZOFFSETFROM:+0200
TZOFFSETTO:+0100
TZNAME:Europe/Paris CET
END:STANDARD
BEGIN:STANDARD
DTSTART:20161030T020000
RDATE:20170326T030000
TZOFFSETFROM:+0200
TZOFFSETTO:+0100
TZNAME:Europe/Paris CET
END:STANDARD
BEGIN:STANDARD
DTSTART:20171029T020000
RDATE:20180325T030000
TZOFFSETFROM:+0200
TZOFFSETTO:+0100
TZNAME:Europe/Paris CET
END:STANDARD
BEGIN:STANDARD
DTSTART:20181028T020000
RDATE:20190331T030000
TZOFFSETFROM:+0200
TZOFFSETTO:+0100
TZNAME:Europe/Paris CET
END:STANDARD
BEGIN:STANDARD
DTSTART:20191027T020000
RDATE:20200329T030000
TZOFFSETFROM:+0200
TZOFFSETTO:+0100
TZNAME:Europe/Paris CET
END:STANDARD
BEGIN:STANDARD
DTSTART:20201025T020000
RDATE:20210328T030000
TZOFFSETFROM:+0200
TZOFFSETTO:+0100
TZNAME:Europe/Paris CET
END:STANDARD
BEGIN:STANDARD
DTSTART:20211031T020000
RDATE:20220327T030000
TZOFFSETFROM:+0200
TZOFFSETTO:+0100
TZNAME:Europe/Paris CET
END:STANDARD
BEGIN:STANDARD
DTSTART:20221030T020000
RDATE:20230326T030000
TZOFFSETFROM:+0200
TZOFFSETTO:+0100
TZNAME:Europe/Paris CET
END:STANDARD
BEGIN:STANDARD
DTSTART:20231029T020000
RDATE:20240331T030000
TZOFFSETFROM:+0200
TZOFFSETTO:+0100
TZNAME:Europe/Paris CET
END:STANDARD
BEGIN:STANDARD
DTSTART:20241027T020000
RDATE:20250330T030000
TZOFFSETFROM:+0200
TZOFFSETTO:+0100
TZNAME:Europe/Paris CET
END:STANDARD
BEGIN:STANDARD
DTSTART:20251026T020000
RDATE:20260329T030000
TZOFFSETFROM:+0200
TZOFFSETTO:+0100
TZNAME:Europe/Paris CET
END:STANDARD
BEGIN:STANDARD
DTSTART:20261025T020000
RDATE:20270328T030000
TZOFFSETFROM:+0200
TZOFFSETTO:+0100
TZNAME:Europe/Paris CET
END:STANDARD
BEGIN:DAYLIGHT
DTSTART:20160327T030000
RDATE:20161030T020000
TZOFFSETFROM:+0100
TZOFFSETTO:+0200
TZNAME:Europe/Paris CEST
END:DAYLIGHT
BEGIN:DAYLIGHT
DTSTART:20170326T030000
RDATE:20171029T020000
TZOFFSETFROM:+0100
TZOFFSETTO:+0200
TZNAME:Europe/Paris CEST
END:DAYLIGHT
BEGIN:DAYLIGHT
DTSTART:20180325T030000
RDATE:20181028T020000
TZOFFSETFROM:+0100
TZOFFSETTO:+0200
TZNAME:Europe/Paris CEST
END:DAYLIGHT
BEGIN:DAYLIGHT
DTSTART:20190331T030000
RDATE:20191027T020000
TZOFFSETFROM:+0100
TZOFFSETTO:+0200
TZNAME:Europe/Paris CEST
END:DAYLIGHT
BEGIN:DAYLIGHT
DTSTART:20200329T030000
RDATE:20201025T020000
TZOFFSETFROM:+0100
TZOFFSETTO:+0200
TZNAME:Europe/Paris CEST
END:DAYLIGHT
BEGIN:DAYLIGHT
DTSTART:20210328T030000
RDATE:20211031T020000
TZOFFSETFROM:+0100
TZOFFSETTO:+0200
TZNAME:Europe/Paris CEST
END:DAYLIGHT
BEGIN:DAYLIGHT
DTSTART:20220327T030000
RDATE:20221030T020000
TZOFFSETFROM:+0100
TZOFFSETTO:+0200
TZNAME:Europe/Paris CEST
END:DAYLIGHT
BEGIN:DAYLIGHT
DTSTART:20230326T030000
RDATE:20231029T020000
TZOFFSETFROM:+0100
TZOFFSETTO:+0200
TZNAME:Europe/Paris CEST
END:DAYLIGHT
BEGIN:DAYLIGHT
DTSTART:20240331T030000
RDATE:20241027T020000
TZOFFSETFROM:+0100
TZOFFSETTO:+0200
TZNAME:Europe/Paris CEST
END:DAYLIGHT
BEGIN:DAYLIGHT
DTSTART:20250330T030000
RDATE:20251026T020000
TZOFFSETFROM:+0100
TZOFFSETTO:+0200
TZNAME:Europe/Paris CEST
END:DAYLIGHT
BEGIN:DAYLIGHT
DTSTART:20260329T030000
RDATE:20261025T020000
TZOFFSETFROM:+0100
TZOFFSETTO:+0200
TZNAME:Europe/Paris CEST
END:DAYLIGHT
END:VTIMEZONE
BEGIN:VEVENT
UID:28c31a6ec1f6a8bbb7b094eef98a6d97
CATEGORIES:Circuit Massif Adultes (alpin)
CREATED:20161202T134851
SUMMARY:GPA   U16 à Masters GP Ville de Thann
URL;VALUE=URI:https://skivosges.net/agenda/detailevenement/752/-/gpa-u16-a-masters-gp-vil
 le-de-thann?tmpl=component
DESCRIPTION:GPA   U16 à Masters GP Ville de Thann\n - Codex évenement AMVT0640\n - Circ
 uit : Grand Prix Adultes\n - Lieu : MARKSTEIN\n - Station : MARKSTEIN\n - O
 rganisateur : 14082 SKI CLUB VOSGIEN THANN\n - Courriel : RegularLabs.Email
 Protector.unCloak("ep_3f2fa046");\n - Téléphone : 03 89 37 92 28Période d'i
 nscription à l'evènement du dimanche 05 mars 2017 à 01:00 au vendredi 10 ma
 rs 2017 à 20:00 (Inscriptions impossibles).Le type de titres Fédéraux autor
 isé n'est pas défini. Veuillez contacter l'organisateur et lui signaler le 
 problème.Epreuves :\n - Le dimanche 12 mars 2017\n - Codex épreuve AMVM0641
 \n - Slalom\n - Circuit : Grand Prix Adultes\n - Le dimanche 12 mars 2017\n
  - Codex épreuve AMVF0641\n - Slalom\n - Circuit : Grand Prix Adultes\n - L
 e dimanche 12 mars 2017\n - Codex épreuve AMVM0642\n - Slalom\n - Circuit :
  Grand Prix Adultes\n - Le dimanche 12 mars 2017\n - Codex épreuve AMVF0642
 \n - Slalom\n - Circuit : Grand Prix Adultes\n - Voir les informations dans
  l'agenda... (/index.php?option=com_jevents&amp;task=icalevent.detail&amp;e
 vid=747&amp;Itemid=1703)\n - Vers les résultats... (/index.php?option=com_g
 skiepreuves&amp;view=afficheresultats&amp;format_option=tous&amp;filter[sea
 rch]=AMVT0640&amp;filter[date_debut]=12-03-2017&amp;filter[date_fin]=12-03-
 2017&amp;code_activite=ALP&amp;Itemid=1703) Cet évènement a été importé dep
 uis :https://skivosges.net/agenda/detailevenement/752/-/gpa-u16-a-masters-g
 p-ville-de-thann?tmpl=component
X-ALT-DESC;FMTTYPE=text/html:<!-- #gskiepreuve code généré par le plugin jevents pour GskiEpreuves. Ne p
 as modifier cette ligne, ni tout le contenu suivant  #gskiepreuve --><div c
 lass="gski-evenement_infos"><div class="gski-evenement-nom">GPA   U16 à Mas
 ters GP Ville de Thann</div><div class="gski-evenement-report"></div><ul cl
 ass="gski-evenement-liste-infos"><li>Codex évenement AMVT0640</li><li>Circu
 it : Grand Prix Adultes</li><li>Lieu : MARKSTEIN</li><li>Station : MARKSTEI
 N</li><li>Organisateur : 14082 SKI CLUB VOSGIEN THANN</li><li>Courriel : <!
 -- Cette adresse électronique est protégée contre les robots spammeurs. -->
 <span class="cloaked_email ep_3f2fa046"><span data-ep-b="" data-ep-a="c&#11
 1;&#117;&#114;"><span data-ep-a="&#115;&#101;&#115;&#64;" data-ep-b="&#46;&
 #99;&#111;m"><span data-ep-a="&#116;&#104;&#97;&#110;" data-ep-b="nski"></s
 pan></span></span></span><script>RegularLabs.EmailProtector.unCloak("ep_3f2
 fa046");</script></li><li>Téléphone : 03 89 37 92 28</li></ul><div class="g
 ski-evenement-infos-2"><div class="gski-evenement-info-inscriptions"><div c
 lass="gski-evenement-inscriptions-periodes">Période d'inscription à l'evène
 ment du dimanche 05 mars 2017 à 01:00 au vendredi 10 mars 2017 à 20:00 <spa
 n class="gski-evenement-inscriptions-impossibles">(Inscriptions impossibles
 ).</span><div class="gski-evenement-inscriptions-types-titres">Le type de t
 itres Fédéraux autorisé n'est pas défini. Veuillez contacter l'organisateur
  et lui signaler le problème.</div></div></div><div class="gski-evenement-e
 preuves"><div class="gski-evenement-epreuves-titres">Epreuves :</div><ul cl
 ass="gski-evenement-epreuves-list"><li><div class="gski-epreuve-date">Le di
 manche 12 mars 2017</div><ul class="gski-epreuve-liste-infos"><li>Codex épr
 euve AMVM0641</li><li>Slalom</li><li>Circuit : Grand Prix Adultes</li></ul>
 </li><li><div class="gski-epreuve-date">Le dimanche 12 mars 2017</div><ul c
 lass="gski-epreuve-liste-infos"><li>Codex épreuve AMVF0641</li><li>Slalom</
 li><li>Circuit : Grand Prix Adultes</li></ul></li><li><div class="gski-epre
 uve-date">Le dimanche 12 mars 2017</div><ul class="gski-epreuve-liste-infos
 "><li>Codex épreuve AMVM0642</li><li>Slalom</li><li>Circuit : Grand Prix Ad
 ultes</li></ul></li><li><div class="gski-epreuve-date">Le dimanche 12 mars 
 2017</div><ul class="gski-epreuve-liste-infos"><li>Codex épreuve AMVF0642</
 li><li>Slalom</li><li>Circuit : Grand Prix Adultes</li></ul></li></ul></div
 ><div class="gskiepreuves-links"><ul><li><a href="https://skivosges.net/ind
 ex.php?option=com_jevents&task=icalevent.detail&evid=747&Itemid=1703">Voir 
 les informations dans l'agenda...</a></li><li><a href="https://skivosges.ne
 t/index.php?option=com_gskiepreuves&view=afficheresultats&format_option=tou
 s&filter[search]=AMVT0640&filter[date_debut]=12-03-2017&filter[date_fin]=12
 -03-2017&code_activite=ALP&Itemid=1703">Vers les résultats...</a></li></ul>
 </div></div"><!-- #/gskiepreuve fin du dode généré par le plugin jevents po
 ur GskiEpreuves. . Ne pas modifier cette ligne, ni tout le contenu précedan
 t.  #/gskiepreuve --> <a href="https://skivosges.net/agenda/detailevenement
 /752/-/gpa-u16-a-masters-gp-ville-de-thann?tmpl=component">Cet évènement a 
 été importé depuis :https://skivosges.net/agenda/detailevenement/752/-/gpa-
 u16-a-masters-gp-ville-de-thann?tmpl=component</a>DTSTAMP:20260421T050903
DTSTART;TZID=Europe/Paris;VALUE=DATE:20170312
DTEND;TZID=Europe/Paris;VALUE=DATE:20170313
SEQUENCE:0
TRANSP:OPAQUE
END:VEVENT
END:VCALENDAR