BEGIN:VCALENDAR
VERSION:2.0
PRODID:-//jEvents 2.0 for Joomla//EN
CALSCALE:GREGORIAN
METHOD:PUBLISH
BEGIN:VTIMEZONE
TZID:Europe/Paris
BEGIN:STANDARD
DTSTART:20160317T000000
RDATE:20160327T030000
TZOFFSETFROM:+0200
TZOFFSETTO:+0100
TZNAME:Europe/Paris CET
END:STANDARD
BEGIN:STANDARD
DTSTART:20161030T020000
RDATE:20170326T030000
TZOFFSETFROM:+0200
TZOFFSETTO:+0100
TZNAME:Europe/Paris CET
END:STANDARD
BEGIN:STANDARD
DTSTART:20171029T020000
RDATE:20180325T030000
TZOFFSETFROM:+0200
TZOFFSETTO:+0100
TZNAME:Europe/Paris CET
END:STANDARD
BEGIN:STANDARD
DTSTART:20181028T020000
RDATE:20190331T030000
TZOFFSETFROM:+0200
TZOFFSETTO:+0100
TZNAME:Europe/Paris CET
END:STANDARD
BEGIN:STANDARD
DTSTART:20191027T020000
RDATE:20200329T030000
TZOFFSETFROM:+0200
TZOFFSETTO:+0100
TZNAME:Europe/Paris CET
END:STANDARD
BEGIN:STANDARD
DTSTART:20201025T020000
RDATE:20210328T030000
TZOFFSETFROM:+0200
TZOFFSETTO:+0100
TZNAME:Europe/Paris CET
END:STANDARD
BEGIN:STANDARD
DTSTART:20211031T020000
RDATE:20220327T030000
TZOFFSETFROM:+0200
TZOFFSETTO:+0100
TZNAME:Europe/Paris CET
END:STANDARD
BEGIN:STANDARD
DTSTART:20221030T020000
RDATE:20230326T030000
TZOFFSETFROM:+0200
TZOFFSETTO:+0100
TZNAME:Europe/Paris CET
END:STANDARD
BEGIN:STANDARD
DTSTART:20231029T020000
RDATE:20240331T030000
TZOFFSETFROM:+0200
TZOFFSETTO:+0100
TZNAME:Europe/Paris CET
END:STANDARD
BEGIN:STANDARD
DTSTART:20241027T020000
RDATE:20250330T030000
TZOFFSETFROM:+0200
TZOFFSETTO:+0100
TZNAME:Europe/Paris CET
END:STANDARD
BEGIN:STANDARD
DTSTART:20251026T020000
RDATE:20260329T030000
TZOFFSETFROM:+0200
TZOFFSETTO:+0100
TZNAME:Europe/Paris CET
END:STANDARD
BEGIN:STANDARD
DTSTART:20261025T020000
RDATE:20270328T030000
TZOFFSETFROM:+0200
TZOFFSETTO:+0100
TZNAME:Europe/Paris CET
END:STANDARD
BEGIN:DAYLIGHT
DTSTART:20160327T030000
RDATE:20161030T020000
TZOFFSETFROM:+0100
TZOFFSETTO:+0200
TZNAME:Europe/Paris CEST
END:DAYLIGHT
BEGIN:DAYLIGHT
DTSTART:20170326T030000
RDATE:20171029T020000
TZOFFSETFROM:+0100
TZOFFSETTO:+0200
TZNAME:Europe/Paris CEST
END:DAYLIGHT
BEGIN:DAYLIGHT
DTSTART:20180325T030000
RDATE:20181028T020000
TZOFFSETFROM:+0100
TZOFFSETTO:+0200
TZNAME:Europe/Paris CEST
END:DAYLIGHT
BEGIN:DAYLIGHT
DTSTART:20190331T030000
RDATE:20191027T020000
TZOFFSETFROM:+0100
TZOFFSETTO:+0200
TZNAME:Europe/Paris CEST
END:DAYLIGHT
BEGIN:DAYLIGHT
DTSTART:20200329T030000
RDATE:20201025T020000
TZOFFSETFROM:+0100
TZOFFSETTO:+0200
TZNAME:Europe/Paris CEST
END:DAYLIGHT
BEGIN:DAYLIGHT
DTSTART:20210328T030000
RDATE:20211031T020000
TZOFFSETFROM:+0100
TZOFFSETTO:+0200
TZNAME:Europe/Paris CEST
END:DAYLIGHT
BEGIN:DAYLIGHT
DTSTART:20220327T030000
RDATE:20221030T020000
TZOFFSETFROM:+0100
TZOFFSETTO:+0200
TZNAME:Europe/Paris CEST
END:DAYLIGHT
BEGIN:DAYLIGHT
DTSTART:20230326T030000
RDATE:20231029T020000
TZOFFSETFROM:+0100
TZOFFSETTO:+0200
TZNAME:Europe/Paris CEST
END:DAYLIGHT
BEGIN:DAYLIGHT
DTSTART:20240331T030000
RDATE:20241027T020000
TZOFFSETFROM:+0100
TZOFFSETTO:+0200
TZNAME:Europe/Paris CEST
END:DAYLIGHT
BEGIN:DAYLIGHT
DTSTART:20250330T030000
RDATE:20251026T020000
TZOFFSETFROM:+0100
TZOFFSETTO:+0200
TZNAME:Europe/Paris CEST
END:DAYLIGHT
BEGIN:DAYLIGHT
DTSTART:20260329T030000
RDATE:20261025T020000
TZOFFSETFROM:+0100
TZOFFSETTO:+0200
TZNAME:Europe/Paris CEST
END:DAYLIGHT
END:VTIMEZONE
BEGIN:VEVENT
UID:c5df9193dd08291bb1719346e21eb0f6
CATEGORIES:Opens et Promos (alpin)
CREATED:20161202T134851
SUMMARY:OPEN  U10 à U14    Trophée commune Du Bonhomme *** ANNULE(E) ***
URL;VALUE=URI:https://skivosges.net/agenda/detailevenement/764/-/open-u10-a-u14-trophee-c
 ommune-du-bonhomme-annule-e?tmpl=component
DESCRIPTION:<!-- #gskiepreuve code généré par le plugin jevents pour GskiEpreuves. Ne p
 as modifier cette ligne, ni tout le contenu suivant  #gskiepreuve --><div c
 lass="gski-evenement_infos"><div class="gski-evenement-nom">OPEN  U10 à U14
     Trophée commune Du Bonhomme</div><div class="gski-evenement-report"> <f
 ont class="gskiattention">(Epreuve annulée)</font></div><ul class="gski-eve
 nement-liste-infos"><li>Codex évenement AMVT0740</li><li>Lieu : LE BONHOMME
 </li><li>Station : LE BONHOMME</li><li>Organisateur : 14251 SKI CLUB LE BON
 HOMME</li><li>Courriel : <!-- Cette adresse électronique est protégée contr
 e les robots spammeurs. --><span class="cloaked_email ep_6f8495fc"><span da
 ta-ep-a="c&#104;r&#105;&#115;&#116;" data-ep-b="&#46;&#102;&#114;"><span da
 ta-ep-b="ora&#110;&#103;&#101;" data-ep-a="&#105;&#97;&#110;.&#99;&#104;"><
 span data-ep-b="&#118;&#105;&#99;&#104;&#99;&#64;" data-ep-a="&#97;&#102;&#
 105;&#111;l&#97;"></span></span></span></span><script>RegularLabs.EmailProt
 ector.unCloak("ep_6f8495fc");</script></li><li>Téléphone : 0689793839</li><
 li>Télécopie : 689793839</li><li><span class="gski-evenement-obs">Autres in
 formations : La course sera maintenue en fonction de l&acute;&eacute;tat du
  domaine.</span></li></ul><div class="gski-evenement-infos-2"><div class="g
 ski-evenement-info-inscriptions"><div class="gski-evenement-inscriptions-pe
 riodes">Période d'inscription à l'evènement du samedi 11 mars 2017 à 01:00 
 au jeudi 16 mars 2017 à 19:00 <span class="gski-evenement-inscriptions-impo
 ssibles">(Inscriptions impossibles).</span><div class="gski-evenement-inscr
 iptions-types-titres">Le type de titres Fédéraux autorisé n'est pas défini.
  Veuillez contacter l'organisateur et lui signaler le problème.</div></div>
 </div><div class="gski-evenement-epreuves"><div class="gski-evenement-epreu
 ves-titres">Epreuves :</div><ul class="gski-evenement-epreuves-list"><li><d
 iv class="gski-epreuve-date">Le samedi 18 mars 2017</div><ul class="gski-ep
 reuve-liste-infos"><li>Codex épreuve AMVM0741</li><li>Combiné Race</li></ul
 ></li><li><div class="gski-epreuve-date">Le samedi 18 mars 2017</div><ul cl
 ass="gski-epreuve-liste-infos"><li>Codex épreuve AMVF0741</li><li>Combiné R
 ace</li></ul></li></ul></div><div class="gskiepreuves-links"><ul><li><a hre
 f="/index.php?option=com_jevents&task=icalevent.detail&evid=759&Itemid=1703
 ">Voir les informations dans l'agenda...</a></li></ul></div></div"><!-- #/g
 skiepreuve fin du dode généré par le plugin jevents pour GskiEpreuves. . Ne
  pas modifier cette ligne, ni tout le contenu précedant.  #/gskiepreuve -->
  <a href="https://skivosges.net/agenda/detailevenement/764/-/open-u10-a-u14
 -trophee-commune-du-bonhomme-annule-e?tmpl=component">Cet évènement a été i
 mporté depuis :https://skivosges.net/agenda/detailevenement/764/-/open-u10-
 a-u14-trophee-commune-du-bonhomme-annule-e?tmpl=component</a>
X-ALT-DESC;FMTTYPE=text/html:<!-- #gskiepreuve code généré par le plugin jevents pour GskiEpreuves. Ne p
 as modifier cette ligne, ni tout le contenu suivant  #gskiepreuve --><div c
 lass="gski-evenement_infos"><div class="gski-evenement-nom">OPEN  U10 à U14
     Trophée commune Du Bonhomme</div><div class="gski-evenement-report"> <f
 ont class="gskiattention">(Epreuve annulée)</font></div><ul class="gski-eve
 nement-liste-infos"><li>Codex évenement AMVT0740</li><li>Lieu : LE BONHOMME
 </li><li>Station : LE BONHOMME</li><li>Organisateur : 14251 SKI CLUB LE BON
 HOMME</li><li>Courriel : <!-- Cette adresse électronique est protégée contr
 e les robots spammeurs. --><span class="cloaked_email ep_6f8495fc"><span da
 ta-ep-a="c&#104;r&#105;&#115;&#116;" data-ep-b="&#46;&#102;&#114;"><span da
 ta-ep-b="ora&#110;&#103;&#101;" data-ep-a="&#105;&#97;&#110;.&#99;&#104;"><
 span data-ep-b="&#118;&#105;&#99;&#104;&#99;&#64;" data-ep-a="&#97;&#102;&#
 105;&#111;l&#97;"></span></span></span></span><script>RegularLabs.EmailProt
 ector.unCloak("ep_6f8495fc");</script></li><li>Téléphone : 0689793839</li><
 li>Télécopie : 689793839</li><li><span class="gski-evenement-obs">Autres in
 formations : La course sera maintenue en fonction de l&acute;&eacute;tat du
  domaine.</span></li></ul><div class="gski-evenement-infos-2"><div class="g
 ski-evenement-info-inscriptions"><div class="gski-evenement-inscriptions-pe
 riodes">Période d'inscription à l'evènement du samedi 11 mars 2017 à 01:00 
 au jeudi 16 mars 2017 à 19:00 <span class="gski-evenement-inscriptions-impo
 ssibles">(Inscriptions impossibles).</span><div class="gski-evenement-inscr
 iptions-types-titres">Le type de titres Fédéraux autorisé n'est pas défini.
  Veuillez contacter l'organisateur et lui signaler le problème.</div></div>
 </div><div class="gski-evenement-epreuves"><div class="gski-evenement-epreu
 ves-titres">Epreuves :</div><ul class="gski-evenement-epreuves-list"><li><d
 iv class="gski-epreuve-date">Le samedi 18 mars 2017</div><ul class="gski-ep
 reuve-liste-infos"><li>Codex épreuve AMVM0741</li><li>Combiné Race</li></ul
 ></li><li><div class="gski-epreuve-date">Le samedi 18 mars 2017</div><ul cl
 ass="gski-epreuve-liste-infos"><li>Codex épreuve AMVF0741</li><li>Combiné R
 ace</li></ul></li></ul></div><div class="gskiepreuves-links"><ul><li><a hre
 f="https://skivosges.net/index.php?option=com_jevents&task=icalevent.detail
 &evid=759&Itemid=1703">Voir les informations dans l'agenda...</a></li></ul>
 </div></div"><!-- #/gskiepreuve fin du dode généré par le plugin jevents po
 ur GskiEpreuves. . Ne pas modifier cette ligne, ni tout le contenu précedan
 t.  #/gskiepreuve --> <a href="https://skivosges.net/agenda/detailevenement
 /764/-/open-u10-a-u14-trophee-commune-du-bonhomme-annule-e?tmpl=component">
 Cet évènement a été importé depuis :https://skivosges.net/agenda/detaileven
 ement/764/-/open-u10-a-u14-trophee-commune-du-bonhomme-annule-e?tmpl=compon
 ent</a>DTSTAMP:20260421T051334
DTSTART;TZID=Europe/Paris;VALUE=DATE:20170318
DTEND;TZID=Europe/Paris;VALUE=DATE:20170319
SEQUENCE:0
TRANSP:OPAQUE
END:VEVENT
END:VCALENDAR