BEGIN:VCALENDAR
VERSION:2.0
PRODID:-//jEvents 2.0 for Joomla//EN
CALSCALE:GREGORIAN
METHOD:PUBLISH
BEGIN:VTIMEZONE
TZID:Europe/Paris
BEGIN:STANDARD
DTSTART:20160318T000000
RDATE:20160327T030000
TZOFFSETFROM:+0200
TZOFFSETTO:+0100
TZNAME:Europe/Paris CET
END:STANDARD
BEGIN:STANDARD
DTSTART:20161030T020000
RDATE:20170326T030000
TZOFFSETFROM:+0200
TZOFFSETTO:+0100
TZNAME:Europe/Paris CET
END:STANDARD
BEGIN:STANDARD
DTSTART:20171029T020000
RDATE:20180325T030000
TZOFFSETFROM:+0200
TZOFFSETTO:+0100
TZNAME:Europe/Paris CET
END:STANDARD
BEGIN:STANDARD
DTSTART:20181028T020000
RDATE:20190331T030000
TZOFFSETFROM:+0200
TZOFFSETTO:+0100
TZNAME:Europe/Paris CET
END:STANDARD
BEGIN:STANDARD
DTSTART:20191027T020000
RDATE:20200329T030000
TZOFFSETFROM:+0200
TZOFFSETTO:+0100
TZNAME:Europe/Paris CET
END:STANDARD
BEGIN:STANDARD
DTSTART:20201025T020000
RDATE:20210328T030000
TZOFFSETFROM:+0200
TZOFFSETTO:+0100
TZNAME:Europe/Paris CET
END:STANDARD
BEGIN:STANDARD
DTSTART:20211031T020000
RDATE:20220327T030000
TZOFFSETFROM:+0200
TZOFFSETTO:+0100
TZNAME:Europe/Paris CET
END:STANDARD
BEGIN:STANDARD
DTSTART:20221030T020000
RDATE:20230326T030000
TZOFFSETFROM:+0200
TZOFFSETTO:+0100
TZNAME:Europe/Paris CET
END:STANDARD
BEGIN:STANDARD
DTSTART:20231029T020000
RDATE:20240331T030000
TZOFFSETFROM:+0200
TZOFFSETTO:+0100
TZNAME:Europe/Paris CET
END:STANDARD
BEGIN:STANDARD
DTSTART:20241027T020000
RDATE:20250330T030000
TZOFFSETFROM:+0200
TZOFFSETTO:+0100
TZNAME:Europe/Paris CET
END:STANDARD
BEGIN:STANDARD
DTSTART:20251026T020000
RDATE:20260329T030000
TZOFFSETFROM:+0200
TZOFFSETTO:+0100
TZNAME:Europe/Paris CET
END:STANDARD
BEGIN:STANDARD
DTSTART:20261025T020000
RDATE:20270328T030000
TZOFFSETFROM:+0200
TZOFFSETTO:+0100
TZNAME:Europe/Paris CET
END:STANDARD
BEGIN:DAYLIGHT
DTSTART:20160327T030000
RDATE:20161030T020000
TZOFFSETFROM:+0100
TZOFFSETTO:+0200
TZNAME:Europe/Paris CEST
END:DAYLIGHT
BEGIN:DAYLIGHT
DTSTART:20170326T030000
RDATE:20171029T020000
TZOFFSETFROM:+0100
TZOFFSETTO:+0200
TZNAME:Europe/Paris CEST
END:DAYLIGHT
BEGIN:DAYLIGHT
DTSTART:20180325T030000
RDATE:20181028T020000
TZOFFSETFROM:+0100
TZOFFSETTO:+0200
TZNAME:Europe/Paris CEST
END:DAYLIGHT
BEGIN:DAYLIGHT
DTSTART:20190331T030000
RDATE:20191027T020000
TZOFFSETFROM:+0100
TZOFFSETTO:+0200
TZNAME:Europe/Paris CEST
END:DAYLIGHT
BEGIN:DAYLIGHT
DTSTART:20200329T030000
RDATE:20201025T020000
TZOFFSETFROM:+0100
TZOFFSETTO:+0200
TZNAME:Europe/Paris CEST
END:DAYLIGHT
BEGIN:DAYLIGHT
DTSTART:20210328T030000
RDATE:20211031T020000
TZOFFSETFROM:+0100
TZOFFSETTO:+0200
TZNAME:Europe/Paris CEST
END:DAYLIGHT
BEGIN:DAYLIGHT
DTSTART:20220327T030000
RDATE:20221030T020000
TZOFFSETFROM:+0100
TZOFFSETTO:+0200
TZNAME:Europe/Paris CEST
END:DAYLIGHT
BEGIN:DAYLIGHT
DTSTART:20230326T030000
RDATE:20231029T020000
TZOFFSETFROM:+0100
TZOFFSETTO:+0200
TZNAME:Europe/Paris CEST
END:DAYLIGHT
BEGIN:DAYLIGHT
DTSTART:20240331T030000
RDATE:20241027T020000
TZOFFSETFROM:+0100
TZOFFSETTO:+0200
TZNAME:Europe/Paris CEST
END:DAYLIGHT
BEGIN:DAYLIGHT
DTSTART:20250330T030000
RDATE:20251026T020000
TZOFFSETFROM:+0100
TZOFFSETTO:+0200
TZNAME:Europe/Paris CEST
END:DAYLIGHT
BEGIN:DAYLIGHT
DTSTART:20260329T030000
RDATE:20261025T020000
TZOFFSETFROM:+0100
TZOFFSETTO:+0200
TZNAME:Europe/Paris CEST
END:DAYLIGHT
END:VTIMEZONE
BEGIN:VEVENT
UID:bc49382c7e45d229351b6f42eb88675c
CATEGORIES:Circuit Massif Adultes (alpin)
CREATED:20161202T134851
SUMMARY:GPA   U16 à Masters GP de l´Electricité de Strasbourg *** ANNULE(E) ***
URL;VALUE=URI:https://skivosges.net/agenda/detailevenement/767/-/gpa-u16-a-masters-gp-de-
 lelectricite-de-strasbourg-annule-e?tmpl=component
DESCRIPTION:<!-- #gskiepreuve code généré par le plugin jevents pour GskiEpreuves. Ne p
 as modifier cette ligne, ni tout le contenu suivant  #gskiepreuve --><div c
 lass="gski-evenement_infos"><div class="gski-evenement-nom">GPA   U16 à Mas
 ters GP de l´Electricité de Strasbourg</div><div class="gski-evenement-repo
 rt"> <font class="gskiattention">(Epreuve annulée)</font></div><ul class="g
 ski-evenement-liste-infos"><li>Codex évenement AMVT0760</li><li>Circuit : G
 rand Prix Adultes</li><li>Lieu : LE BONHOMME</li><li>Station : LE BONHOMME<
 /li><li>Organisateur : 14128 A.S ELECTRICITE STRASBOURG</li><li>Courriel : 
 <!-- Cette adresse électronique est protégée contre les robots spammeurs. -
 -><span class="cloaked_email ep_100a7f15"><span data-ep-a="&#119;&#105;&#10
 1;&#115;." data-ep-b=""><span data-ep-a="c&#104;r&#105;&#115;" data-ep-b="&
 #108;.&#99;&#111;m"><span data-ep-b="&#64;&#103;&#109;&#97;i" data-ep-a="t&
 #111;&#112;h&#101;"></span></span></span></span><script>RegularLabs.EmailPr
 otector.unCloak("ep_100a7f15");</script></li></ul><div class="gski-evenemen
 t-infos-2"><div class="gski-evenement-info-inscriptions"><div class="gski-e
 venement-inscriptions-periodes">Période d'inscription à l'evènement du dima
 nche 12 mars 2017 à 01:00 au vendredi 17 mars 2017 à 13:00 <span class="gsk
 i-evenement-inscriptions-impossibles">(Inscriptions impossibles).</span><di
 v class="gski-evenement-inscriptions-types-titres">Le type de titres Fédéra
 ux autorisé n'est pas défini. Veuillez contacter l'organisateur et lui sign
 aler le problème.</div></div></div><div class="gski-evenement-epreuves"><di
 v class="gski-evenement-epreuves-titres">Epreuves :</div><ul class="gski-ev
 enement-epreuves-list"><li><div class="gski-epreuve-date">Le dimanche 19 ma
 rs 2017</div><ul class="gski-epreuve-liste-infos"><li>Codex épreuve AMVM076
 1</li><li>Slalom Geant</li><li>Circuit : Grand Prix Adultes</li></ul></li><
 li><div class="gski-epreuve-date">Le dimanche 19 mars 2017</div><ul class="
 gski-epreuve-liste-infos"><li>Codex épreuve AMVF0761</li><li>Slalom Geant</
 li><li>Circuit : Grand Prix Adultes</li></ul></li><li><div class="gski-epre
 uve-date">Le dimanche 19 mars 2017</div><ul class="gski-epreuve-liste-infos
 "><li>Codex épreuve AMVM0762</li><li>Slalom Geant</li><li>Circuit : Grand P
 rix Adultes</li></ul></li><li><div class="gski-epreuve-date">Le dimanche 19
  mars 2017</div><ul class="gski-epreuve-liste-infos"><li>Codex épreuve AMVF
 0762</li><li>Slalom Geant</li><li>Circuit : Grand Prix Adultes</li></ul></l
 i></ul></div><div class="gskiepreuves-links"><ul><li><a href="/index.php?op
 tion=com_jevents&task=icalevent.detail&evid=762&Itemid=1703">Voir les infor
 mations dans l'agenda...</a></li></ul></div></div"><!-- #/gskiepreuve fin d
 u dode généré par le plugin jevents pour GskiEpreuves. . Ne pas modifier ce
 tte ligne, ni tout le contenu précedant.  #/gskiepreuve --> <a href="https:
 //skivosges.net/agenda/detailevenement/767/-/gpa-u16-a-masters-gp-de-lelect
 ricite-de-strasbourg-annule-e?tmpl=component">Cet évènement a été importé d
 epuis :https://skivosges.net/agenda/detailevenement/767/-/gpa-u16-a-masters
 -gp-de-lelectricite-de-strasbourg-annule-e?tmpl=component</a>
X-ALT-DESC;FMTTYPE=text/html:<!-- #gskiepreuve code généré par le plugin jevents pour GskiEpreuves. Ne p
 as modifier cette ligne, ni tout le contenu suivant  #gskiepreuve --><div c
 lass="gski-evenement_infos"><div class="gski-evenement-nom">GPA   U16 à Mas
 ters GP de l´Electricité de Strasbourg</div><div class="gski-evenement-repo
 rt"> <font class="gskiattention">(Epreuve annulée)</font></div><ul class="g
 ski-evenement-liste-infos"><li>Codex évenement AMVT0760</li><li>Circuit : G
 rand Prix Adultes</li><li>Lieu : LE BONHOMME</li><li>Station : LE BONHOMME<
 /li><li>Organisateur : 14128 A.S ELECTRICITE STRASBOURG</li><li>Courriel : 
 <!-- Cette adresse électronique est protégée contre les robots spammeurs. -
 -><span class="cloaked_email ep_100a7f15"><span data-ep-a="&#119;&#105;&#10
 1;&#115;." data-ep-b=""><span data-ep-a="c&#104;r&#105;&#115;" data-ep-b="&
 #108;.&#99;&#111;m"><span data-ep-b="&#64;&#103;&#109;&#97;i" data-ep-a="t&
 #111;&#112;h&#101;"></span></span></span></span><script>RegularLabs.EmailPr
 otector.unCloak("ep_100a7f15");</script></li></ul><div class="gski-evenemen
 t-infos-2"><div class="gski-evenement-info-inscriptions"><div class="gski-e
 venement-inscriptions-periodes">Période d'inscription à l'evènement du dima
 nche 12 mars 2017 à 01:00 au vendredi 17 mars 2017 à 13:00 <span class="gsk
 i-evenement-inscriptions-impossibles">(Inscriptions impossibles).</span><di
 v class="gski-evenement-inscriptions-types-titres">Le type de titres Fédéra
 ux autorisé n'est pas défini. Veuillez contacter l'organisateur et lui sign
 aler le problème.</div></div></div><div class="gski-evenement-epreuves"><di
 v class="gski-evenement-epreuves-titres">Epreuves :</div><ul class="gski-ev
 enement-epreuves-list"><li><div class="gski-epreuve-date">Le dimanche 19 ma
 rs 2017</div><ul class="gski-epreuve-liste-infos"><li>Codex épreuve AMVM076
 1</li><li>Slalom Geant</li><li>Circuit : Grand Prix Adultes</li></ul></li><
 li><div class="gski-epreuve-date">Le dimanche 19 mars 2017</div><ul class="
 gski-epreuve-liste-infos"><li>Codex épreuve AMVF0761</li><li>Slalom Geant</
 li><li>Circuit : Grand Prix Adultes</li></ul></li><li><div class="gski-epre
 uve-date">Le dimanche 19 mars 2017</div><ul class="gski-epreuve-liste-infos
 "><li>Codex épreuve AMVM0762</li><li>Slalom Geant</li><li>Circuit : Grand P
 rix Adultes</li></ul></li><li><div class="gski-epreuve-date">Le dimanche 19
  mars 2017</div><ul class="gski-epreuve-liste-infos"><li>Codex épreuve AMVF
 0762</li><li>Slalom Geant</li><li>Circuit : Grand Prix Adultes</li></ul></l
 i></ul></div><div class="gskiepreuves-links"><ul><li><a href="https://skivo
 sges.net/index.php?option=com_jevents&task=icalevent.detail&evid=762&Itemid
 =1703">Voir les informations dans l'agenda...</a></li></ul></div></div"><!-
 - #/gskiepreuve fin du dode généré par le plugin jevents pour GskiEpreuves.
  . Ne pas modifier cette ligne, ni tout le contenu précedant.  #/gskiepreuv
 e --> <a href="https://skivosges.net/agenda/detailevenement/767/-/gpa-u16-a
 -masters-gp-de-lelectricite-de-strasbourg-annule-e?tmpl=component">Cet évèn
 ement a été importé depuis :https://skivosges.net/agenda/detailevenement/76
 7/-/gpa-u16-a-masters-gp-de-lelectricite-de-strasbourg-annule-e?tmpl=compon
 ent</a>DTSTAMP:20260421T064618
DTSTART;TZID=Europe/Paris;VALUE=DATE:20170319
DTEND;TZID=Europe/Paris;VALUE=DATE:20170320
SEQUENCE:0
TRANSP:OPAQUE
END:VEVENT
END:VCALENDAR