BEGIN:VCALENDAR
VERSION:2.0
PRODID:-//jEvents 2.0 for Joomla//EN
CALSCALE:GREGORIAN
METHOD:PUBLISH
BEGIN:VTIMEZONE
TZID:Europe/Paris
BEGIN:STANDARD
DTSTART:20160318T000000
RDATE:20160327T030000
TZOFFSETFROM:+0200
TZOFFSETTO:+0100
TZNAME:Europe/Paris CET
END:STANDARD
BEGIN:STANDARD
DTSTART:20161030T020000
RDATE:20170326T030000
TZOFFSETFROM:+0200
TZOFFSETTO:+0100
TZNAME:Europe/Paris CET
END:STANDARD
BEGIN:STANDARD
DTSTART:20171029T020000
RDATE:20180325T030000
TZOFFSETFROM:+0200
TZOFFSETTO:+0100
TZNAME:Europe/Paris CET
END:STANDARD
BEGIN:STANDARD
DTSTART:20181028T020000
RDATE:20190331T030000
TZOFFSETFROM:+0200
TZOFFSETTO:+0100
TZNAME:Europe/Paris CET
END:STANDARD
BEGIN:STANDARD
DTSTART:20191027T020000
RDATE:20200329T030000
TZOFFSETFROM:+0200
TZOFFSETTO:+0100
TZNAME:Europe/Paris CET
END:STANDARD
BEGIN:STANDARD
DTSTART:20201025T020000
RDATE:20210328T030000
TZOFFSETFROM:+0200
TZOFFSETTO:+0100
TZNAME:Europe/Paris CET
END:STANDARD
BEGIN:STANDARD
DTSTART:20211031T020000
RDATE:20220327T030000
TZOFFSETFROM:+0200
TZOFFSETTO:+0100
TZNAME:Europe/Paris CET
END:STANDARD
BEGIN:STANDARD
DTSTART:20221030T020000
RDATE:20230326T030000
TZOFFSETFROM:+0200
TZOFFSETTO:+0100
TZNAME:Europe/Paris CET
END:STANDARD
BEGIN:STANDARD
DTSTART:20231029T020000
RDATE:20240331T030000
TZOFFSETFROM:+0200
TZOFFSETTO:+0100
TZNAME:Europe/Paris CET
END:STANDARD
BEGIN:STANDARD
DTSTART:20241027T020000
RDATE:20250330T030000
TZOFFSETFROM:+0200
TZOFFSETTO:+0100
TZNAME:Europe/Paris CET
END:STANDARD
BEGIN:STANDARD
DTSTART:20251026T020000
RDATE:20260329T030000
TZOFFSETFROM:+0200
TZOFFSETTO:+0100
TZNAME:Europe/Paris CET
END:STANDARD
BEGIN:STANDARD
DTSTART:20261025T020000
RDATE:20270328T030000
TZOFFSETFROM:+0200
TZOFFSETTO:+0100
TZNAME:Europe/Paris CET
END:STANDARD
BEGIN:DAYLIGHT
DTSTART:20160327T030000
RDATE:20161030T020000
TZOFFSETFROM:+0100
TZOFFSETTO:+0200
TZNAME:Europe/Paris CEST
END:DAYLIGHT
BEGIN:DAYLIGHT
DTSTART:20170326T030000
RDATE:20171029T020000
TZOFFSETFROM:+0100
TZOFFSETTO:+0200
TZNAME:Europe/Paris CEST
END:DAYLIGHT
BEGIN:DAYLIGHT
DTSTART:20180325T030000
RDATE:20181028T020000
TZOFFSETFROM:+0100
TZOFFSETTO:+0200
TZNAME:Europe/Paris CEST
END:DAYLIGHT
BEGIN:DAYLIGHT
DTSTART:20190331T030000
RDATE:20191027T020000
TZOFFSETFROM:+0100
TZOFFSETTO:+0200
TZNAME:Europe/Paris CEST
END:DAYLIGHT
BEGIN:DAYLIGHT
DTSTART:20200329T030000
RDATE:20201025T020000
TZOFFSETFROM:+0100
TZOFFSETTO:+0200
TZNAME:Europe/Paris CEST
END:DAYLIGHT
BEGIN:DAYLIGHT
DTSTART:20210328T030000
RDATE:20211031T020000
TZOFFSETFROM:+0100
TZOFFSETTO:+0200
TZNAME:Europe/Paris CEST
END:DAYLIGHT
BEGIN:DAYLIGHT
DTSTART:20220327T030000
RDATE:20221030T020000
TZOFFSETFROM:+0100
TZOFFSETTO:+0200
TZNAME:Europe/Paris CEST
END:DAYLIGHT
BEGIN:DAYLIGHT
DTSTART:20230326T030000
RDATE:20231029T020000
TZOFFSETFROM:+0100
TZOFFSETTO:+0200
TZNAME:Europe/Paris CEST
END:DAYLIGHT
BEGIN:DAYLIGHT
DTSTART:20240331T030000
RDATE:20241027T020000
TZOFFSETFROM:+0100
TZOFFSETTO:+0200
TZNAME:Europe/Paris CEST
END:DAYLIGHT
BEGIN:DAYLIGHT
DTSTART:20250330T030000
RDATE:20251026T020000
TZOFFSETFROM:+0100
TZOFFSETTO:+0200
TZNAME:Europe/Paris CEST
END:DAYLIGHT
BEGIN:DAYLIGHT
DTSTART:20260329T030000
RDATE:20261025T020000
TZOFFSETFROM:+0100
TZOFFSETTO:+0200
TZNAME:Europe/Paris CEST
END:DAYLIGHT
END:VTIMEZONE
BEGIN:VEVENT
UID:ea5f86434e34c6c95a0955e7e8e07542
CATEGORIES:Opens et Promos (alpin)
CREATED:20161202T134851
SUMMARY:CD2 LABELLEMONTAGNE **REPORTE**
URL;VALUE=URI:https://skivosges.net/agenda/detailevenement/768/-/cd2-labellemontagne-repo
 rte?tmpl=component
DESCRIPTION:<!-- #gskiepreuve code généré par le plugin jevents pour GskiEpreuves. Ne p
 as modifier cette ligne, ni tout le contenu suivant  #gskiepreuve --><div c
 lass="gski-evenement_infos"><div class="gski-evenement-nom">CD2 LABELLEMONT
 AGNE</div><div class="gski-evenement-report"> <font class="gskiattention">(
 Epreuve reportée)</font></div><ul class="gski-evenement-liste-infos"><li>Co
 dex évenement AMVT0790</li><li>Lieu : LA BRESSE</li><li>Station : LA BRESSE
 </li><li>COM_GSKIEPREUVES_EPREUVE_PISTEGaby CURIEN</li><li>Organisateur : 1
 4024 LA BRESSAUDE SECTION SKI</li><li>Courriel : <!-- Cette adresse électro
 nique est protégée contre les robots spammeurs. --><span class="cloaked_ema
 il ep_26e77205"><span data-ep-a="&#111;&#100;i&#108;&#101;" data-ep-b="fr">
 <span data-ep-b="&#97;ng&#101;&#46;" data-ep-a="&#46;m&#117;n&#115;"><span 
 data-ep-b="l&#98;&#64;&#111;r" data-ep-a="&#99;&#104;&#46;&#115;c"></span><
 /span></span></span><script>RegularLabs.EmailProtector.unCloak("ep_26e77205
 ");</script></li><li>Téléphone : 06 08 85 52 52</li><li><span class="gski-e
 venement-obs">Autres informations : Comp&eacute;tition avanc&eacute;e au sa
 medi 18 mars. Premier d&eacute;part &agrave; 8 H 45. G&eacute;ant sur la pi
 ste Gaby CURIEN</span></li></ul><div class="gski-evenement-infos-2"><div cl
 ass="gski-evenement-info-inscriptions"><div class="gski-evenement-inscripti
 ons-periodes">Période d'inscription à l'evènement du dimanche 12 mars 2017 
 à 01:00 au vendredi 17 mars 2017 à 13:00 <span class="gski-evenement-inscri
 ptions-impossibles">(Inscriptions impossibles).</span><div class="gski-even
 ement-inscriptions-types-titres">Le type de titres Fédéraux autorisé n'est 
 pas défini. Veuillez contacter l'organisateur et lui signaler le problème.<
 /div></div></div><div class="gski-evenement-epreuves"><div class="gski-even
 ement-epreuves-titres">Epreuves :</div><ul class="gski-evenement-epreuves-l
 ist"><li><div class="gski-epreuve-date">Le dimanche 19 mars 2017</div><ul c
 lass="gski-epreuve-liste-infos"><li>Codex épreuve AMVM0791</li><li>Slalom</
 li></ul></li><li><div class="gski-epreuve-date">Le dimanche 19 mars 2017</d
 iv><ul class="gski-epreuve-liste-infos"><li>Codex épreuve AMVF0791</li><li>
 Slalom</li></ul></li></ul></div><div class="gskiepreuves-links"><ul><li><a 
 href="/index.php?option=com_jevents&task=icalevent.detail&evid=763&Itemid=1
 703">Voir les informations dans l'agenda...</a></li><li><a href="/index.php
 ?option=com_gskiepreuves&view=afficheresultats&format_option=tous&filter[se
 arch]=AMVT0790&filter[date_debut]=18-03-2017&filter[date_fin]=18-03-2017&co
 de_activite=ALP&Itemid=1703">Vers les résultats...</a></li></ul></div></div
 "><!-- #/gskiepreuve fin du dode généré par le plugin jevents pour GskiEpre
 uves. . Ne pas modifier cette ligne, ni tout le contenu précedant.  #/gskie
 preuve --> <a href="https://skivosges.net/agenda/detailevenement/768/-/cd2-
 labellemontagne-reporte?tmpl=component">Cet évènement a été importé depuis 
 :https://skivosges.net/agenda/detailevenement/768/-/cd2-labellemontagne-rep
 orte?tmpl=component</a>
X-ALT-DESC;FMTTYPE=text/html:<!-- #gskiepreuve code généré par le plugin jevents pour GskiEpreuves. Ne p
 as modifier cette ligne, ni tout le contenu suivant  #gskiepreuve --><div c
 lass="gski-evenement_infos"><div class="gski-evenement-nom">CD2 LABELLEMONT
 AGNE</div><div class="gski-evenement-report"> <font class="gskiattention">(
 Epreuve reportée)</font></div><ul class="gski-evenement-liste-infos"><li>Co
 dex évenement AMVT0790</li><li>Lieu : LA BRESSE</li><li>Station : LA BRESSE
 </li><li>COM_GSKIEPREUVES_EPREUVE_PISTEGaby CURIEN</li><li>Organisateur : 1
 4024 LA BRESSAUDE SECTION SKI</li><li>Courriel : <!-- Cette adresse électro
 nique est protégée contre les robots spammeurs. --><span class="cloaked_ema
 il ep_26e77205"><span data-ep-a="&#111;&#100;i&#108;&#101;" data-ep-b="fr">
 <span data-ep-b="&#97;ng&#101;&#46;" data-ep-a="&#46;m&#117;n&#115;"><span 
 data-ep-b="l&#98;&#64;&#111;r" data-ep-a="&#99;&#104;&#46;&#115;c"></span><
 /span></span></span><script>RegularLabs.EmailProtector.unCloak("ep_26e77205
 ");</script></li><li>Téléphone : 06 08 85 52 52</li><li><span class="gski-e
 venement-obs">Autres informations : Comp&eacute;tition avanc&eacute;e au sa
 medi 18 mars. Premier d&eacute;part &agrave; 8 H 45. G&eacute;ant sur la pi
 ste Gaby CURIEN</span></li></ul><div class="gski-evenement-infos-2"><div cl
 ass="gski-evenement-info-inscriptions"><div class="gski-evenement-inscripti
 ons-periodes">Période d'inscription à l'evènement du dimanche 12 mars 2017 
 à 01:00 au vendredi 17 mars 2017 à 13:00 <span class="gski-evenement-inscri
 ptions-impossibles">(Inscriptions impossibles).</span><div class="gski-even
 ement-inscriptions-types-titres">Le type de titres Fédéraux autorisé n'est 
 pas défini. Veuillez contacter l'organisateur et lui signaler le problème.<
 /div></div></div><div class="gski-evenement-epreuves"><div class="gski-even
 ement-epreuves-titres">Epreuves :</div><ul class="gski-evenement-epreuves-l
 ist"><li><div class="gski-epreuve-date">Le dimanche 19 mars 2017</div><ul c
 lass="gski-epreuve-liste-infos"><li>Codex épreuve AMVM0791</li><li>Slalom</
 li></ul></li><li><div class="gski-epreuve-date">Le dimanche 19 mars 2017</d
 iv><ul class="gski-epreuve-liste-infos"><li>Codex épreuve AMVF0791</li><li>
 Slalom</li></ul></li></ul></div><div class="gskiepreuves-links"><ul><li><a 
 href="https://skivosges.net/index.php?option=com_jevents&task=icalevent.det
 ail&evid=763&Itemid=1703">Voir les informations dans l'agenda...</a></li><l
 i><a href="https://skivosges.net/index.php?option=com_gskiepreuves&view=aff
 icheresultats&format_option=tous&filter[search]=AMVT0790&filter[date_debut]
 =18-03-2017&filter[date_fin]=18-03-2017&code_activite=ALP&Itemid=1703">Vers
  les résultats...</a></li></ul></div></div"><!-- #/gskiepreuve fin du dode 
 généré par le plugin jevents pour GskiEpreuves. . Ne pas modifier cette lig
 ne, ni tout le contenu précedant.  #/gskiepreuve --> <a href="https://skivo
 sges.net/agenda/detailevenement/768/-/cd2-labellemontagne-reporte?tmpl=comp
 onent">Cet évènement a été importé depuis :https://skivosges.net/agenda/det
 ailevenement/768/-/cd2-labellemontagne-reporte?tmpl=component</a>DTSTAMP:20260421T051430
DTSTART;TZID=Europe/Paris;VALUE=DATE:20170319
DTEND;TZID=Europe/Paris;VALUE=DATE:20170320
SEQUENCE:0
TRANSP:OPAQUE
END:VEVENT
END:VCALENDAR