BEGIN:VCALENDAR
VERSION:2.0
PRODID:-//jEvents 2.0 for Joomla//EN
CALSCALE:GREGORIAN
METHOD:PUBLISH
BEGIN:VTIMEZONE
TZID:Europe/Paris
BEGIN:STANDARD
DTSTART:20160324T000000
RDATE:20160327T030000
TZOFFSETFROM:+0200
TZOFFSETTO:+0100
TZNAME:Europe/Paris CET
END:STANDARD
BEGIN:STANDARD
DTSTART:20161030T020000
RDATE:20170326T030000
TZOFFSETFROM:+0200
TZOFFSETTO:+0100
TZNAME:Europe/Paris CET
END:STANDARD
BEGIN:STANDARD
DTSTART:20171029T020000
RDATE:20180325T030000
TZOFFSETFROM:+0200
TZOFFSETTO:+0100
TZNAME:Europe/Paris CET
END:STANDARD
BEGIN:STANDARD
DTSTART:20181028T020000
RDATE:20190331T030000
TZOFFSETFROM:+0200
TZOFFSETTO:+0100
TZNAME:Europe/Paris CET
END:STANDARD
BEGIN:STANDARD
DTSTART:20191027T020000
RDATE:20200329T030000
TZOFFSETFROM:+0200
TZOFFSETTO:+0100
TZNAME:Europe/Paris CET
END:STANDARD
BEGIN:STANDARD
DTSTART:20201025T020000
RDATE:20210328T030000
TZOFFSETFROM:+0200
TZOFFSETTO:+0100
TZNAME:Europe/Paris CET
END:STANDARD
BEGIN:STANDARD
DTSTART:20211031T020000
RDATE:20220327T030000
TZOFFSETFROM:+0200
TZOFFSETTO:+0100
TZNAME:Europe/Paris CET
END:STANDARD
BEGIN:STANDARD
DTSTART:20221030T020000
RDATE:20230326T030000
TZOFFSETFROM:+0200
TZOFFSETTO:+0100
TZNAME:Europe/Paris CET
END:STANDARD
BEGIN:STANDARD
DTSTART:20231029T020000
RDATE:20240331T030000
TZOFFSETFROM:+0200
TZOFFSETTO:+0100
TZNAME:Europe/Paris CET
END:STANDARD
BEGIN:STANDARD
DTSTART:20241027T020000
RDATE:20250330T030000
TZOFFSETFROM:+0200
TZOFFSETTO:+0100
TZNAME:Europe/Paris CET
END:STANDARD
BEGIN:STANDARD
DTSTART:20251026T020000
RDATE:20260329T030000
TZOFFSETFROM:+0200
TZOFFSETTO:+0100
TZNAME:Europe/Paris CET
END:STANDARD
BEGIN:STANDARD
DTSTART:20261025T020000
RDATE:20270328T030000
TZOFFSETFROM:+0200
TZOFFSETTO:+0100
TZNAME:Europe/Paris CET
END:STANDARD
BEGIN:DAYLIGHT
DTSTART:20160327T030000
RDATE:20161030T020000
TZOFFSETFROM:+0100
TZOFFSETTO:+0200
TZNAME:Europe/Paris CEST
END:DAYLIGHT
BEGIN:DAYLIGHT
DTSTART:20170326T030000
RDATE:20171029T020000
TZOFFSETFROM:+0100
TZOFFSETTO:+0200
TZNAME:Europe/Paris CEST
END:DAYLIGHT
BEGIN:DAYLIGHT
DTSTART:20180325T030000
RDATE:20181028T020000
TZOFFSETFROM:+0100
TZOFFSETTO:+0200
TZNAME:Europe/Paris CEST
END:DAYLIGHT
BEGIN:DAYLIGHT
DTSTART:20190331T030000
RDATE:20191027T020000
TZOFFSETFROM:+0100
TZOFFSETTO:+0200
TZNAME:Europe/Paris CEST
END:DAYLIGHT
BEGIN:DAYLIGHT
DTSTART:20200329T030000
RDATE:20201025T020000
TZOFFSETFROM:+0100
TZOFFSETTO:+0200
TZNAME:Europe/Paris CEST
END:DAYLIGHT
BEGIN:DAYLIGHT
DTSTART:20210328T030000
RDATE:20211031T020000
TZOFFSETFROM:+0100
TZOFFSETTO:+0200
TZNAME:Europe/Paris CEST
END:DAYLIGHT
BEGIN:DAYLIGHT
DTSTART:20220327T030000
RDATE:20221030T020000
TZOFFSETFROM:+0100
TZOFFSETTO:+0200
TZNAME:Europe/Paris CEST
END:DAYLIGHT
BEGIN:DAYLIGHT
DTSTART:20230326T030000
RDATE:20231029T020000
TZOFFSETFROM:+0100
TZOFFSETTO:+0200
TZNAME:Europe/Paris CEST
END:DAYLIGHT
BEGIN:DAYLIGHT
DTSTART:20240331T030000
RDATE:20241027T020000
TZOFFSETFROM:+0100
TZOFFSETTO:+0200
TZNAME:Europe/Paris CEST
END:DAYLIGHT
BEGIN:DAYLIGHT
DTSTART:20250330T030000
RDATE:20251026T020000
TZOFFSETFROM:+0100
TZOFFSETTO:+0200
TZNAME:Europe/Paris CEST
END:DAYLIGHT
BEGIN:DAYLIGHT
DTSTART:20260329T030000
RDATE:20261025T020000
TZOFFSETFROM:+0100
TZOFFSETTO:+0200
TZNAME:Europe/Paris CEST
END:DAYLIGHT
END:VTIMEZONE
BEGIN:VEVENT
UID:d8a50ff8902aed63945a14875947ef10
CATEGORIES:Opens et Promos (alpin)
CREATED:20161202T134851
SUMMARY:PROMO  U8 à U16     Haribo Kids Snow Cup 2017
URL;VALUE=URI:https://skivosges.net/agenda/detailevenement/772/-/promo-u8-a-u16-haribo-ki
 ds-snow-cup-2017?tmpl=component
DESCRIPTION:<!-- #gskiepreuve code généré par le plugin jevents pour GskiEpreuves. Ne p
 as modifier cette ligne, ni tout le contenu suivant  #gskiepreuve --><div c
 lass="gski-evenement_infos"><div class="gski-evenement-nom">PROMO  U8 à U16
      Haribo Kids Snow Cup 2017</div><div class="gski-evenement-report"></di
 v><ul class="gski-evenement-liste-infos"><li>Codex évenement AMVT0800</li><
 li>Lieu : MARKSTEIN</li><li>Station : MARKSTEIN</li><li>Organisateur : 1418
 6 S.C VALLEE DE WESSERLING</li><li>Courriel : <!-- Cette adresse électroniq
 ue est protégée contre les robots spammeurs. --><span class="cloaked_email 
 ep_dfda182f"><span data-ep-b="&#109;" data-ep-a="s&#99;v&#119;"><span data-
 ep-b="&#108;&#46;c&#111;" data-ep-a="&#101;ss&#101;"><span data-ep-a="r&#10
 8;&#105;&#110;" data-ep-b="&#103;&#64;&#97;&#111;"></span></span></span></s
 pan><script>RegularLabs.EmailProtector.unCloak("ep_dfda182f");</script></li
 ><li>Téléphone : 03 89 82 78 08</li><li>Télécopie : 03 89 82 78 08</li></ul
 ><div class="gski-evenement-infos-2"><div class="gski-evenement-info-inscri
 ptions"><div class="gski-evenement-inscriptions-periodes">Période d'inscrip
 tion à l'evènement du samedi 18 mars 2017 à 01:00 au jeudi 23 mars 2017 à 1
 3:00 <span class="gski-evenement-inscriptions-impossibles">(Inscriptions im
 possibles).</span><div class="gski-evenement-inscriptions-types-titres">Le 
 type de titres Fédéraux autorisé n'est pas défini. Veuillez contacter l'org
 anisateur et lui signaler le problème.</div></div></div><div class="gski-ev
 enement-epreuves"><div class="gski-evenement-epreuves-titres">Epreuves :</d
 iv><ul class="gski-evenement-epreuves-list"><li><div class="gski-epreuve-da
 te">Le samedi 25 mars 2017</div><ul class="gski-epreuve-liste-infos"><li>Co
 dex épreuve AMVM0801</li><li>Slalom Geant</li></ul></li><li><div class="gsk
 i-epreuve-date">Le samedi 25 mars 2017</div><ul class="gski-epreuve-liste-i
 nfos"><li>Codex épreuve AMVF0801</li><li>Slalom Geant</li></ul></li><li><di
 v class="gski-epreuve-date">Le samedi 25 mars 2017</div><ul class="gski-epr
 euve-liste-infos"><li>Codex épreuve AMVM0802</li><li>Slalom Geant</li></ul>
 </li><li><div class="gski-epreuve-date">Le samedi 25 mars 2017</div><ul cla
 ss="gski-epreuve-liste-infos"><li>Codex épreuve AMVF0802</li><li>Slalom Gea
 nt</li></ul></li></ul></div><div class="gskiepreuves-links"><ul><li><a href
 ="/index.php?option=com_jevents&task=icalevent.detail&evid=767&Itemid=1703"
 >Voir les informations dans l'agenda...</a></li></ul></div></div"><!-- #/gs
 kiepreuve fin du dode généré par le plugin jevents pour GskiEpreuves. . Ne 
 pas modifier cette ligne, ni tout le contenu précedant.  #/gskiepreuve --> 
 <a href="https://skivosges.net/agenda/detailevenement/772/-/promo-u8-a-u16-
 haribo-kids-snow-cup-2017?tmpl=component">Cet évènement a été importé depui
 s :https://skivosges.net/agenda/detailevenement/772/-/promo-u8-a-u16-haribo
 -kids-snow-cup-2017?tmpl=component</a>
X-ALT-DESC;FMTTYPE=text/html:<!-- #gskiepreuve code généré par le plugin jevents pour GskiEpreuves. Ne p
 as modifier cette ligne, ni tout le contenu suivant  #gskiepreuve --><div c
 lass="gski-evenement_infos"><div class="gski-evenement-nom">PROMO  U8 à U16
      Haribo Kids Snow Cup 2017</div><div class="gski-evenement-report"></di
 v><ul class="gski-evenement-liste-infos"><li>Codex évenement AMVT0800</li><
 li>Lieu : MARKSTEIN</li><li>Station : MARKSTEIN</li><li>Organisateur : 1418
 6 S.C VALLEE DE WESSERLING</li><li>Courriel : <!-- Cette adresse électroniq
 ue est protégée contre les robots spammeurs. --><span class="cloaked_email 
 ep_dfda182f"><span data-ep-b="&#109;" data-ep-a="s&#99;v&#119;"><span data-
 ep-b="&#108;&#46;c&#111;" data-ep-a="&#101;ss&#101;"><span data-ep-a="r&#10
 8;&#105;&#110;" data-ep-b="&#103;&#64;&#97;&#111;"></span></span></span></s
 pan><script>RegularLabs.EmailProtector.unCloak("ep_dfda182f");</script></li
 ><li>Téléphone : 03 89 82 78 08</li><li>Télécopie : 03 89 82 78 08</li></ul
 ><div class="gski-evenement-infos-2"><div class="gski-evenement-info-inscri
 ptions"><div class="gski-evenement-inscriptions-periodes">Période d'inscrip
 tion à l'evènement du samedi 18 mars 2017 à 01:00 au jeudi 23 mars 2017 à 1
 3:00 <span class="gski-evenement-inscriptions-impossibles">(Inscriptions im
 possibles).</span><div class="gski-evenement-inscriptions-types-titres">Le 
 type de titres Fédéraux autorisé n'est pas défini. Veuillez contacter l'org
 anisateur et lui signaler le problème.</div></div></div><div class="gski-ev
 enement-epreuves"><div class="gski-evenement-epreuves-titres">Epreuves :</d
 iv><ul class="gski-evenement-epreuves-list"><li><div class="gski-epreuve-da
 te">Le samedi 25 mars 2017</div><ul class="gski-epreuve-liste-infos"><li>Co
 dex épreuve AMVM0801</li><li>Slalom Geant</li></ul></li><li><div class="gsk
 i-epreuve-date">Le samedi 25 mars 2017</div><ul class="gski-epreuve-liste-i
 nfos"><li>Codex épreuve AMVF0801</li><li>Slalom Geant</li></ul></li><li><di
 v class="gski-epreuve-date">Le samedi 25 mars 2017</div><ul class="gski-epr
 euve-liste-infos"><li>Codex épreuve AMVM0802</li><li>Slalom Geant</li></ul>
 </li><li><div class="gski-epreuve-date">Le samedi 25 mars 2017</div><ul cla
 ss="gski-epreuve-liste-infos"><li>Codex épreuve AMVF0802</li><li>Slalom Gea
 nt</li></ul></li></ul></div><div class="gskiepreuves-links"><ul><li><a href
 ="https://skivosges.net/index.php?option=com_jevents&task=icalevent.detail&
 evid=767&Itemid=1703">Voir les informations dans l'agenda...</a></li></ul><
 /div></div"><!-- #/gskiepreuve fin du dode généré par le plugin jevents pou
 r GskiEpreuves. . Ne pas modifier cette ligne, ni tout le contenu précedant
 .  #/gskiepreuve --> <a href="https://skivosges.net/agenda/detailevenement/
 772/-/promo-u8-a-u16-haribo-kids-snow-cup-2017?tmpl=component">Cet évènemen
 t a été importé depuis :https://skivosges.net/agenda/detailevenement/772/-/
 promo-u8-a-u16-haribo-kids-snow-cup-2017?tmpl=component</a>DTSTAMP:20260421T051432
DTSTART;TZID=Europe/Paris;VALUE=DATE:20170325
DTEND;TZID=Europe/Paris;VALUE=DATE:20170326
SEQUENCE:0
TRANSP:OPAQUE
END:VEVENT
END:VCALENDAR