BEGIN:VCALENDAR
VERSION:2.0
PRODID:-//jEvents 2.0 for Joomla//EN
CALSCALE:GREGORIAN
METHOD:PUBLISH
BEGIN:VTIMEZONE
TZID:Europe/Paris
BEGIN:STANDARD
DTSTART:20160324T000000
RDATE:20160327T030000
TZOFFSETFROM:+0200
TZOFFSETTO:+0100
TZNAME:Europe/Paris CET
END:STANDARD
BEGIN:STANDARD
DTSTART:20161030T020000
RDATE:20170326T030000
TZOFFSETFROM:+0200
TZOFFSETTO:+0100
TZNAME:Europe/Paris CET
END:STANDARD
BEGIN:STANDARD
DTSTART:20171029T020000
RDATE:20180325T030000
TZOFFSETFROM:+0200
TZOFFSETTO:+0100
TZNAME:Europe/Paris CET
END:STANDARD
BEGIN:STANDARD
DTSTART:20181028T020000
RDATE:20190331T030000
TZOFFSETFROM:+0200
TZOFFSETTO:+0100
TZNAME:Europe/Paris CET
END:STANDARD
BEGIN:STANDARD
DTSTART:20191027T020000
RDATE:20200329T030000
TZOFFSETFROM:+0200
TZOFFSETTO:+0100
TZNAME:Europe/Paris CET
END:STANDARD
BEGIN:STANDARD
DTSTART:20201025T020000
RDATE:20210328T030000
TZOFFSETFROM:+0200
TZOFFSETTO:+0100
TZNAME:Europe/Paris CET
END:STANDARD
BEGIN:STANDARD
DTSTART:20211031T020000
RDATE:20220327T030000
TZOFFSETFROM:+0200
TZOFFSETTO:+0100
TZNAME:Europe/Paris CET
END:STANDARD
BEGIN:STANDARD
DTSTART:20221030T020000
RDATE:20230326T030000
TZOFFSETFROM:+0200
TZOFFSETTO:+0100
TZNAME:Europe/Paris CET
END:STANDARD
BEGIN:STANDARD
DTSTART:20231029T020000
RDATE:20240331T030000
TZOFFSETFROM:+0200
TZOFFSETTO:+0100
TZNAME:Europe/Paris CET
END:STANDARD
BEGIN:STANDARD
DTSTART:20241027T020000
RDATE:20250330T030000
TZOFFSETFROM:+0200
TZOFFSETTO:+0100
TZNAME:Europe/Paris CET
END:STANDARD
BEGIN:STANDARD
DTSTART:20251026T020000
RDATE:20260329T030000
TZOFFSETFROM:+0200
TZOFFSETTO:+0100
TZNAME:Europe/Paris CET
END:STANDARD
BEGIN:STANDARD
DTSTART:20261025T020000
RDATE:20270328T030000
TZOFFSETFROM:+0200
TZOFFSETTO:+0100
TZNAME:Europe/Paris CET
END:STANDARD
BEGIN:DAYLIGHT
DTSTART:20160327T030000
RDATE:20161030T020000
TZOFFSETFROM:+0100
TZOFFSETTO:+0200
TZNAME:Europe/Paris CEST
END:DAYLIGHT
BEGIN:DAYLIGHT
DTSTART:20170326T030000
RDATE:20171029T020000
TZOFFSETFROM:+0100
TZOFFSETTO:+0200
TZNAME:Europe/Paris CEST
END:DAYLIGHT
BEGIN:DAYLIGHT
DTSTART:20180325T030000
RDATE:20181028T020000
TZOFFSETFROM:+0100
TZOFFSETTO:+0200
TZNAME:Europe/Paris CEST
END:DAYLIGHT
BEGIN:DAYLIGHT
DTSTART:20190331T030000
RDATE:20191027T020000
TZOFFSETFROM:+0100
TZOFFSETTO:+0200
TZNAME:Europe/Paris CEST
END:DAYLIGHT
BEGIN:DAYLIGHT
DTSTART:20200329T030000
RDATE:20201025T020000
TZOFFSETFROM:+0100
TZOFFSETTO:+0200
TZNAME:Europe/Paris CEST
END:DAYLIGHT
BEGIN:DAYLIGHT
DTSTART:20210328T030000
RDATE:20211031T020000
TZOFFSETFROM:+0100
TZOFFSETTO:+0200
TZNAME:Europe/Paris CEST
END:DAYLIGHT
BEGIN:DAYLIGHT
DTSTART:20220327T030000
RDATE:20221030T020000
TZOFFSETFROM:+0100
TZOFFSETTO:+0200
TZNAME:Europe/Paris CEST
END:DAYLIGHT
BEGIN:DAYLIGHT
DTSTART:20230326T030000
RDATE:20231029T020000
TZOFFSETFROM:+0100
TZOFFSETTO:+0200
TZNAME:Europe/Paris CEST
END:DAYLIGHT
BEGIN:DAYLIGHT
DTSTART:20240331T030000
RDATE:20241027T020000
TZOFFSETFROM:+0100
TZOFFSETTO:+0200
TZNAME:Europe/Paris CEST
END:DAYLIGHT
BEGIN:DAYLIGHT
DTSTART:20250330T030000
RDATE:20251026T020000
TZOFFSETFROM:+0100
TZOFFSETTO:+0200
TZNAME:Europe/Paris CEST
END:DAYLIGHT
BEGIN:DAYLIGHT
DTSTART:20260329T030000
RDATE:20261025T020000
TZOFFSETFROM:+0100
TZOFFSETTO:+0200
TZNAME:Europe/Paris CEST
END:DAYLIGHT
END:VTIMEZONE
BEGIN:VEVENT
UID:f6b00a65412872ca518c87898d49adcf
CATEGORIES:Compétition Ski de Fond
CREATED:20161202T134851
SUMMARY:Promo Finale Foyers Massif
URL;VALUE=URI:https://skivosges.net/agenda/detailevenement/773/-/promo-finale-foyers-mass
 if?tmpl=component
DESCRIPTION:<!-- #gskiepreuve code généré par le plugin jevents pour GskiEpreuves. Ne p
 as modifier cette ligne, ni tout le contenu suivant  #gskiepreuve --><div c
 lass="gski-evenement_infos"><div class="gski-evenement-nom">Promo Finale Fo
 yers Massif</div><div class="gski-evenement-report"></div><ul class="gski-e
 venement-liste-infos"><li>Codex évenement FMVT0240</li><li>Organisateur : 1
 4471 HAUTE MOSELLE SKI NORDIQUE</li></ul><div class="gski-evenement-infos-2
 "><div class="gski-evenement-info-inscriptions"><div class="gski-evenement-
 inscriptions-periodes">Période d'inscription à l'evènement du samedi 18 mar
 s 2017 à 01:00 au jeudi 23 mars 2017 à 13:00 <span class="gski-evenement-in
 scriptions-impossibles">(Inscriptions impossibles).</span><div class="gski-
 evenement-inscriptions-types-titres">Le type de titres Fédéraux autorisé n'
 est pas défini. Veuillez contacter l'organisateur et lui signaler le problè
 me.</div></div></div><div class="gski-evenement-epreuves"><div class="gski-
 evenement-epreuves-titres">Epreuves :</div><ul class="gski-evenement-epreuv
 es-list"><li><div class="gski-epreuve-date">Le samedi 25 mars 2017</div><ul
  class="gski-epreuve-liste-infos"><li>Codex épreuve FMVF0241</li><li>Depart
  Individuel</li></ul></li><li><div class="gski-epreuve-date">Le samedi 25 m
 ars 2017</div><ul class="gski-epreuve-liste-infos"><li>Codex épreuve FMVF02
 42</li><li>Depart Individuel</li></ul></li><li><div class="gski-epreuve-dat
 e">Le samedi 25 mars 2017</div><ul class="gski-epreuve-liste-infos"><li>Cod
 ex épreuve FMVM0241</li><li>Depart Individuel</li></ul></li><li><div class=
 "gski-epreuve-date">Le samedi 25 mars 2017</div><ul class="gski-epreuve-lis
 te-infos"><li>Codex épreuve FMVM0242</li><li>Depart Individuel</li></ul></l
 i></ul></div><div class="gskiepreuves-links"><ul><li><a href="/index.php?op
 tion=com_jevents&task=icalevent.detail&evid=768&Itemid=1703">Voir les infor
 mations dans l'agenda...</a></li><li><a href="/index.php?option=com_gskiepr
 euves&view=afficheresultats&format_option=tous&filter[search]=FMVT0240&filt
 er[date_debut]=25-03-2017&filter[date_fin]=25-03-2017&code_activite=FOND&It
 emid=1703">Vers les résultats...</a></li></ul></div></div"><!-- #/gskiepreu
 ve fin du dode généré par le plugin jevents pour GskiEpreuves. . Ne pas mod
 ifier cette ligne, ni tout le contenu précedant.  #/gskiepreuve --> <a href
 ="https://skivosges.net/agenda/detailevenement/773/-/promo-finale-foyers-ma
 ssif?tmpl=component">Cet évènement a été importé depuis :https://skivosges.
 net/agenda/detailevenement/773/-/promo-finale-foyers-massif?tmpl=component<
 /a>
X-ALT-DESC;FMTTYPE=text/html:<!-- #gskiepreuve code généré par le plugin jevents pour GskiEpreuves. Ne p
 as modifier cette ligne, ni tout le contenu suivant  #gskiepreuve --><div c
 lass="gski-evenement_infos"><div class="gski-evenement-nom">Promo Finale Fo
 yers Massif</div><div class="gski-evenement-report"></div><ul class="gski-e
 venement-liste-infos"><li>Codex évenement FMVT0240</li><li>Organisateur : 1
 4471 HAUTE MOSELLE SKI NORDIQUE</li></ul><div class="gski-evenement-infos-2
 "><div class="gski-evenement-info-inscriptions"><div class="gski-evenement-
 inscriptions-periodes">Période d'inscription à l'evènement du samedi 18 mar
 s 2017 à 01:00 au jeudi 23 mars 2017 à 13:00 <span class="gski-evenement-in
 scriptions-impossibles">(Inscriptions impossibles).</span><div class="gski-
 evenement-inscriptions-types-titres">Le type de titres Fédéraux autorisé n'
 est pas défini. Veuillez contacter l'organisateur et lui signaler le problè
 me.</div></div></div><div class="gski-evenement-epreuves"><div class="gski-
 evenement-epreuves-titres">Epreuves :</div><ul class="gski-evenement-epreuv
 es-list"><li><div class="gski-epreuve-date">Le samedi 25 mars 2017</div><ul
  class="gski-epreuve-liste-infos"><li>Codex épreuve FMVF0241</li><li>Depart
  Individuel</li></ul></li><li><div class="gski-epreuve-date">Le samedi 25 m
 ars 2017</div><ul class="gski-epreuve-liste-infos"><li>Codex épreuve FMVF02
 42</li><li>Depart Individuel</li></ul></li><li><div class="gski-epreuve-dat
 e">Le samedi 25 mars 2017</div><ul class="gski-epreuve-liste-infos"><li>Cod
 ex épreuve FMVM0241</li><li>Depart Individuel</li></ul></li><li><div class=
 "gski-epreuve-date">Le samedi 25 mars 2017</div><ul class="gski-epreuve-lis
 te-infos"><li>Codex épreuve FMVM0242</li><li>Depart Individuel</li></ul></l
 i></ul></div><div class="gskiepreuves-links"><ul><li><a href="https://skivo
 sges.net/index.php?option=com_jevents&task=icalevent.detail&evid=768&Itemid
 =1703">Voir les informations dans l'agenda...</a></li><li><a href="https://
 skivosges.net/index.php?option=com_gskiepreuves&view=afficheresultats&forma
 t_option=tous&filter[search]=FMVT0240&filter[date_debut]=25-03-2017&filter[
 date_fin]=25-03-2017&code_activite=FOND&Itemid=1703">Vers les résultats...<
 /a></li></ul></div></div"><!-- #/gskiepreuve fin du dode généré par le plug
 in jevents pour GskiEpreuves. . Ne pas modifier cette ligne, ni tout le con
 tenu précedant.  #/gskiepreuve --> <a href="https://skivosges.net/agenda/de
 tailevenement/773/-/promo-finale-foyers-massif?tmpl=component">Cet évènemen
 t a été importé depuis :https://skivosges.net/agenda/detailevenement/773/-/
 promo-finale-foyers-massif?tmpl=component</a>DTSTAMP:20260421T051312
DTSTART;TZID=Europe/Paris;VALUE=DATE:20170325
DTEND;TZID=Europe/Paris;VALUE=DATE:20170326
SEQUENCE:0
TRANSP:OPAQUE
END:VEVENT
END:VCALENDAR