BEGIN:VCALENDAR
VERSION:2.0
PRODID:-//jEvents 2.0 for Joomla//EN
CALSCALE:GREGORIAN
METHOD:PUBLISH
BEGIN:VTIMEZONE
TZID:Europe/Paris
BEGIN:STANDARD
DTSTART:20160325T000000
RDATE:20160327T030000
TZOFFSETFROM:+0200
TZOFFSETTO:+0100
TZNAME:Europe/Paris CET
END:STANDARD
BEGIN:STANDARD
DTSTART:20161030T020000
RDATE:20170326T030000
TZOFFSETFROM:+0200
TZOFFSETTO:+0100
TZNAME:Europe/Paris CET
END:STANDARD
BEGIN:STANDARD
DTSTART:20171029T020000
RDATE:20180325T030000
TZOFFSETFROM:+0200
TZOFFSETTO:+0100
TZNAME:Europe/Paris CET
END:STANDARD
BEGIN:STANDARD
DTSTART:20181028T020000
RDATE:20190331T030000
TZOFFSETFROM:+0200
TZOFFSETTO:+0100
TZNAME:Europe/Paris CET
END:STANDARD
BEGIN:STANDARD
DTSTART:20191027T020000
RDATE:20200329T030000
TZOFFSETFROM:+0200
TZOFFSETTO:+0100
TZNAME:Europe/Paris CET
END:STANDARD
BEGIN:STANDARD
DTSTART:20201025T020000
RDATE:20210328T030000
TZOFFSETFROM:+0200
TZOFFSETTO:+0100
TZNAME:Europe/Paris CET
END:STANDARD
BEGIN:STANDARD
DTSTART:20211031T020000
RDATE:20220327T030000
TZOFFSETFROM:+0200
TZOFFSETTO:+0100
TZNAME:Europe/Paris CET
END:STANDARD
BEGIN:STANDARD
DTSTART:20221030T020000
RDATE:20230326T030000
TZOFFSETFROM:+0200
TZOFFSETTO:+0100
TZNAME:Europe/Paris CET
END:STANDARD
BEGIN:STANDARD
DTSTART:20231029T020000
RDATE:20240331T030000
TZOFFSETFROM:+0200
TZOFFSETTO:+0100
TZNAME:Europe/Paris CET
END:STANDARD
BEGIN:STANDARD
DTSTART:20241027T020000
RDATE:20250330T030000
TZOFFSETFROM:+0200
TZOFFSETTO:+0100
TZNAME:Europe/Paris CET
END:STANDARD
BEGIN:STANDARD
DTSTART:20251026T020000
RDATE:20260329T030000
TZOFFSETFROM:+0200
TZOFFSETTO:+0100
TZNAME:Europe/Paris CET
END:STANDARD
BEGIN:STANDARD
DTSTART:20261025T020000
RDATE:20270328T030000
TZOFFSETFROM:+0200
TZOFFSETTO:+0100
TZNAME:Europe/Paris CET
END:STANDARD
BEGIN:DAYLIGHT
DTSTART:20160327T030000
RDATE:20161030T020000
TZOFFSETFROM:+0100
TZOFFSETTO:+0200
TZNAME:Europe/Paris CEST
END:DAYLIGHT
BEGIN:DAYLIGHT
DTSTART:20170326T030000
RDATE:20171029T020000
TZOFFSETFROM:+0100
TZOFFSETTO:+0200
TZNAME:Europe/Paris CEST
END:DAYLIGHT
BEGIN:DAYLIGHT
DTSTART:20180325T030000
RDATE:20181028T020000
TZOFFSETFROM:+0100
TZOFFSETTO:+0200
TZNAME:Europe/Paris CEST
END:DAYLIGHT
BEGIN:DAYLIGHT
DTSTART:20190331T030000
RDATE:20191027T020000
TZOFFSETFROM:+0100
TZOFFSETTO:+0200
TZNAME:Europe/Paris CEST
END:DAYLIGHT
BEGIN:DAYLIGHT
DTSTART:20200329T030000
RDATE:20201025T020000
TZOFFSETFROM:+0100
TZOFFSETTO:+0200
TZNAME:Europe/Paris CEST
END:DAYLIGHT
BEGIN:DAYLIGHT
DTSTART:20210328T030000
RDATE:20211031T020000
TZOFFSETFROM:+0100
TZOFFSETTO:+0200
TZNAME:Europe/Paris CEST
END:DAYLIGHT
BEGIN:DAYLIGHT
DTSTART:20220327T030000
RDATE:20221030T020000
TZOFFSETFROM:+0100
TZOFFSETTO:+0200
TZNAME:Europe/Paris CEST
END:DAYLIGHT
BEGIN:DAYLIGHT
DTSTART:20230326T030000
RDATE:20231029T020000
TZOFFSETFROM:+0100
TZOFFSETTO:+0200
TZNAME:Europe/Paris CEST
END:DAYLIGHT
BEGIN:DAYLIGHT
DTSTART:20240331T030000
RDATE:20241027T020000
TZOFFSETFROM:+0100
TZOFFSETTO:+0200
TZNAME:Europe/Paris CEST
END:DAYLIGHT
BEGIN:DAYLIGHT
DTSTART:20250330T030000
RDATE:20251026T020000
TZOFFSETFROM:+0100
TZOFFSETTO:+0200
TZNAME:Europe/Paris CEST
END:DAYLIGHT
BEGIN:DAYLIGHT
DTSTART:20260329T030000
RDATE:20261025T020000
TZOFFSETFROM:+0100
TZOFFSETTO:+0200
TZNAME:Europe/Paris CEST
END:DAYLIGHT
END:VTIMEZONE
BEGIN:VEVENT
UID:3db424038ceee0241ae64bcc9df1ed58
CATEGORIES:Opens et Promos (alpin)
CREATED:20161202T134852
SUMMARY:PROMO  U8 à U16  prix de la Confisrie Bressaude **REPORTE**
URL;VALUE=URI:https://skivosges.net/agenda/detailevenement/780/-/promo-u8-a-u16-prix-de-l
 a-confisrie-bressaude-reporte?tmpl=component
DESCRIPTION:PROMO  U8 à U16  prix de la Confisrie Bressaude (Epreuve reportée, date à d
 eterminer)\n - Codex évenement AMVT0850\n - Lieu : ROUGE GAZON\n - Station 
 : ROUGE GAZON\n - Organisateur : 14063 SKIEURS DE ST MAURICE/MOSELLE\n - Co
 urriel : RegularLabs.EmailProtector.unCloak("ep_8d695c5a");\n - Autres info
 rmations :  Période d'inscription à l'evènement du dimanche 19 mars 2017 à 
 01:00 au vendredi 24 mars 2017 à 13:00 (Inscriptions impossibles).Le type d
 e titres Fédéraux autorisé n'est pas défini. Veuillez contacter l'organisat
 eur et lui signaler le problème.Epreuves :\n - Le dimanche 26 mars 2017\n -
  Codex épreuve AMVM0851\n - Combiné Race\n - Le dimanche 26 mars 2017\n - C
 odex épreuve AMVF0851\n - Combiné Race\n - Le dimanche 26 mars 2017\n - Cod
 ex épreuve AMVM0852\n - Combiné Race\n - Le dimanche 26 mars 2017\n - Codex
  épreuve AMVF0852\n - Combiné Race\n - Le dimanche 26 mars 2017\n - Codex é
 preuve AMVM0853\n - Combiné Race\n - Le dimanche 26 mars 2017\n - Codex épr
 euve AMVF0853\n - Combiné Race\n - Voir les informations dans l'agenda... (
 /index.php?option=com_jevents&amp;task=icalevent.detail&amp;evid=775&amp;It
 emid=1703) Cet évènement a été importé depuis :https://skivosges.net/agenda
 /detailevenement/780/-/promo-u8-a-u16-prix-de-la-confisrie-bressaude-report
 e?tmpl=component
X-ALT-DESC;FMTTYPE=text/html:<!-- #gskiepreuve code généré par le plugin jevents pour GskiEpreuves. Ne p
 as modifier cette ligne, ni tout le contenu suivant  #gskiepreuve --><div c
 lass="gski-evenement_infos"><div class="gski-evenement-nom">PROMO  U8 à U16
   prix de la Confisrie Bressaude</div><div class="gski-evenement-report"> <
 font class="gskiattention">(Epreuve reportée, date à determiner)</font></di
 v><ul class="gski-evenement-liste-infos"><li>Codex évenement AMVT0850</li><
 li>Lieu : ROUGE GAZON</li><li>Station : ROUGE GAZON</li><li>Organisateur : 
 14063 SKIEURS DE ST MAURICE/MOSELLE</li><li>Courriel : <!-- Cette adresse é
 lectronique est protégée contre les robots spammeurs. --><span class="cloak
 ed_email ep_8d695c5a"><span data-ep-a="d&#97;n&#105;&#101;" data-ep-b=""><s
 pan data-ep-a="&#108;&#46;mor" data-ep-b="&#111;o&#46;f&#114;"><span data-e
 p-b="w&#97;&#110;&#97;&#100;" data-ep-a="e&#108;&#50;&#53;&#64;"></span></s
 pan></span></span><script>RegularLabs.EmailProtector.unCloak("ep_8d695c5a")
 ;</script></li><li><span class="gski-evenement-obs">Autres informations :  
 </span></li></ul><div class="gski-evenement-infos-2"><div class="gski-evene
 ment-info-inscriptions"><div class="gski-evenement-inscriptions-periodes">P
 ériode d'inscription à l'evènement du dimanche 19 mars 2017 à 01:00 au vend
 redi 24 mars 2017 à 13:00 <span class="gski-evenement-inscriptions-impossib
 les">(Inscriptions impossibles).</span><div class="gski-evenement-inscripti
 ons-types-titres">Le type de titres Fédéraux autorisé n'est pas défini. Veu
 illez contacter l'organisateur et lui signaler le problème.</div></div></di
 v><div class="gski-evenement-epreuves"><div class="gski-evenement-epreuves-
 titres">Epreuves :</div><ul class="gski-evenement-epreuves-list"><li><div c
 lass="gski-epreuve-date">Le dimanche 26 mars 2017</div><ul class="gski-epre
 uve-liste-infos"><li>Codex épreuve AMVM0851</li><li>Combiné Race</li></ul><
 /li><li><div class="gski-epreuve-date">Le dimanche 26 mars 2017</div><ul cl
 ass="gski-epreuve-liste-infos"><li>Codex épreuve AMVF0851</li><li>Combiné R
 ace</li></ul></li><li><div class="gski-epreuve-date">Le dimanche 26 mars 20
 17</div><ul class="gski-epreuve-liste-infos"><li>Codex épreuve AMVM0852</li
 ><li>Combiné Race</li></ul></li><li><div class="gski-epreuve-date">Le diman
 che 26 mars 2017</div><ul class="gski-epreuve-liste-infos"><li>Codex épreuv
 e AMVF0852</li><li>Combiné Race</li></ul></li><li><div class="gski-epreuve-
 date">Le dimanche 26 mars 2017</div><ul class="gski-epreuve-liste-infos"><l
 i>Codex épreuve AMVM0853</li><li>Combiné Race</li></ul></li><li><div class=
 "gski-epreuve-date">Le dimanche 26 mars 2017</div><ul class="gski-epreuve-l
 iste-infos"><li>Codex épreuve AMVF0853</li><li>Combiné Race</li></ul></li><
 /ul></div><div class="gskiepreuves-links"><ul><li><a href="https://skivosge
 s.net/index.php?option=com_jevents&task=icalevent.detail&evid=775&Itemid=17
 03">Voir les informations dans l'agenda...</a></li></ul></div></div"><!-- #
 /gskiepreuve fin du dode généré par le plugin jevents pour GskiEpreuves. . 
 Ne pas modifier cette ligne, ni tout le contenu précedant.  #/gskiepreuve -
 -> <a href="https://skivosges.net/agenda/detailevenement/780/-/promo-u8-a-u
 16-prix-de-la-confisrie-bressaude-reporte?tmpl=component">Cet évènement a é
 té importé depuis :https://skivosges.net/agenda/detailevenement/780/-/promo
 -u8-a-u16-prix-de-la-confisrie-bressaude-reporte?tmpl=component</a>DTSTAMP:20260421T050943
DTSTART;TZID=Europe/Paris;VALUE=DATE:20170326
DTEND;TZID=Europe/Paris;VALUE=DATE:20170327
SEQUENCE:0
TRANSP:OPAQUE
END:VEVENT
END:VCALENDAR