BEGIN:VCALENDAR
VERSION:2.0
PRODID:-//jEvents 2.0 for Joomla//EN
CALSCALE:GREGORIAN
METHOD:PUBLISH
BEGIN:VTIMEZONE
TZID:Europe/Paris
BEGIN:STANDARD
DTSTART:20161030T020000
RDATE:20170326T030000
TZOFFSETFROM:+0200
TZOFFSETTO:+0100
TZNAME:Europe/Paris CET
END:STANDARD
BEGIN:STANDARD
DTSTART:20171029T020000
RDATE:20180325T030000
TZOFFSETFROM:+0200
TZOFFSETTO:+0100
TZNAME:Europe/Paris CET
END:STANDARD
BEGIN:STANDARD
DTSTART:20181028T020000
RDATE:20190331T030000
TZOFFSETFROM:+0200
TZOFFSETTO:+0100
TZNAME:Europe/Paris CET
END:STANDARD
BEGIN:STANDARD
DTSTART:20191027T020000
RDATE:20200329T030000
TZOFFSETFROM:+0200
TZOFFSETTO:+0100
TZNAME:Europe/Paris CET
END:STANDARD
BEGIN:STANDARD
DTSTART:20201025T020000
RDATE:20210328T030000
TZOFFSETFROM:+0200
TZOFFSETTO:+0100
TZNAME:Europe/Paris CET
END:STANDARD
BEGIN:STANDARD
DTSTART:20211031T020000
RDATE:20220327T030000
TZOFFSETFROM:+0200
TZOFFSETTO:+0100
TZNAME:Europe/Paris CET
END:STANDARD
BEGIN:STANDARD
DTSTART:20221030T020000
RDATE:20230326T030000
TZOFFSETFROM:+0200
TZOFFSETTO:+0100
TZNAME:Europe/Paris CET
END:STANDARD
BEGIN:STANDARD
DTSTART:20231029T020000
RDATE:20240331T030000
TZOFFSETFROM:+0200
TZOFFSETTO:+0100
TZNAME:Europe/Paris CET
END:STANDARD
BEGIN:STANDARD
DTSTART:20241027T020000
RDATE:20250330T030000
TZOFFSETFROM:+0200
TZOFFSETTO:+0100
TZNAME:Europe/Paris CET
END:STANDARD
BEGIN:STANDARD
DTSTART:20251026T020000
RDATE:20260329T030000
TZOFFSETFROM:+0200
TZOFFSETTO:+0100
TZNAME:Europe/Paris CET
END:STANDARD
BEGIN:STANDARD
DTSTART:20261025T020000
RDATE:20270328T030000
TZOFFSETFROM:+0200
TZOFFSETTO:+0100
TZNAME:Europe/Paris CET
END:STANDARD
BEGIN:DAYLIGHT
DTSTART:20160413T000000
RDATE:20161030T020000
TZOFFSETFROM:+0100
TZOFFSETTO:+0200
TZNAME:Europe/Paris CEST
END:DAYLIGHT
BEGIN:DAYLIGHT
DTSTART:20170326T030000
RDATE:20171029T020000
TZOFFSETFROM:+0100
TZOFFSETTO:+0200
TZNAME:Europe/Paris CEST
END:DAYLIGHT
BEGIN:DAYLIGHT
DTSTART:20180325T030000
RDATE:20181028T020000
TZOFFSETFROM:+0100
TZOFFSETTO:+0200
TZNAME:Europe/Paris CEST
END:DAYLIGHT
BEGIN:DAYLIGHT
DTSTART:20190331T030000
RDATE:20191027T020000
TZOFFSETFROM:+0100
TZOFFSETTO:+0200
TZNAME:Europe/Paris CEST
END:DAYLIGHT
BEGIN:DAYLIGHT
DTSTART:20200329T030000
RDATE:20201025T020000
TZOFFSETFROM:+0100
TZOFFSETTO:+0200
TZNAME:Europe/Paris CEST
END:DAYLIGHT
BEGIN:DAYLIGHT
DTSTART:20210328T030000
RDATE:20211031T020000
TZOFFSETFROM:+0100
TZOFFSETTO:+0200
TZNAME:Europe/Paris CEST
END:DAYLIGHT
BEGIN:DAYLIGHT
DTSTART:20220327T030000
RDATE:20221030T020000
TZOFFSETFROM:+0100
TZOFFSETTO:+0200
TZNAME:Europe/Paris CEST
END:DAYLIGHT
BEGIN:DAYLIGHT
DTSTART:20230326T030000
RDATE:20231029T020000
TZOFFSETFROM:+0100
TZOFFSETTO:+0200
TZNAME:Europe/Paris CEST
END:DAYLIGHT
BEGIN:DAYLIGHT
DTSTART:20240331T030000
RDATE:20241027T020000
TZOFFSETFROM:+0100
TZOFFSETTO:+0200
TZNAME:Europe/Paris CEST
END:DAYLIGHT
BEGIN:DAYLIGHT
DTSTART:20250330T030000
RDATE:20251026T020000
TZOFFSETFROM:+0100
TZOFFSETTO:+0200
TZNAME:Europe/Paris CEST
END:DAYLIGHT
BEGIN:DAYLIGHT
DTSTART:20260329T030000
RDATE:20261025T020000
TZOFFSETFROM:+0100
TZOFFSETTO:+0200
TZNAME:Europe/Paris CEST
END:DAYLIGHT
END:VTIMEZONE
BEGIN:VEVENT
UID:1e297eb52b71f9125ecbd23ee696c3c0
CATEGORIES:Opens et Promos (alpin)
CREATED:20161202T134852
SUMMARY:OPEN Adultes 32 èmes Journée Françaises Mellau
URL;VALUE=URI:https://skivosges.net/agenda/detailevenement/784/-/open-adultes-32-emes-jou
 rnee-francaises-mellau?tmpl=component
DESCRIPTION:OPEN Adultes 32 èmes Journée Françaises Mellau\n - Codex évenement AMVT0880
 \n - Lieu : MELLAU (Autriche)\n - COM_GSKIEPREUVES_EPREUVE_PISTEROSSTELLE\n
  - Organisateur : \n - Courriel : RegularLabs.EmailProtector.unCloak("ep_64
 aeb60c");\n - Téléphone : 03 89 27 22 34\n - Autres informations : ATTENTIO
 N : &lt;br&gt;Alsace Ski+ est dans l´obligation d´annuler les courses de Me
 llau .&lt;br&gt;Après un entretien avec la Bergbahn les pistes ne sont plus
  praticables&lt;br&gt;&lt;br&gt;Salutations sportives&lt;br&gt;Jean Marie V
 onthron&lt;br&gt; Période d'inscription à l'evènement du samedi 18 mars 201
 7 à 01:00 au samedi 08 avril 2017 à 14:00 (Inscriptions impossibles).Le typ
 e de titres Fédéraux autorisé n'est pas défini. Veuillez contacter l'organi
 sateur et lui signaler le problème.Epreuves :\n - Le vendredi 14 avril 2017
 \n - Codex épreuve AMVM0881\n - Slalom\n - Le vendredi 14 avril 2017\n - Co
 dex épreuve AMVF0881\n - Slalom\n - Voir les informations dans l'agenda... 
 (/index.php?option=com_jevents&amp;task=icalevent.detail&amp;evid=779&amp;I
 temid=1703) Cet évènement a été importé depuis :https://skivosges.net/agend
 a/detailevenement/784/-/open-adultes-32-emes-journee-francaises-mellau?tmpl
 =component (https://skivosges.net/agenda/detailevenement/784/-/open-adultes
 -32-emes-journee-francaises-mellau?tmpl=component)
X-ALT-DESC;FMTTYPE=text/html:<!-- #gskiepreuve code généré par le plugin jevents pour GskiEpreuves. Ne p
 as modifier cette ligne, ni tout le contenu suivant  #gskiepreuve --><div c
 lass="gski-evenement_infos"><div class="gski-evenement-nom">OPEN Adultes 32
  èmes Journée Françaises Mellau</div><div class="gski-evenement-report"></d
 iv><ul class="gski-evenement-liste-infos"><li>Codex évenement AMVT0880</li>
 <li>Lieu : MELLAU (Autriche)</li><li>COM_GSKIEPREUVES_EPREUVE_PISTEROSSTELL
 E</li><li>Organisateur : </li><li>Courriel : <!-- Cette adresse électroniqu
 e est protégée contre les robots spammeurs. --><span class="cloaked_email e
 p_64aeb60c"><span data-ep-b="" data-ep-a="&#118;&#116;&#110;"><span data-ep
 -a="&#64;wa" data-ep-b="&#102;&#114;"><span data-ep-b="oo&#46;" data-ep-a="
 n&#97;d"></span></span></span></span><script>RegularLabs.EmailProtector.unC
 loak("ep_64aeb60c");</script></li><li>Téléphone : 03 89 27 22 34</li><li><s
 pan class="gski-evenement-obs">Autres informations : ATTENTION : &lt;br&gt;
 Alsace Ski+ est dans l&acute;obligation d&acute;annuler les courses de Mell
 au .&lt;br&gt;Apr&egrave;s un entretien avec la Bergbahn les pistes ne sont
  plus praticables&lt;br&gt;&lt;br&gt;Salutations sportives&lt;br&gt;Jean Ma
 rie Vonthron&lt;br&gt; </span></li></ul><div class="gski-evenement-infos-2"
 ><div class="gski-evenement-info-inscriptions"><div class="gski-evenement-i
 nscriptions-periodes">Période d'inscription à l'evènement du samedi 18 mars
  2017 à 01:00 au samedi 08 avril 2017 à 14:00 <span class="gski-evenement-i
 nscriptions-impossibles">(Inscriptions impossibles).</span><div class="gski
 -evenement-inscriptions-types-titres">Le type de titres Fédéraux autorisé n
 'est pas défini. Veuillez contacter l'organisateur et lui signaler le probl
 ème.</div></div></div><div class="gski-evenement-epreuves"><div class="gski
 -evenement-epreuves-titres">Epreuves :</div><ul class="gski-evenement-epreu
 ves-list"><li><div class="gski-epreuve-date">Le vendredi 14 avril 2017</div
 ><ul class="gski-epreuve-liste-infos"><li>Codex épreuve AMVM0881</li><li>Sl
 alom</li></ul></li><li><div class="gski-epreuve-date">Le vendredi 14 avril 
 2017</div><ul class="gski-epreuve-liste-infos"><li>Codex épreuve AMVF0881</
 li><li>Slalom</li></ul></li></ul></div><div class="gskiepreuves-links"><ul>
 <li><a href="https://skivosges.net/index.php?option=com_jevents&task=icalev
 ent.detail&evid=779&Itemid=1703">Voir les informations dans l'agenda...</a>
 </li></ul></div></div"><!-- #/gskiepreuve fin du dode généré par le plugin 
 jevents pour GskiEpreuves. . Ne pas modifier cette ligne, ni tout le conten
 u précedant.  #/gskiepreuve --> <a href="https://skivosges.net/agenda/detai
 levenement/784/-/open-adultes-32-emes-journee-francaises-mellau?tmpl=compon
 ent">Cet évènement a été importé depuis :https://skivosges.net/agenda/detai
 levenement/784/-/open-adultes-32-emes-journee-francaises-mellau?tmpl=compon
 ent</a>DTSTAMP:20260421T014528
DTSTART;TZID=Europe/Paris;VALUE=DATE:20170414
DTEND;TZID=Europe/Paris;VALUE=DATE:20170415
SEQUENCE:0
TRANSP:OPAQUE
END:VEVENT
END:VCALENDAR