BEGIN:VCALENDAR
VERSION:2.0
PRODID:-//jEvents 2.0 for Joomla//EN
CALSCALE:GREGORIAN
METHOD:PUBLISH
BEGIN:VTIMEZONE
TZID:Europe/Paris
BEGIN:STANDARD
DTSTART:20160304T000000
RDATE:20160327T030000
TZOFFSETFROM:+0200
TZOFFSETTO:+0100
TZNAME:Europe/Paris CET
END:STANDARD
BEGIN:STANDARD
DTSTART:20161030T020000
RDATE:20170326T030000
TZOFFSETFROM:+0200
TZOFFSETTO:+0100
TZNAME:Europe/Paris CET
END:STANDARD
BEGIN:STANDARD
DTSTART:20171029T020000
RDATE:20180325T030000
TZOFFSETFROM:+0200
TZOFFSETTO:+0100
TZNAME:Europe/Paris CET
END:STANDARD
BEGIN:STANDARD
DTSTART:20181028T020000
RDATE:20190331T030000
TZOFFSETFROM:+0200
TZOFFSETTO:+0100
TZNAME:Europe/Paris CET
END:STANDARD
BEGIN:STANDARD
DTSTART:20191027T020000
RDATE:20200329T030000
TZOFFSETFROM:+0200
TZOFFSETTO:+0100
TZNAME:Europe/Paris CET
END:STANDARD
BEGIN:STANDARD
DTSTART:20201025T020000
RDATE:20210328T030000
TZOFFSETFROM:+0200
TZOFFSETTO:+0100
TZNAME:Europe/Paris CET
END:STANDARD
BEGIN:STANDARD
DTSTART:20211031T020000
RDATE:20220327T030000
TZOFFSETFROM:+0200
TZOFFSETTO:+0100
TZNAME:Europe/Paris CET
END:STANDARD
BEGIN:STANDARD
DTSTART:20221030T020000
RDATE:20230326T030000
TZOFFSETFROM:+0200
TZOFFSETTO:+0100
TZNAME:Europe/Paris CET
END:STANDARD
BEGIN:STANDARD
DTSTART:20231029T020000
RDATE:20240331T030000
TZOFFSETFROM:+0200
TZOFFSETTO:+0100
TZNAME:Europe/Paris CET
END:STANDARD
BEGIN:STANDARD
DTSTART:20241027T020000
RDATE:20250330T030000
TZOFFSETFROM:+0200
TZOFFSETTO:+0100
TZNAME:Europe/Paris CET
END:STANDARD
BEGIN:STANDARD
DTSTART:20251026T020000
RDATE:20260329T030000
TZOFFSETFROM:+0200
TZOFFSETTO:+0100
TZNAME:Europe/Paris CET
END:STANDARD
BEGIN:STANDARD
DTSTART:20261025T020000
RDATE:20270328T030000
TZOFFSETFROM:+0200
TZOFFSETTO:+0100
TZNAME:Europe/Paris CET
END:STANDARD
BEGIN:DAYLIGHT
DTSTART:20160327T030000
RDATE:20161030T020000
TZOFFSETFROM:+0100
TZOFFSETTO:+0200
TZNAME:Europe/Paris CEST
END:DAYLIGHT
BEGIN:DAYLIGHT
DTSTART:20170326T030000
RDATE:20171029T020000
TZOFFSETFROM:+0100
TZOFFSETTO:+0200
TZNAME:Europe/Paris CEST
END:DAYLIGHT
BEGIN:DAYLIGHT
DTSTART:20180325T030000
RDATE:20181028T020000
TZOFFSETFROM:+0100
TZOFFSETTO:+0200
TZNAME:Europe/Paris CEST
END:DAYLIGHT
BEGIN:DAYLIGHT
DTSTART:20190331T030000
RDATE:20191027T020000
TZOFFSETFROM:+0100
TZOFFSETTO:+0200
TZNAME:Europe/Paris CEST
END:DAYLIGHT
BEGIN:DAYLIGHT
DTSTART:20200329T030000
RDATE:20201025T020000
TZOFFSETFROM:+0100
TZOFFSETTO:+0200
TZNAME:Europe/Paris CEST
END:DAYLIGHT
BEGIN:DAYLIGHT
DTSTART:20210328T030000
RDATE:20211031T020000
TZOFFSETFROM:+0100
TZOFFSETTO:+0200
TZNAME:Europe/Paris CEST
END:DAYLIGHT
BEGIN:DAYLIGHT
DTSTART:20220327T030000
RDATE:20221030T020000
TZOFFSETFROM:+0100
TZOFFSETTO:+0200
TZNAME:Europe/Paris CEST
END:DAYLIGHT
BEGIN:DAYLIGHT
DTSTART:20230326T030000
RDATE:20231029T020000
TZOFFSETFROM:+0100
TZOFFSETTO:+0200
TZNAME:Europe/Paris CEST
END:DAYLIGHT
BEGIN:DAYLIGHT
DTSTART:20240331T030000
RDATE:20241027T020000
TZOFFSETFROM:+0100
TZOFFSETTO:+0200
TZNAME:Europe/Paris CEST
END:DAYLIGHT
BEGIN:DAYLIGHT
DTSTART:20250330T030000
RDATE:20251026T020000
TZOFFSETFROM:+0100
TZOFFSETTO:+0200
TZNAME:Europe/Paris CEST
END:DAYLIGHT
BEGIN:DAYLIGHT
DTSTART:20260329T030000
RDATE:20261025T020000
TZOFFSETFROM:+0100
TZOFFSETTO:+0200
TZNAME:Europe/Paris CEST
END:DAYLIGHT
END:VTIMEZONE
BEGIN:VEVENT
UID:0e02e1501c4c9e4adf24caf3b69a0a35
CATEGORIES:Opens et Promos (alpin)
CREATED:20170128T211331
SUMMARY:OPEN coupe du Centre dentrainement de la Vallée de Munster
URL;VALUE=URI:https://skivosges.net/agenda/detailevenement/799/-/open-coupe-du-centre-d-e
 ntrainement-de-la-vallee-de-munster?tmpl=component
DESCRIPTION:OPEN coupe du Centre dentrainement de la Vallée de Munster\n - Codex évene
 ment AMVT0980\n - Station : LE TANET\n - Organisateur : 14140 LES AMIS DE L
 A NATURE MUNSTER\n - Courriel : RegularLabs.EmailProtector.unCloak("ep_834b
 ae07");\n - Autres informations : 1er départ 10h&lt;br&gt;Combi racePériode
  d'inscription à l'evènement du dimanche 26 février 2017 à 01:00 au vendred
 i 03 mars 2017 à 13:00 (Inscriptions impossibles).Inscriptions ouvertes aux
  detenteurs des titres Fédéraux valides suivants : Licenciés CompétiteursEp
 reuves :\n - Le dimanche 05 mars 2017\n - Codex épreuve AMVM0981\n - Slalom
  Geant\n - Catégorie(s) : U8 (Garçons)\n - Le dimanche 05 mars 2017\n - Cod
 ex épreuve AMVF0981\n - Slalom Geant\n - Catégorie(s) : U8 (Filles)\n - Le 
 dimanche 05 mars 2017\n - Codex épreuve AMVF0982\n - Slalom Geant\n - Catég
 orie(s) : U12 (Filles)\n - Le dimanche 05 mars 2017\n - Codex épreuve AMVM0
 982\n - Slalom Geant\n - Catégorie(s) : U12 (Garçons)\n - Le dimanche 05 ma
 rs 2017\n - Codex épreuve AMVM0983\n - Slalom Geant\n - Catégorie(s) : U14 
 (Garçons)\n - Le dimanche 05 mars 2017\n - Codex épreuve AMVF0983\n - Slalo
 m Geant\n - Catégorie(s) : U14 (Filles)\n - Voir les informations dans l'ag
 enda... (/index.php?option=com_jevents&amp;task=icalevent.detail&amp;evid=7
 94&amp;Itemid=1703)\n - Vers les résultats... (/index.php?option=com_gskiep
 reuves&amp;view=afficheresultats&amp;format_option=tous&amp;filter[search]=
 AMVT0980&amp;filter[date_debut]=05-03-2017&amp;filter[date_fin]=05-03-2017&
 amp;code_activite=ALP&amp;Itemid=1703) Cet évènement a été importé depuis :
 https://skivosges.net/agenda/detailevenement/799/-/open-coupe-du-centre-d-e
 ntrainement-de-la-vallee-de-munster?tmpl=component (https://skivosges.net/a
 genda/detailevenement/799/-/open-coupe-du-centre-d-entrainement-de-la-valle
 e-de-munster?tmpl=component)
X-ALT-DESC;FMTTYPE=text/html:<!-- #gskiepreuve code généré par le plugin jevents pour GskiEpreuves. Ne p
 as modifier cette ligne, ni tout le contenu suivant  #gskiepreuve --><div c
 lass="gski-evenement_infos"><div class="gski-evenement-nom">OPEN coupe du C
 entre dentrainement de la Vallée de Munster</div><div class="gski-evenemen
 t-report"></div><ul class="gski-evenement-liste-infos"><li>Codex évenement 
 AMVT0980</li><li>Station : LE TANET</li><li>Organisateur : 14140 LES AMIS D
 E LA NATURE MUNSTER</li><li>Courriel : <!-- Cette adresse électronique est 
 protégée contre les robots spammeurs. --><span class="cloaked_email ep_834b
 ae07"><span data-ep-b="&#114;" data-ep-a="&#109;&#97;&#114;c"><span data-ep
 -a="ha&#110;d" data-ep-b="&#101;&#101;&#46;&#102;"><span data-ep-a="&#99;a&
 #112;h" data-ep-b="&#105;&#64;f&#114;"></span></span></span></span><script>
 RegularLabs.EmailProtector.unCloak("ep_834bae07");</script></li><li><span c
 lass="gski-evenement-obs">Autres informations : 1er d&eacute;part 10h&lt;br
 &gt;Combi race</span></li></ul><div class="gski-evenement-infos-2"><div cla
 ss="gski-evenement-info-inscriptions"><div class="gski-evenement-inscriptio
 ns-periodes">Période d'inscription à l'evènement du dimanche 26 février 201
 7 à 01:00 au vendredi 03 mars 2017 à 13:00 <span class="gski-evenement-insc
 riptions-impossibles">(Inscriptions impossibles).</span><div class="gski-ev
 enement-inscriptions-types-titres">Inscriptions ouvertes aux detenteurs des
  titres Fédéraux valides suivants : Licenciés Compétiteurs</div></div></div
 ><div class="gski-evenement-epreuves"><div class="gski-evenement-epreuves-t
 itres">Epreuves :</div><ul class="gski-evenement-epreuves-list"><li><div cl
 ass="gski-epreuve-date">Le dimanche 05 mars 2017</div><ul class="gski-epreu
 ve-liste-infos"><li>Codex épreuve AMVM0981</li><li>Slalom Geant</li><li>Cat
 égorie(s) : U8 (Garçons)</li></ul></li><li><div class="gski-epreuve-date">L
 e dimanche 05 mars 2017</div><ul class="gski-epreuve-liste-infos"><li>Codex
  épreuve AMVF0981</li><li>Slalom Geant</li><li>Catégorie(s) : U8 (Filles)</
 li></ul></li><li><div class="gski-epreuve-date">Le dimanche 05 mars 2017</d
 iv><ul class="gski-epreuve-liste-infos"><li>Codex épreuve AMVF0982</li><li>
 Slalom Geant</li><li>Catégorie(s) : U12 (Filles)</li></ul></li><li><div cla
 ss="gski-epreuve-date">Le dimanche 05 mars 2017</div><ul class="gski-epreuv
 e-liste-infos"><li>Codex épreuve AMVM0982</li><li>Slalom Geant</li><li>Caté
 gorie(s) : U12 (Garçons)</li></ul></li><li><div class="gski-epreuve-date">L
 e dimanche 05 mars 2017</div><ul class="gski-epreuve-liste-infos"><li>Codex
  épreuve AMVM0983</li><li>Slalom Geant</li><li>Catégorie(s) : U14 (Garçons)
 </li></ul></li><li><div class="gski-epreuve-date">Le dimanche 05 mars 2017<
 /div><ul class="gski-epreuve-liste-infos"><li>Codex épreuve AMVF0983</li><l
 i>Slalom Geant</li><li>Catégorie(s) : U14 (Filles)</li></ul></li></ul></div
 ><div class="gskiepreuves-links"><ul><li><a href="https://skivosges.net/ind
 ex.php?option=com_jevents&task=icalevent.detail&evid=794&Itemid=1703">Voir 
 les informations dans l'agenda...</a></li><li><a href="https://skivosges.ne
 t/index.php?option=com_gskiepreuves&view=afficheresultats&format_option=tou
 s&filter[search]=AMVT0980&filter[date_debut]=05-03-2017&filter[date_fin]=05
 -03-2017&code_activite=ALP&Itemid=1703">Vers les résultats...</a></li></ul>
 </div></div"><!-- #/gskiepreuve fin du dode généré par le plugin jevents po
 ur GskiEpreuves. . Ne pas modifier cette ligne, ni tout le contenu précedan
 t.  #/gskiepreuve --> <a href="https://skivosges.net/agenda/detailevenement
 /799/-/open-coupe-du-centre-d-entrainement-de-la-vallee-de-munster?tmpl=com
 ponent">Cet évènement a été importé depuis :https://skivosges.net/agenda/de
 tailevenement/799/-/open-coupe-du-centre-d-entrainement-de-la-vallee-de-mun
 ster?tmpl=component</a>DTSTAMP:20260421T050939
DTSTART;TZID=Europe/Paris;VALUE=DATE:20170305
DTEND;TZID=Europe/Paris;VALUE=DATE:20170306
SEQUENCE:0
TRANSP:OPAQUE
END:VEVENT
END:VCALENDAR