BEGIN:VCALENDAR
VERSION:2.0
PRODID:-//jEvents 2.0 for Joomla//EN
CALSCALE:GREGORIAN
METHOD:PUBLISH
BEGIN:VTIMEZONE
TZID:Europe/Paris
BEGIN:STANDARD
DTSTART:20160211T000000
RDATE:20160327T030000
TZOFFSETFROM:+0200
TZOFFSETTO:+0100
TZNAME:Europe/Paris CET
END:STANDARD
BEGIN:STANDARD
DTSTART:20161030T020000
RDATE:20170326T030000
TZOFFSETFROM:+0200
TZOFFSETTO:+0100
TZNAME:Europe/Paris CET
END:STANDARD
BEGIN:STANDARD
DTSTART:20171029T020000
RDATE:20180325T030000
TZOFFSETFROM:+0200
TZOFFSETTO:+0100
TZNAME:Europe/Paris CET
END:STANDARD
BEGIN:STANDARD
DTSTART:20181028T020000
RDATE:20190331T030000
TZOFFSETFROM:+0200
TZOFFSETTO:+0100
TZNAME:Europe/Paris CET
END:STANDARD
BEGIN:STANDARD
DTSTART:20191027T020000
RDATE:20200329T030000
TZOFFSETFROM:+0200
TZOFFSETTO:+0100
TZNAME:Europe/Paris CET
END:STANDARD
BEGIN:STANDARD
DTSTART:20201025T020000
RDATE:20210328T030000
TZOFFSETFROM:+0200
TZOFFSETTO:+0100
TZNAME:Europe/Paris CET
END:STANDARD
BEGIN:STANDARD
DTSTART:20211031T020000
RDATE:20220327T030000
TZOFFSETFROM:+0200
TZOFFSETTO:+0100
TZNAME:Europe/Paris CET
END:STANDARD
BEGIN:STANDARD
DTSTART:20221030T020000
RDATE:20230326T030000
TZOFFSETFROM:+0200
TZOFFSETTO:+0100
TZNAME:Europe/Paris CET
END:STANDARD
BEGIN:STANDARD
DTSTART:20231029T020000
RDATE:20240331T030000
TZOFFSETFROM:+0200
TZOFFSETTO:+0100
TZNAME:Europe/Paris CET
END:STANDARD
BEGIN:STANDARD
DTSTART:20241027T020000
RDATE:20250330T030000
TZOFFSETFROM:+0200
TZOFFSETTO:+0100
TZNAME:Europe/Paris CET
END:STANDARD
BEGIN:STANDARD
DTSTART:20251026T020000
RDATE:20260329T030000
TZOFFSETFROM:+0200
TZOFFSETTO:+0100
TZNAME:Europe/Paris CET
END:STANDARD
BEGIN:STANDARD
DTSTART:20261025T020000
RDATE:20270328T030000
TZOFFSETFROM:+0200
TZOFFSETTO:+0100
TZNAME:Europe/Paris CET
END:STANDARD
BEGIN:DAYLIGHT
DTSTART:20160327T030000
RDATE:20161030T020000
TZOFFSETFROM:+0100
TZOFFSETTO:+0200
TZNAME:Europe/Paris CEST
END:DAYLIGHT
BEGIN:DAYLIGHT
DTSTART:20170326T030000
RDATE:20171029T020000
TZOFFSETFROM:+0100
TZOFFSETTO:+0200
TZNAME:Europe/Paris CEST
END:DAYLIGHT
BEGIN:DAYLIGHT
DTSTART:20180325T030000
RDATE:20181028T020000
TZOFFSETFROM:+0100
TZOFFSETTO:+0200
TZNAME:Europe/Paris CEST
END:DAYLIGHT
BEGIN:DAYLIGHT
DTSTART:20190331T030000
RDATE:20191027T020000
TZOFFSETFROM:+0100
TZOFFSETTO:+0200
TZNAME:Europe/Paris CEST
END:DAYLIGHT
BEGIN:DAYLIGHT
DTSTART:20200329T030000
RDATE:20201025T020000
TZOFFSETFROM:+0100
TZOFFSETTO:+0200
TZNAME:Europe/Paris CEST
END:DAYLIGHT
BEGIN:DAYLIGHT
DTSTART:20210328T030000
RDATE:20211031T020000
TZOFFSETFROM:+0100
TZOFFSETTO:+0200
TZNAME:Europe/Paris CEST
END:DAYLIGHT
BEGIN:DAYLIGHT
DTSTART:20220327T030000
RDATE:20221030T020000
TZOFFSETFROM:+0100
TZOFFSETTO:+0200
TZNAME:Europe/Paris CEST
END:DAYLIGHT
BEGIN:DAYLIGHT
DTSTART:20230326T030000
RDATE:20231029T020000
TZOFFSETFROM:+0100
TZOFFSETTO:+0200
TZNAME:Europe/Paris CEST
END:DAYLIGHT
BEGIN:DAYLIGHT
DTSTART:20240331T030000
RDATE:20241027T020000
TZOFFSETFROM:+0100
TZOFFSETTO:+0200
TZNAME:Europe/Paris CEST
END:DAYLIGHT
BEGIN:DAYLIGHT
DTSTART:20250330T030000
RDATE:20251026T020000
TZOFFSETFROM:+0100
TZOFFSETTO:+0200
TZNAME:Europe/Paris CEST
END:DAYLIGHT
BEGIN:DAYLIGHT
DTSTART:20260329T030000
RDATE:20261025T020000
TZOFFSETFROM:+0100
TZOFFSETTO:+0200
TZNAME:Europe/Paris CEST
END:DAYLIGHT
END:VTIMEZONE
BEGIN:VEVENT
UID:5d3701277fe23b8c90aa29ec3dc1c7ee
CATEGORIES:Opens et Promos (alpin)
CREATED:20170208T113340
SUMMARY:PROMO Haribo Kids Snow Cup 2017
URL;VALUE=URI:https://skivosges.net/agenda/detailevenement/802/-/promo-haribo-kids-snow-c
 up-2017?tmpl=component
DESCRIPTION:PROMO Haribo Kids Snow Cup 2017\n - Codex évenement AMVT0090\n - Lieu : MAR
 KSTEIN\n - Station : MARKSTEIN\n - Organisateur : 14186 S.C VALLEE DE WESSE
 RLING\n - Courriel : RegularLabs.EmailProtector.unCloak("ep_5c137cbe");\n -
  Téléphone : 03 89 82 78 08Période d'inscription à l'evènement du mardi 07 
 février 2017 à 20:00 au vendredi 10 février 2017 à 22:00 (Inscriptions impo
 ssibles).Le type de titres Fédéraux autorisé n'est pas défini. Veuillez con
 tacter l'organisateur et lui signaler le problème.\n - Voir les information
 s dans l'agenda... (/index.php?option=com_jevents&amp;task=icalevent.detail
 &amp;evid=797&amp;Itemid=1703)\n - Vers les résultats... (/index.php?option
 =com_gskiepreuves&amp;view=afficheresultats&amp;format_option=tous&amp;filt
 er[search]=AMVT0090&amp;filter[date_debut]=11-02-2017&amp;filter[date_fin]=
 11-02-2017&amp;code_activite=ALP&amp;Itemid=1703) Cet évènement a été impor
 té depuis :https://skivosges.net/agenda/detailevenement/802/-/promo-haribo-
 kids-snow-cup-2017?tmpl=component
X-ALT-DESC;FMTTYPE=text/html:<!-- #gskiepreuve code généré par le plugin jevents pour GskiEpreuves. Ne p
 as modifier cette ligne, ni tout le contenu suivant  #gskiepreuve --><div c
 lass="gski-evenement_infos"><div class="gski-evenement-nom">PROMO Haribo Ki
 ds Snow Cup 2017</div><div class="gski-evenement-report"></div><ul class="g
 ski-evenement-liste-infos"><li>Codex évenement AMVT0090</li><li>Lieu : MARK
 STEIN</li><li>Station : MARKSTEIN</li><li>Organisateur : 14186 S.C VALLEE D
 E WESSERLING</li><li>Courriel : <!-- Cette adresse électronique est protégé
 e contre les robots spammeurs. --><span class="cloaked_email ep_5c137cbe"><
 span data-ep-b="&#109;" data-ep-a="&#115;c&#118;&#119;"><span data-ep-a="e&
 #115;&#115;&#101;" data-ep-b="l.&#99;o"><span data-ep-a="&#114;li&#110;" da
 ta-ep-b="g&#64;&#97;&#111;"></span></span></span></span><script>RegularLabs
 .EmailProtector.unCloak("ep_5c137cbe");</script></li><li>Téléphone : 03 89 
 82 78 08</li></ul><div class="gski-evenement-infos-2"><div class="gski-even
 ement-info-inscriptions"><div class="gski-evenement-inscriptions-periodes">
 Période d'inscription à l'evènement du mardi 07 février 2017 à 20:00 au ven
 dredi 10 février 2017 à 22:00 <span class="gski-evenement-inscriptions-impo
 ssibles">(Inscriptions impossibles).</span><div class="gski-evenement-inscr
 iptions-types-titres">Le type de titres Fédéraux autorisé n'est pas défini.
  Veuillez contacter l'organisateur et lui signaler le problème.</div></div>
 </div><div class="gskiepreuves-links"><ul><li><a href="https://skivosges.ne
 t/index.php?option=com_jevents&task=icalevent.detail&evid=797&Itemid=1703">
 Voir les informations dans l'agenda...</a></li><li><a href="https://skivosg
 es.net/index.php?option=com_gskiepreuves&view=afficheresultats&format_optio
 n=tous&filter[search]=AMVT0090&filter[date_debut]=11-02-2017&filter[date_fi
 n]=11-02-2017&code_activite=ALP&Itemid=1703">Vers les résultats...</a></li>
 </ul></div></div"><!-- #/gskiepreuve fin du dode généré par le plugin jeven
 ts pour GskiEpreuves. . Ne pas modifier cette ligne, ni tout le contenu pré
 cedant.  #/gskiepreuve --> <a href="https://skivosges.net/agenda/detaileven
 ement/802/-/promo-haribo-kids-snow-cup-2017?tmpl=component">Cet évènement a
  été importé depuis :https://skivosges.net/agenda/detailevenement/802/-/pro
 mo-haribo-kids-snow-cup-2017?tmpl=component</a>DTSTAMP:20260421T051004
DTSTART;TZID=Europe/Paris;VALUE=DATE:20170211
DTEND;TZID=Europe/Paris;VALUE=DATE:20170212
SEQUENCE:0
TRANSP:OPAQUE
END:VEVENT
END:VCALENDAR