BEGIN:VCALENDAR
VERSION:2.0
PRODID:-//jEvents 2.0 for Joomla//EN
CALSCALE:GREGORIAN
METHOD:PUBLISH
BEGIN:VTIMEZONE
TZID:Europe/Paris
BEGIN:STANDARD
DTSTART:20160303T000000
RDATE:20160327T030000
TZOFFSETFROM:+0200
TZOFFSETTO:+0100
TZNAME:Europe/Paris CET
END:STANDARD
BEGIN:STANDARD
DTSTART:20161030T020000
RDATE:20170326T030000
TZOFFSETFROM:+0200
TZOFFSETTO:+0100
TZNAME:Europe/Paris CET
END:STANDARD
BEGIN:STANDARD
DTSTART:20171029T020000
RDATE:20180325T030000
TZOFFSETFROM:+0200
TZOFFSETTO:+0100
TZNAME:Europe/Paris CET
END:STANDARD
BEGIN:STANDARD
DTSTART:20181028T020000
RDATE:20190331T030000
TZOFFSETFROM:+0200
TZOFFSETTO:+0100
TZNAME:Europe/Paris CET
END:STANDARD
BEGIN:STANDARD
DTSTART:20191027T020000
RDATE:20200329T030000
TZOFFSETFROM:+0200
TZOFFSETTO:+0100
TZNAME:Europe/Paris CET
END:STANDARD
BEGIN:STANDARD
DTSTART:20201025T020000
RDATE:20210328T030000
TZOFFSETFROM:+0200
TZOFFSETTO:+0100
TZNAME:Europe/Paris CET
END:STANDARD
BEGIN:STANDARD
DTSTART:20211031T020000
RDATE:20220327T030000
TZOFFSETFROM:+0200
TZOFFSETTO:+0100
TZNAME:Europe/Paris CET
END:STANDARD
BEGIN:STANDARD
DTSTART:20221030T020000
RDATE:20230326T030000
TZOFFSETFROM:+0200
TZOFFSETTO:+0100
TZNAME:Europe/Paris CET
END:STANDARD
BEGIN:STANDARD
DTSTART:20231029T020000
RDATE:20240331T030000
TZOFFSETFROM:+0200
TZOFFSETTO:+0100
TZNAME:Europe/Paris CET
END:STANDARD
BEGIN:STANDARD
DTSTART:20241027T020000
RDATE:20250330T030000
TZOFFSETFROM:+0200
TZOFFSETTO:+0100
TZNAME:Europe/Paris CET
END:STANDARD
BEGIN:STANDARD
DTSTART:20251026T020000
RDATE:20260329T030000
TZOFFSETFROM:+0200
TZOFFSETTO:+0100
TZNAME:Europe/Paris CET
END:STANDARD
BEGIN:STANDARD
DTSTART:20261025T020000
RDATE:20270328T030000
TZOFFSETFROM:+0200
TZOFFSETTO:+0100
TZNAME:Europe/Paris CET
END:STANDARD
BEGIN:DAYLIGHT
DTSTART:20160327T030000
RDATE:20161030T020000
TZOFFSETFROM:+0100
TZOFFSETTO:+0200
TZNAME:Europe/Paris CEST
END:DAYLIGHT
BEGIN:DAYLIGHT
DTSTART:20170326T030000
RDATE:20171029T020000
TZOFFSETFROM:+0100
TZOFFSETTO:+0200
TZNAME:Europe/Paris CEST
END:DAYLIGHT
BEGIN:DAYLIGHT
DTSTART:20180325T030000
RDATE:20181028T020000
TZOFFSETFROM:+0100
TZOFFSETTO:+0200
TZNAME:Europe/Paris CEST
END:DAYLIGHT
BEGIN:DAYLIGHT
DTSTART:20190331T030000
RDATE:20191027T020000
TZOFFSETFROM:+0100
TZOFFSETTO:+0200
TZNAME:Europe/Paris CEST
END:DAYLIGHT
BEGIN:DAYLIGHT
DTSTART:20200329T030000
RDATE:20201025T020000
TZOFFSETFROM:+0100
TZOFFSETTO:+0200
TZNAME:Europe/Paris CEST
END:DAYLIGHT
BEGIN:DAYLIGHT
DTSTART:20210328T030000
RDATE:20211031T020000
TZOFFSETFROM:+0100
TZOFFSETTO:+0200
TZNAME:Europe/Paris CEST
END:DAYLIGHT
BEGIN:DAYLIGHT
DTSTART:20220327T030000
RDATE:20221030T020000
TZOFFSETFROM:+0100
TZOFFSETTO:+0200
TZNAME:Europe/Paris CEST
END:DAYLIGHT
BEGIN:DAYLIGHT
DTSTART:20230326T030000
RDATE:20231029T020000
TZOFFSETFROM:+0100
TZOFFSETTO:+0200
TZNAME:Europe/Paris CEST
END:DAYLIGHT
BEGIN:DAYLIGHT
DTSTART:20240331T030000
RDATE:20241027T020000
TZOFFSETFROM:+0100
TZOFFSETTO:+0200
TZNAME:Europe/Paris CEST
END:DAYLIGHT
BEGIN:DAYLIGHT
DTSTART:20250330T030000
RDATE:20251026T020000
TZOFFSETFROM:+0100
TZOFFSETTO:+0200
TZNAME:Europe/Paris CEST
END:DAYLIGHT
BEGIN:DAYLIGHT
DTSTART:20260329T030000
RDATE:20261025T020000
TZOFFSETFROM:+0100
TZOFFSETTO:+0200
TZNAME:Europe/Paris CEST
END:DAYLIGHT
END:VTIMEZONE
BEGIN:VEVENT
UID:867e0d545d153670b8418f941305a122
CATEGORIES:Circuit Massif Adultes (alpin)
CREATED:20170228T205213
SUMMARY:GPA U16 à Masters GP Gaby Curien
URL;VALUE=URI:https://skivosges.net/agenda/detailevenement/808/-/gpa-u16-a-masters-gp-gab
 y-curien?tmpl=component
DESCRIPTION:<!-- #gskiepreuve code généré par le plugin jevents pour GskiEpreuves. Ne p
 as modifier cette ligne, ni tout le contenu suivant  #gskiepreuve --><div c
 lass="gski-evenement_infos"><div class="gski-evenement-nom">GPA U16 à Maste
 rs GP Gaby Curien</div><div class="gski-evenement-report"></div><ul class="
 gski-evenement-liste-infos"><li>Codex évenement AMVT0550</li><li>Circuit : 
 Grand Prix Adultes</li><li>Lieu : LA BRESSE</li><li>Station : LA BRESSE</li
 ><li>COM_GSKIEPREUVES_EPREUVE_PISTEGaby CURIEN</li><li>Organisateur : 14024
  LA BRESSAUDE SECTION SKI</li><li>Téléphone : 06.08.85.52.52</li><li><span 
 class="gski-evenement-obs">Autres informations : Premier d&eacute;part &agr
 ave; 9 h 45&lt;br&gt;Tarif rouge remis&eacute; -20% sur pr&eacute;sentation
  du dossard</span></li></ul><div class="gski-evenement-infos-2"><div class=
 "gski-evenement-info-inscriptions"><div class="gski-evenement-inscriptions-
 periodes">Période d'inscription à l'evènement du dimanche 26 février 2017 à
  01:00 au jeudi 02 mars 2017 à 18:30 <span class="gski-evenement-inscriptio
 ns-impossibles">(Inscriptions impossibles).</span><div class="gski-evenemen
 t-inscriptions-types-titres">Le type de titres Fédéraux autorisé n'est pas 
 défini. Veuillez contacter l'organisateur et lui signaler le problème.</div
 ></div></div><div class="gskiepreuves-links"><ul><li><a href="/index.php?op
 tion=com_jevents&task=icalevent.detail&evid=803&Itemid=1703">Voir les infor
 mations dans l'agenda...</a></li><li><a href="/index.php?option=com_gskiepr
 euves&view=afficheresultats&format_option=tous&filter[search]=AMVT0550&filt
 er[date_debut]=04-03-2017&filter[date_fin]=04-03-2017&code_activite=ALP&Ite
 mid=1703">Vers les résultats...</a></li></ul></div></div"><!-- #/gskiepreuv
 e fin du dode généré par le plugin jevents pour GskiEpreuves. . Ne pas modi
 fier cette ligne, ni tout le contenu précedant.  #/gskiepreuve --> <a href=
 "https://skivosges.net/agenda/detailevenement/808/-/gpa-u16-a-masters-gp-ga
 by-curien?tmpl=component">Cet évènement a été importé depuis :https://skivo
 sges.net/agenda/detailevenement/808/-/gpa-u16-a-masters-gp-gaby-curien?tmpl
 =component</a>
X-ALT-DESC;FMTTYPE=text/html:<!-- #gskiepreuve code généré par le plugin jevents pour GskiEpreuves. Ne p
 as modifier cette ligne, ni tout le contenu suivant  #gskiepreuve --><div c
 lass="gski-evenement_infos"><div class="gski-evenement-nom">GPA U16 à Maste
 rs GP Gaby Curien</div><div class="gski-evenement-report"></div><ul class="
 gski-evenement-liste-infos"><li>Codex évenement AMVT0550</li><li>Circuit : 
 Grand Prix Adultes</li><li>Lieu : LA BRESSE</li><li>Station : LA BRESSE</li
 ><li>COM_GSKIEPREUVES_EPREUVE_PISTEGaby CURIEN</li><li>Organisateur : 14024
  LA BRESSAUDE SECTION SKI</li><li>Téléphone : 06.08.85.52.52</li><li><span 
 class="gski-evenement-obs">Autres informations : Premier d&eacute;part &agr
 ave; 9 h 45&lt;br&gt;Tarif rouge remis&eacute; -20% sur pr&eacute;sentation
  du dossard</span></li></ul><div class="gski-evenement-infos-2"><div class=
 "gski-evenement-info-inscriptions"><div class="gski-evenement-inscriptions-
 periodes">Période d'inscription à l'evènement du dimanche 26 février 2017 à
  01:00 au jeudi 02 mars 2017 à 18:30 <span class="gski-evenement-inscriptio
 ns-impossibles">(Inscriptions impossibles).</span><div class="gski-evenemen
 t-inscriptions-types-titres">Le type de titres Fédéraux autorisé n'est pas 
 défini. Veuillez contacter l'organisateur et lui signaler le problème.</div
 ></div></div><div class="gskiepreuves-links"><ul><li><a href="https://skivo
 sges.net/index.php?option=com_jevents&task=icalevent.detail&evid=803&Itemid
 =1703">Voir les informations dans l'agenda...</a></li><li><a href="https://
 skivosges.net/index.php?option=com_gskiepreuves&view=afficheresultats&forma
 t_option=tous&filter[search]=AMVT0550&filter[date_debut]=04-03-2017&filter[
 date_fin]=04-03-2017&code_activite=ALP&Itemid=1703">Vers les résultats...</
 a></li></ul></div></div"><!-- #/gskiepreuve fin du dode généré par le plugi
 n jevents pour GskiEpreuves. . Ne pas modifier cette ligne, ni tout le cont
 enu précedant.  #/gskiepreuve --> <a href="https://skivosges.net/agenda/det
 ailevenement/808/-/gpa-u16-a-masters-gp-gaby-curien?tmpl=component">Cet évè
 nement a été importé depuis :https://skivosges.net/agenda/detailevenement/8
 08/-/gpa-u16-a-masters-gp-gaby-curien?tmpl=component</a>DTSTAMP:20260421T051408
DTSTART;TZID=Europe/Paris;VALUE=DATE:20170304
DTEND;TZID=Europe/Paris;VALUE=DATE:20170305
SEQUENCE:0
TRANSP:OPAQUE
END:VEVENT
END:VCALENDAR