BEGIN:VCALENDAR
VERSION:2.0
PRODID:-//jEvents 2.0 for Joomla//EN
CALSCALE:GREGORIAN
METHOD:PUBLISH
BEGIN:VTIMEZONE
TZID:Europe/Paris
BEGIN:STANDARD
DTSTART:20160317T000000
RDATE:20160327T030000
TZOFFSETFROM:+0200
TZOFFSETTO:+0100
TZNAME:Europe/Paris CET
END:STANDARD
BEGIN:STANDARD
DTSTART:20161030T020000
RDATE:20170326T030000
TZOFFSETFROM:+0200
TZOFFSETTO:+0100
TZNAME:Europe/Paris CET
END:STANDARD
BEGIN:STANDARD
DTSTART:20171029T020000
RDATE:20180325T030000
TZOFFSETFROM:+0200
TZOFFSETTO:+0100
TZNAME:Europe/Paris CET
END:STANDARD
BEGIN:STANDARD
DTSTART:20181028T020000
RDATE:20190331T030000
TZOFFSETFROM:+0200
TZOFFSETTO:+0100
TZNAME:Europe/Paris CET
END:STANDARD
BEGIN:STANDARD
DTSTART:20191027T020000
RDATE:20200329T030000
TZOFFSETFROM:+0200
TZOFFSETTO:+0100
TZNAME:Europe/Paris CET
END:STANDARD
BEGIN:STANDARD
DTSTART:20201025T020000
RDATE:20210328T030000
TZOFFSETFROM:+0200
TZOFFSETTO:+0100
TZNAME:Europe/Paris CET
END:STANDARD
BEGIN:STANDARD
DTSTART:20211031T020000
RDATE:20220327T030000
TZOFFSETFROM:+0200
TZOFFSETTO:+0100
TZNAME:Europe/Paris CET
END:STANDARD
BEGIN:STANDARD
DTSTART:20221030T020000
RDATE:20230326T030000
TZOFFSETFROM:+0200
TZOFFSETTO:+0100
TZNAME:Europe/Paris CET
END:STANDARD
BEGIN:STANDARD
DTSTART:20231029T020000
RDATE:20240331T030000
TZOFFSETFROM:+0200
TZOFFSETTO:+0100
TZNAME:Europe/Paris CET
END:STANDARD
BEGIN:STANDARD
DTSTART:20241027T020000
RDATE:20250330T030000
TZOFFSETFROM:+0200
TZOFFSETTO:+0100
TZNAME:Europe/Paris CET
END:STANDARD
BEGIN:STANDARD
DTSTART:20251026T020000
RDATE:20260329T030000
TZOFFSETFROM:+0200
TZOFFSETTO:+0100
TZNAME:Europe/Paris CET
END:STANDARD
BEGIN:STANDARD
DTSTART:20261025T020000
RDATE:20270328T030000
TZOFFSETFROM:+0200
TZOFFSETTO:+0100
TZNAME:Europe/Paris CET
END:STANDARD
BEGIN:DAYLIGHT
DTSTART:20160327T030000
RDATE:20161030T020000
TZOFFSETFROM:+0100
TZOFFSETTO:+0200
TZNAME:Europe/Paris CEST
END:DAYLIGHT
BEGIN:DAYLIGHT
DTSTART:20170326T030000
RDATE:20171029T020000
TZOFFSETFROM:+0100
TZOFFSETTO:+0200
TZNAME:Europe/Paris CEST
END:DAYLIGHT
BEGIN:DAYLIGHT
DTSTART:20180325T030000
RDATE:20181028T020000
TZOFFSETFROM:+0100
TZOFFSETTO:+0200
TZNAME:Europe/Paris CEST
END:DAYLIGHT
BEGIN:DAYLIGHT
DTSTART:20190331T030000
RDATE:20191027T020000
TZOFFSETFROM:+0100
TZOFFSETTO:+0200
TZNAME:Europe/Paris CEST
END:DAYLIGHT
BEGIN:DAYLIGHT
DTSTART:20200329T030000
RDATE:20201025T020000
TZOFFSETFROM:+0100
TZOFFSETTO:+0200
TZNAME:Europe/Paris CEST
END:DAYLIGHT
BEGIN:DAYLIGHT
DTSTART:20210328T030000
RDATE:20211031T020000
TZOFFSETFROM:+0100
TZOFFSETTO:+0200
TZNAME:Europe/Paris CEST
END:DAYLIGHT
BEGIN:DAYLIGHT
DTSTART:20220327T030000
RDATE:20221030T020000
TZOFFSETFROM:+0100
TZOFFSETTO:+0200
TZNAME:Europe/Paris CEST
END:DAYLIGHT
BEGIN:DAYLIGHT
DTSTART:20230326T030000
RDATE:20231029T020000
TZOFFSETFROM:+0100
TZOFFSETTO:+0200
TZNAME:Europe/Paris CEST
END:DAYLIGHT
BEGIN:DAYLIGHT
DTSTART:20240331T030000
RDATE:20241027T020000
TZOFFSETFROM:+0100
TZOFFSETTO:+0200
TZNAME:Europe/Paris CEST
END:DAYLIGHT
BEGIN:DAYLIGHT
DTSTART:20250330T030000
RDATE:20251026T020000
TZOFFSETFROM:+0100
TZOFFSETTO:+0200
TZNAME:Europe/Paris CEST
END:DAYLIGHT
BEGIN:DAYLIGHT
DTSTART:20260329T030000
RDATE:20261025T020000
TZOFFSETFROM:+0100
TZOFFSETTO:+0200
TZNAME:Europe/Paris CEST
END:DAYLIGHT
END:VTIMEZONE
BEGIN:VEVENT
UID:422b255e21345c4996c864d269288286
CATEGORIES:Circuit Lorraine Jeunes (alpin)
CREATED:20170308T091344
SUMMARY:CLJ Coupe de bronze et micro Crédit agricole
URL;VALUE=URI:https://skivosges.net/agenda/detailevenement/811/-/clj-coupe-de-bronze-et-m
 icro-credit-agricole?tmpl=component
DESCRIPTION:CLJ Coupe de bronze et micro Crédit agricole\n - Codex évenement AMVT0150\n
  - Circuit : Coupe de Lorraine Jeunes\n - Lieu : LA BRESSE \n - Station : L
 A BRESSE LISPACH\n - COM_GSKIEPREUVES_EPREUVE_PISTEGaby CURIEN\n - Organisa
 teur : 14024 LA BRESSAUDE SECTION SKI\n - Courriel : RegularLabs.EmailProte
 ctor.unCloak("ep_3646128a");\n - Téléphone : 06 08 85 52 52\n - Autres info
 rmations : Slalom Géant sur la Piste Gaby Curien. Premier départ prévu à 11
  H 30&lt;br&gt;Forfait matin tarif rouge remisé -20% sur présentation du do
 ssardPériode d'inscription à l'evènement du mardi 14 mars 2017 à 01:00 au v
 endredi 17 mars 2017 à 13:00 (Inscriptions impossibles).Le type de titres F
 édéraux autorisé n'est pas défini. Veuillez contacter l'organisateur et lui
  signaler le problème.\n - Voir les informations dans l'agenda... (/index.p
 hp?option=com_jevents&amp;task=icalevent.detail&amp;evid=806&amp;Itemid=170
 3)\n - Vers les résultats... (/index.php?option=com_gskiepreuves&amp;view=a
 fficheresultats&amp;format_option=tous&amp;filter[search]=AMVT0150&amp;filt
 er[date_debut]=18-03-2017&amp;filter[date_fin]=18-03-2017&amp;code_activite
 =ALP&amp;Itemid=1703) Cet évènement a été importé depuis :https://skivosges
 .net/agenda/detailevenement/811/-/clj-coupe-de-bronze-et-micro-credit-agric
 ole?tmpl=component
X-ALT-DESC;FMTTYPE=text/html:<!-- #gskiepreuve code généré par le plugin jevents pour GskiEpreuves. Ne p
 as modifier cette ligne, ni tout le contenu suivant  #gskiepreuve --><div c
 lass="gski-evenement_infos"><div class="gski-evenement-nom">CLJ Coupe de br
 onze et micro Crédit agricole</div><div class="gski-evenement-report"></div
 ><ul class="gski-evenement-liste-infos"><li>Codex évenement AMVT0150</li><l
 i>Circuit : Coupe de Lorraine Jeunes</li><li>Lieu : LA BRESSE </li><li>Stat
 ion : LA BRESSE LISPACH</li><li>COM_GSKIEPREUVES_EPREUVE_PISTEGaby CURIEN</
 li><li>Organisateur : 14024 LA BRESSAUDE SECTION SKI</li><li>Courriel : <!-
 - Cette adresse électronique est protégée contre les robots spammeurs. --><
 span class="cloaked_email ep_3646128a"><span data-ep-b="&#102;&#114;" data-
 ep-a="&#111;d&#105;l&#101;"><span data-ep-a=".&#109;&#117;&#110;&#115;" dat
 a-ep-b="&#97;n&#103;&#101;&#46;"><span data-ep-b="&#108;b&#64;&#111;&#114;"
  data-ep-a="&#99;&#104;&#46;sc"></span></span></span></span><script>Regular
 Labs.EmailProtector.unCloak("ep_3646128a");</script></li><li>Téléphone : 06
  08 85 52 52</li><li><span class="gski-evenement-obs">Autres informations :
  Slalom G&eacute;ant sur la Piste Gaby Curien. Premier d&eacute;part pr&eac
 ute;vu &agrave; 11 H 30&lt;br&gt;Forfait matin tarif rouge remis&eacute; -2
 0% sur pr&eacute;sentation du dossard</span></li></ul><div class="gski-even
 ement-infos-2"><div class="gski-evenement-info-inscriptions"><div class="gs
 ki-evenement-inscriptions-periodes">Période d'inscription à l'evènement du 
 mardi 14 mars 2017 à 01:00 au vendredi 17 mars 2017 à 13:00 <span class="gs
 ki-evenement-inscriptions-impossibles">(Inscriptions impossibles).</span><d
 iv class="gski-evenement-inscriptions-types-titres">Le type de titres Fédér
 aux autorisé n'est pas défini. Veuillez contacter l'organisateur et lui sig
 naler le problème.</div></div></div><div class="gskiepreuves-links"><ul><li
 ><a href="https://skivosges.net/index.php?option=com_jevents&task=icalevent
 .detail&evid=806&Itemid=1703">Voir les informations dans l'agenda...</a></l
 i><li><a href="https://skivosges.net/index.php?option=com_gskiepreuves&view
 =afficheresultats&format_option=tous&filter[search]=AMVT0150&filter[date_de
 but]=18-03-2017&filter[date_fin]=18-03-2017&code_activite=ALP&Itemid=1703">
 Vers les résultats...</a></li></ul></div></div"><!-- #/gskiepreuve fin du d
 ode généré par le plugin jevents pour GskiEpreuves. . Ne pas modifier cette
  ligne, ni tout le contenu précedant.  #/gskiepreuve --> <a href="https://s
 kivosges.net/agenda/detailevenement/811/-/clj-coupe-de-bronze-et-micro-cred
 it-agricole?tmpl=component">Cet évènement a été importé depuis :https://ski
 vosges.net/agenda/detailevenement/811/-/clj-coupe-de-bronze-et-micro-credit
 -agricole?tmpl=component</a>DTSTAMP:20260421T051032
DTSTART;TZID=Europe/Paris;VALUE=DATE:20170318
DTEND;TZID=Europe/Paris;VALUE=DATE:20170319
SEQUENCE:0
TRANSP:OPAQUE
END:VEVENT
END:VCALENDAR