BEGIN:VCALENDAR
VERSION:2.0
PRODID:-//jEvents 2.0 for Joomla//EN
CALSCALE:GREGORIAN
METHOD:PUBLISH
BEGIN:VTIMEZONE
TZID:Europe/Paris
BEGIN:STANDARD
DTSTART:20160317T000000
RDATE:20160327T030000
TZOFFSETFROM:+0200
TZOFFSETTO:+0100
TZNAME:Europe/Paris CET
END:STANDARD
BEGIN:STANDARD
DTSTART:20161030T020000
RDATE:20170326T030000
TZOFFSETFROM:+0200
TZOFFSETTO:+0100
TZNAME:Europe/Paris CET
END:STANDARD
BEGIN:STANDARD
DTSTART:20171029T020000
RDATE:20180325T030000
TZOFFSETFROM:+0200
TZOFFSETTO:+0100
TZNAME:Europe/Paris CET
END:STANDARD
BEGIN:STANDARD
DTSTART:20181028T020000
RDATE:20190331T030000
TZOFFSETFROM:+0200
TZOFFSETTO:+0100
TZNAME:Europe/Paris CET
END:STANDARD
BEGIN:STANDARD
DTSTART:20191027T020000
RDATE:20200329T030000
TZOFFSETFROM:+0200
TZOFFSETTO:+0100
TZNAME:Europe/Paris CET
END:STANDARD
BEGIN:STANDARD
DTSTART:20201025T020000
RDATE:20210328T030000
TZOFFSETFROM:+0200
TZOFFSETTO:+0100
TZNAME:Europe/Paris CET
END:STANDARD
BEGIN:STANDARD
DTSTART:20211031T020000
RDATE:20220327T030000
TZOFFSETFROM:+0200
TZOFFSETTO:+0100
TZNAME:Europe/Paris CET
END:STANDARD
BEGIN:STANDARD
DTSTART:20221030T020000
RDATE:20230326T030000
TZOFFSETFROM:+0200
TZOFFSETTO:+0100
TZNAME:Europe/Paris CET
END:STANDARD
BEGIN:STANDARD
DTSTART:20231029T020000
RDATE:20240331T030000
TZOFFSETFROM:+0200
TZOFFSETTO:+0100
TZNAME:Europe/Paris CET
END:STANDARD
BEGIN:STANDARD
DTSTART:20241027T020000
RDATE:20250330T030000
TZOFFSETFROM:+0200
TZOFFSETTO:+0100
TZNAME:Europe/Paris CET
END:STANDARD
BEGIN:STANDARD
DTSTART:20251026T020000
RDATE:20260329T030000
TZOFFSETFROM:+0200
TZOFFSETTO:+0100
TZNAME:Europe/Paris CET
END:STANDARD
BEGIN:STANDARD
DTSTART:20261025T020000
RDATE:20270328T030000
TZOFFSETFROM:+0200
TZOFFSETTO:+0100
TZNAME:Europe/Paris CET
END:STANDARD
BEGIN:DAYLIGHT
DTSTART:20160327T030000
RDATE:20161030T020000
TZOFFSETFROM:+0100
TZOFFSETTO:+0200
TZNAME:Europe/Paris CEST
END:DAYLIGHT
BEGIN:DAYLIGHT
DTSTART:20170326T030000
RDATE:20171029T020000
TZOFFSETFROM:+0100
TZOFFSETTO:+0200
TZNAME:Europe/Paris CEST
END:DAYLIGHT
BEGIN:DAYLIGHT
DTSTART:20180325T030000
RDATE:20181028T020000
TZOFFSETFROM:+0100
TZOFFSETTO:+0200
TZNAME:Europe/Paris CEST
END:DAYLIGHT
BEGIN:DAYLIGHT
DTSTART:20190331T030000
RDATE:20191027T020000
TZOFFSETFROM:+0100
TZOFFSETTO:+0200
TZNAME:Europe/Paris CEST
END:DAYLIGHT
BEGIN:DAYLIGHT
DTSTART:20200329T030000
RDATE:20201025T020000
TZOFFSETFROM:+0100
TZOFFSETTO:+0200
TZNAME:Europe/Paris CEST
END:DAYLIGHT
BEGIN:DAYLIGHT
DTSTART:20210328T030000
RDATE:20211031T020000
TZOFFSETFROM:+0100
TZOFFSETTO:+0200
TZNAME:Europe/Paris CEST
END:DAYLIGHT
BEGIN:DAYLIGHT
DTSTART:20220327T030000
RDATE:20221030T020000
TZOFFSETFROM:+0100
TZOFFSETTO:+0200
TZNAME:Europe/Paris CEST
END:DAYLIGHT
BEGIN:DAYLIGHT
DTSTART:20230326T030000
RDATE:20231029T020000
TZOFFSETFROM:+0100
TZOFFSETTO:+0200
TZNAME:Europe/Paris CEST
END:DAYLIGHT
BEGIN:DAYLIGHT
DTSTART:20240331T030000
RDATE:20241027T020000
TZOFFSETFROM:+0100
TZOFFSETTO:+0200
TZNAME:Europe/Paris CEST
END:DAYLIGHT
BEGIN:DAYLIGHT
DTSTART:20250330T030000
RDATE:20251026T020000
TZOFFSETFROM:+0100
TZOFFSETTO:+0200
TZNAME:Europe/Paris CEST
END:DAYLIGHT
BEGIN:DAYLIGHT
DTSTART:20260329T030000
RDATE:20261025T020000
TZOFFSETFROM:+0100
TZOFFSETTO:+0200
TZNAME:Europe/Paris CEST
END:DAYLIGHT
END:VTIMEZONE
BEGIN:VEVENT
UID:88fd9146bdbcdee97e0db14ac3788a4c
CATEGORIES:Circuit Massif Masters (alpin)
CREATED:20170314T202213
SUMMARY:GPM esprit racing     Prix Mat et Peinture *** ANNULE(E) ***
URL;VALUE=URI:https://skivosges.net/agenda/detailevenement/812/-/gpm-esprit-racing-prix-m
 at-et-peinture-annule-e?tmpl=component
DESCRIPTION:<!-- #gskiepreuve code généré par le plugin jevents pour GskiEpreuves. Ne p
 as modifier cette ligne, ni tout le contenu suivant  #gskiepreuve --><div c
 lass="gski-evenement_infos"><div class="gski-evenement-nom">GPM esprit raci
 ng     Prix Mat et Peinture</div><div class="gski-evenement-report"> <font 
 class="gskiattention">(Epreuve annulée)</font></div><ul class="gski-eveneme
 nt-liste-infos"><li>Codex évenement AMVT0330</li><li>Circuit : Grand Prix M
 asters</li><li>Lieu : BALLON D ALSACE langenberg </li><li>Station : ROUGE G
 AZON</li><li>Organisateur : 14063 SKIEURS DE ST MAURICE/MOSELLE</li><li>Cou
 rriel : <!-- Cette adresse électronique est protégée contre les robots spam
 meurs. --><span class="cloaked_email ep_828017f0"><span data-ep-a="&#100;&#
 97;&#110;ie" data-ep-b=""><span data-ep-b="&#111;&#111;&#46;&#102;&#114;" d
 ata-ep-a="&#108;&#46;&#109;&#111;&#114;"><span data-ep-a="&#101;&#108;25&#6
 4;" data-ep-b="w&#97;&#110;a&#100;"></span></span></span></span><script>Reg
 ularLabs.EmailProtector.unCloak("ep_828017f0");</script></li><li>Téléphone 
 : 0780028040</li><li>Télécopie : ..</li><li><span class="gski-evenement-obs
 ">Autres informations : SL depart 14h00 langenberg rouge&lt;br&gt;LA COURSE
  EST MAINTENUE</span></li></ul><div class="gski-evenement-infos-2"><div cla
 ss="gski-evenement-info-inscriptions"><div class="gski-evenement-inscriptio
 ns-periodes">Période d'inscription à l'evènement du mardi 14 mars 2017 à 01
 :00 au vendredi 17 mars 2017 à 19:00 <span class="gski-evenement-inscriptio
 ns-impossibles">(Inscriptions impossibles).</span><div class="gski-evenemen
 t-inscriptions-types-titres">Le type de titres Fédéraux autorisé n'est pas 
 défini. Veuillez contacter l'organisateur et lui signaler le problème.</div
 ></div></div><div class="gskiepreuves-links"><ul><li><a href="/index.php?op
 tion=com_jevents&task=icalevent.detail&evid=807&Itemid=1703">Voir les infor
 mations dans l'agenda...</a></li><li><a href="/index.php?option=com_gskiepr
 euves&view=affichedeparts&format_option=tous&filter[search]=AMVT0330&filter
 [date_debut]=18-03-2017&filter[date_fin]=18-03-2017&Itemid=1703">Vers la li
 ste de départs...</a></li></ul></div></div"><!-- #/gskiepreuve fin du dode 
 généré par le plugin jevents pour GskiEpreuves. . Ne pas modifier cette lig
 ne, ni tout le contenu précedant.  #/gskiepreuve --> <a href="https://skivo
 sges.net/agenda/detailevenement/812/-/gpm-esprit-racing-prix-mat-et-peintur
 e-annule-e?tmpl=component">Cet évènement a été importé depuis :https://skiv
 osges.net/agenda/detailevenement/812/-/gpm-esprit-racing-prix-mat-et-peintu
 re-annule-e?tmpl=component</a>
X-ALT-DESC;FMTTYPE=text/html:<!-- #gskiepreuve code généré par le plugin jevents pour GskiEpreuves. Ne p
 as modifier cette ligne, ni tout le contenu suivant  #gskiepreuve --><div c
 lass="gski-evenement_infos"><div class="gski-evenement-nom">GPM esprit raci
 ng     Prix Mat et Peinture</div><div class="gski-evenement-report"> <font 
 class="gskiattention">(Epreuve annulée)</font></div><ul class="gski-eveneme
 nt-liste-infos"><li>Codex évenement AMVT0330</li><li>Circuit : Grand Prix M
 asters</li><li>Lieu : BALLON D ALSACE langenberg </li><li>Station : ROUGE G
 AZON</li><li>Organisateur : 14063 SKIEURS DE ST MAURICE/MOSELLE</li><li>Cou
 rriel : <!-- Cette adresse électronique est protégée contre les robots spam
 meurs. --><span class="cloaked_email ep_828017f0"><span data-ep-a="&#100;&#
 97;&#110;ie" data-ep-b=""><span data-ep-b="&#111;&#111;&#46;&#102;&#114;" d
 ata-ep-a="&#108;&#46;&#109;&#111;&#114;"><span data-ep-a="&#101;&#108;25&#6
 4;" data-ep-b="w&#97;&#110;a&#100;"></span></span></span></span><script>Reg
 ularLabs.EmailProtector.unCloak("ep_828017f0");</script></li><li>Téléphone 
 : 0780028040</li><li>Télécopie : ..</li><li><span class="gski-evenement-obs
 ">Autres informations : SL depart 14h00 langenberg rouge&lt;br&gt;LA COURSE
  EST MAINTENUE</span></li></ul><div class="gski-evenement-infos-2"><div cla
 ss="gski-evenement-info-inscriptions"><div class="gski-evenement-inscriptio
 ns-periodes">Période d'inscription à l'evènement du mardi 14 mars 2017 à 01
 :00 au vendredi 17 mars 2017 à 19:00 <span class="gski-evenement-inscriptio
 ns-impossibles">(Inscriptions impossibles).</span><div class="gski-evenemen
 t-inscriptions-types-titres">Le type de titres Fédéraux autorisé n'est pas 
 défini. Veuillez contacter l'organisateur et lui signaler le problème.</div
 ></div></div><div class="gskiepreuves-links"><ul><li><a href="https://skivo
 sges.net/index.php?option=com_jevents&task=icalevent.detail&evid=807&Itemid
 =1703">Voir les informations dans l'agenda...</a></li><li><a href="https://
 skivosges.net/index.php?option=com_gskiepreuves&view=affichedeparts&format_
 option=tous&filter[search]=AMVT0330&filter[date_debut]=18-03-2017&filter[da
 te_fin]=18-03-2017&Itemid=1703">Vers la liste de départs...</a></li></ul></
 div></div"><!-- #/gskiepreuve fin du dode généré par le plugin jevents pour
  GskiEpreuves. . Ne pas modifier cette ligne, ni tout le contenu précedant.
   #/gskiepreuve --> <a href="https://skivosges.net/agenda/detailevenement/8
 12/-/gpm-esprit-racing-prix-mat-et-peinture-annule-e?tmpl=component">Cet év
 ènement a été importé depuis :https://skivosges.net/agenda/detailevenement/
 812/-/gpm-esprit-racing-prix-mat-et-peinture-annule-e?tmpl=component</a>DTSTAMP:20260421T051406
DTSTART;TZID=Europe/Paris;VALUE=DATE:20170318
DTEND;TZID=Europe/Paris;VALUE=DATE:20170319
SEQUENCE:0
TRANSP:OPAQUE
END:VEVENT
END:VCALENDAR