BEGIN:VCALENDAR
VERSION:2.0
PRODID:-//jEvents 2.0 for Joomla//EN
CALSCALE:GREGORIAN
METHOD:PUBLISH
BEGIN:VTIMEZONE
TZID:Europe/Paris
BEGIN:STANDARD
DTSTART:20160317T000000
RDATE:20160327T030000
TZOFFSETFROM:+0200
TZOFFSETTO:+0100
TZNAME:Europe/Paris CET
END:STANDARD
BEGIN:STANDARD
DTSTART:20161030T020000
RDATE:20170326T030000
TZOFFSETFROM:+0200
TZOFFSETTO:+0100
TZNAME:Europe/Paris CET
END:STANDARD
BEGIN:STANDARD
DTSTART:20171029T020000
RDATE:20180325T030000
TZOFFSETFROM:+0200
TZOFFSETTO:+0100
TZNAME:Europe/Paris CET
END:STANDARD
BEGIN:STANDARD
DTSTART:20181028T020000
RDATE:20190331T030000
TZOFFSETFROM:+0200
TZOFFSETTO:+0100
TZNAME:Europe/Paris CET
END:STANDARD
BEGIN:STANDARD
DTSTART:20191027T020000
RDATE:20200329T030000
TZOFFSETFROM:+0200
TZOFFSETTO:+0100
TZNAME:Europe/Paris CET
END:STANDARD
BEGIN:STANDARD
DTSTART:20201025T020000
RDATE:20210328T030000
TZOFFSETFROM:+0200
TZOFFSETTO:+0100
TZNAME:Europe/Paris CET
END:STANDARD
BEGIN:STANDARD
DTSTART:20211031T020000
RDATE:20220327T030000
TZOFFSETFROM:+0200
TZOFFSETTO:+0100
TZNAME:Europe/Paris CET
END:STANDARD
BEGIN:STANDARD
DTSTART:20221030T020000
RDATE:20230326T030000
TZOFFSETFROM:+0200
TZOFFSETTO:+0100
TZNAME:Europe/Paris CET
END:STANDARD
BEGIN:STANDARD
DTSTART:20231029T020000
RDATE:20240331T030000
TZOFFSETFROM:+0200
TZOFFSETTO:+0100
TZNAME:Europe/Paris CET
END:STANDARD
BEGIN:STANDARD
DTSTART:20241027T020000
RDATE:20250330T030000
TZOFFSETFROM:+0200
TZOFFSETTO:+0100
TZNAME:Europe/Paris CET
END:STANDARD
BEGIN:STANDARD
DTSTART:20251026T020000
RDATE:20260329T030000
TZOFFSETFROM:+0200
TZOFFSETTO:+0100
TZNAME:Europe/Paris CET
END:STANDARD
BEGIN:STANDARD
DTSTART:20261025T020000
RDATE:20270328T030000
TZOFFSETFROM:+0200
TZOFFSETTO:+0100
TZNAME:Europe/Paris CET
END:STANDARD
BEGIN:DAYLIGHT
DTSTART:20160327T030000
RDATE:20161030T020000
TZOFFSETFROM:+0100
TZOFFSETTO:+0200
TZNAME:Europe/Paris CEST
END:DAYLIGHT
BEGIN:DAYLIGHT
DTSTART:20170326T030000
RDATE:20171029T020000
TZOFFSETFROM:+0100
TZOFFSETTO:+0200
TZNAME:Europe/Paris CEST
END:DAYLIGHT
BEGIN:DAYLIGHT
DTSTART:20180325T030000
RDATE:20181028T020000
TZOFFSETFROM:+0100
TZOFFSETTO:+0200
TZNAME:Europe/Paris CEST
END:DAYLIGHT
BEGIN:DAYLIGHT
DTSTART:20190331T030000
RDATE:20191027T020000
TZOFFSETFROM:+0100
TZOFFSETTO:+0200
TZNAME:Europe/Paris CEST
END:DAYLIGHT
BEGIN:DAYLIGHT
DTSTART:20200329T030000
RDATE:20201025T020000
TZOFFSETFROM:+0100
TZOFFSETTO:+0200
TZNAME:Europe/Paris CEST
END:DAYLIGHT
BEGIN:DAYLIGHT
DTSTART:20210328T030000
RDATE:20211031T020000
TZOFFSETFROM:+0100
TZOFFSETTO:+0200
TZNAME:Europe/Paris CEST
END:DAYLIGHT
BEGIN:DAYLIGHT
DTSTART:20220327T030000
RDATE:20221030T020000
TZOFFSETFROM:+0100
TZOFFSETTO:+0200
TZNAME:Europe/Paris CEST
END:DAYLIGHT
BEGIN:DAYLIGHT
DTSTART:20230326T030000
RDATE:20231029T020000
TZOFFSETFROM:+0100
TZOFFSETTO:+0200
TZNAME:Europe/Paris CEST
END:DAYLIGHT
BEGIN:DAYLIGHT
DTSTART:20240331T030000
RDATE:20241027T020000
TZOFFSETFROM:+0100
TZOFFSETTO:+0200
TZNAME:Europe/Paris CEST
END:DAYLIGHT
BEGIN:DAYLIGHT
DTSTART:20250330T030000
RDATE:20251026T020000
TZOFFSETFROM:+0100
TZOFFSETTO:+0200
TZNAME:Europe/Paris CEST
END:DAYLIGHT
BEGIN:DAYLIGHT
DTSTART:20260329T030000
RDATE:20261025T020000
TZOFFSETFROM:+0100
TZOFFSETTO:+0200
TZNAME:Europe/Paris CEST
END:DAYLIGHT
END:VTIMEZONE
BEGIN:VEVENT
UID:d622c5b6e1c353ef5d3711893e0422e8
CATEGORIES:Opens et Promos (alpin)
CREATED:20170314T202213
SUMMARY:OPEN U14àU16 Prix MAT PEINTURE *** ANNULE(E) ***
URL;VALUE=URI:https://skivosges.net/agenda/detailevenement/813/-/open-u14au16-prix-mat-pe
 inture-annule-e?tmpl=component
DESCRIPTION:<!-- #gskiepreuve code généré par le plugin jevents pour GskiEpreuves. Ne p
 as modifier cette ligne, ni tout le contenu suivant  #gskiepreuve --><div c
 lass="gski-evenement_infos"><div class="gski-evenement-nom">OPEN U14àU16 Pr
 ix MAT PEINTURE</div><div class="gski-evenement-report"> <font class="gskia
 ttention">(Epreuve annulée)</font></div><ul class="gski-evenement-liste-inf
 os"><li>Codex évenement AMVT0300</li><li>Lieu : BALLON D ALSACE langenberg 
 </li><li>Station : ROUGE GAZON</li><li>Organisateur : 14063 SKIEURS DE ST M
 AURICE/MOSELLE</li><li>Courriel : <!-- Cette adresse électronique est proté
 gée contre les robots spammeurs. --><span class="cloaked_email ep_f3b160b1"
 ><span data-ep-b="" data-ep-a="&#100;an&#105;&#101;"><span data-ep-b="&#111
 ;&#111;&#46;f&#114;" data-ep-a="&#108;.&#109;or"><span data-ep-a="&#101;&#1
 08;&#50;&#53;&#64;" data-ep-b="wa&#110;&#97;&#100;"></span></span></span></
 span><script>RegularLabs.EmailProtector.unCloak("ep_f3b160b1");</script></l
 i><li>Téléphone : 0780028040</li><li>Télécopie : ..</li><li><span class="gs
 ki-evenement-obs">Autres informations : SL depart 14h00 langenberg rouge&lt
 ;br&gt;LA COURSE EST MAINTENUE</span></li></ul><div class="gski-evenement-i
 nfos-2"><div class="gski-evenement-info-inscriptions"><div class="gski-even
 ement-inscriptions-periodes">Période d'inscription à l'evènement du lundi 1
 3 mars 2017 à 01:00 au vendredi 17 mars 2017 à 19:00 <span class="gski-even
 ement-inscriptions-impossibles">(Inscriptions impossibles).</span><div clas
 s="gski-evenement-inscriptions-types-titres">Le type de titres Fédéraux aut
 orisé n'est pas défini. Veuillez contacter l'organisateur et lui signaler l
 e problème.</div></div></div><div class="gskiepreuves-links"><ul><li><a hre
 f="/index.php?option=com_jevents&task=icalevent.detail&evid=808&Itemid=1703
 ">Voir les informations dans l'agenda...</a></li><li><a href="/index.php?op
 tion=com_gskiepreuves&view=affichedeparts&format_option=tous&filter[search]
 =AMVT0300&filter[date_debut]=18-03-2017&filter[date_fin]=18-03-2017&Itemid=
 1703">Vers la liste de départs...</a></li></ul></div></div"><!-- #/gskiepre
 uve fin du dode généré par le plugin jevents pour GskiEpreuves. . Ne pas mo
 difier cette ligne, ni tout le contenu précedant.  #/gskiepreuve --> <a hre
 f="https://skivosges.net/agenda/detailevenement/813/-/open-u14au16-prix-mat
 -peinture-annule-e?tmpl=component">Cet évènement a été importé depuis :http
 s://skivosges.net/agenda/detailevenement/813/-/open-u14au16-prix-mat-peintu
 re-annule-e?tmpl=component</a>
X-ALT-DESC;FMTTYPE=text/html:<!-- #gskiepreuve code généré par le plugin jevents pour GskiEpreuves. Ne p
 as modifier cette ligne, ni tout le contenu suivant  #gskiepreuve --><div c
 lass="gski-evenement_infos"><div class="gski-evenement-nom">OPEN U14àU16 Pr
 ix MAT PEINTURE</div><div class="gski-evenement-report"> <font class="gskia
 ttention">(Epreuve annulée)</font></div><ul class="gski-evenement-liste-inf
 os"><li>Codex évenement AMVT0300</li><li>Lieu : BALLON D ALSACE langenberg 
 </li><li>Station : ROUGE GAZON</li><li>Organisateur : 14063 SKIEURS DE ST M
 AURICE/MOSELLE</li><li>Courriel : <!-- Cette adresse électronique est proté
 gée contre les robots spammeurs. --><span class="cloaked_email ep_f3b160b1"
 ><span data-ep-b="" data-ep-a="&#100;an&#105;&#101;"><span data-ep-b="&#111
 ;&#111;&#46;f&#114;" data-ep-a="&#108;.&#109;or"><span data-ep-a="&#101;&#1
 08;&#50;&#53;&#64;" data-ep-b="wa&#110;&#97;&#100;"></span></span></span></
 span><script>RegularLabs.EmailProtector.unCloak("ep_f3b160b1");</script></l
 i><li>Téléphone : 0780028040</li><li>Télécopie : ..</li><li><span class="gs
 ki-evenement-obs">Autres informations : SL depart 14h00 langenberg rouge&lt
 ;br&gt;LA COURSE EST MAINTENUE</span></li></ul><div class="gski-evenement-i
 nfos-2"><div class="gski-evenement-info-inscriptions"><div class="gski-even
 ement-inscriptions-periodes">Période d'inscription à l'evènement du lundi 1
 3 mars 2017 à 01:00 au vendredi 17 mars 2017 à 19:00 <span class="gski-even
 ement-inscriptions-impossibles">(Inscriptions impossibles).</span><div clas
 s="gski-evenement-inscriptions-types-titres">Le type de titres Fédéraux aut
 orisé n'est pas défini. Veuillez contacter l'organisateur et lui signaler l
 e problème.</div></div></div><div class="gskiepreuves-links"><ul><li><a hre
 f="https://skivosges.net/index.php?option=com_jevents&task=icalevent.detail
 &evid=808&Itemid=1703">Voir les informations dans l'agenda...</a></li><li><
 a href="https://skivosges.net/index.php?option=com_gskiepreuves&view=affich
 edeparts&format_option=tous&filter[search]=AMVT0300&filter[date_debut]=18-0
 3-2017&filter[date_fin]=18-03-2017&Itemid=1703">Vers la liste de départs...
 </a></li></ul></div></div"><!-- #/gskiepreuve fin du dode généré par le plu
 gin jevents pour GskiEpreuves. . Ne pas modifier cette ligne, ni tout le co
 ntenu précedant.  #/gskiepreuve --> <a href="https://skivosges.net/agenda/d
 etailevenement/813/-/open-u14au16-prix-mat-peinture-annule-e?tmpl=component
 ">Cet évènement a été importé depuis :https://skivosges.net/agenda/detailev
 enement/813/-/open-u14au16-prix-mat-peinture-annule-e?tmpl=component</a>DTSTAMP:20260421T051405
DTSTART;TZID=Europe/Paris;VALUE=DATE:20170318
DTEND;TZID=Europe/Paris;VALUE=DATE:20170319
SEQUENCE:0
TRANSP:OPAQUE
END:VEVENT
END:VCALENDAR