BEGIN:VCALENDAR
VERSION:2.0
PRODID:-//jEvents 2.0 for Joomla//EN
CALSCALE:GREGORIAN
METHOD:PUBLISH
BEGIN:VTIMEZONE
TZID:Europe/Paris
BEGIN:STANDARD
DTSTART:20160317T000000
RDATE:20160327T030000
TZOFFSETFROM:+0200
TZOFFSETTO:+0100
TZNAME:Europe/Paris CET
END:STANDARD
BEGIN:STANDARD
DTSTART:20161030T020000
RDATE:20170326T030000
TZOFFSETFROM:+0200
TZOFFSETTO:+0100
TZNAME:Europe/Paris CET
END:STANDARD
BEGIN:STANDARD
DTSTART:20171029T020000
RDATE:20180325T030000
TZOFFSETFROM:+0200
TZOFFSETTO:+0100
TZNAME:Europe/Paris CET
END:STANDARD
BEGIN:STANDARD
DTSTART:20181028T020000
RDATE:20190331T030000
TZOFFSETFROM:+0200
TZOFFSETTO:+0100
TZNAME:Europe/Paris CET
END:STANDARD
BEGIN:STANDARD
DTSTART:20191027T020000
RDATE:20200329T030000
TZOFFSETFROM:+0200
TZOFFSETTO:+0100
TZNAME:Europe/Paris CET
END:STANDARD
BEGIN:STANDARD
DTSTART:20201025T020000
RDATE:20210328T030000
TZOFFSETFROM:+0200
TZOFFSETTO:+0100
TZNAME:Europe/Paris CET
END:STANDARD
BEGIN:STANDARD
DTSTART:20211031T020000
RDATE:20220327T030000
TZOFFSETFROM:+0200
TZOFFSETTO:+0100
TZNAME:Europe/Paris CET
END:STANDARD
BEGIN:STANDARD
DTSTART:20221030T020000
RDATE:20230326T030000
TZOFFSETFROM:+0200
TZOFFSETTO:+0100
TZNAME:Europe/Paris CET
END:STANDARD
BEGIN:STANDARD
DTSTART:20231029T020000
RDATE:20240331T030000
TZOFFSETFROM:+0200
TZOFFSETTO:+0100
TZNAME:Europe/Paris CET
END:STANDARD
BEGIN:STANDARD
DTSTART:20241027T020000
RDATE:20250330T030000
TZOFFSETFROM:+0200
TZOFFSETTO:+0100
TZNAME:Europe/Paris CET
END:STANDARD
BEGIN:STANDARD
DTSTART:20251026T020000
RDATE:20260329T030000
TZOFFSETFROM:+0200
TZOFFSETTO:+0100
TZNAME:Europe/Paris CET
END:STANDARD
BEGIN:STANDARD
DTSTART:20261025T020000
RDATE:20270328T030000
TZOFFSETFROM:+0200
TZOFFSETTO:+0100
TZNAME:Europe/Paris CET
END:STANDARD
BEGIN:DAYLIGHT
DTSTART:20160327T030000
RDATE:20161030T020000
TZOFFSETFROM:+0100
TZOFFSETTO:+0200
TZNAME:Europe/Paris CEST
END:DAYLIGHT
BEGIN:DAYLIGHT
DTSTART:20170326T030000
RDATE:20171029T020000
TZOFFSETFROM:+0100
TZOFFSETTO:+0200
TZNAME:Europe/Paris CEST
END:DAYLIGHT
BEGIN:DAYLIGHT
DTSTART:20180325T030000
RDATE:20181028T020000
TZOFFSETFROM:+0100
TZOFFSETTO:+0200
TZNAME:Europe/Paris CEST
END:DAYLIGHT
BEGIN:DAYLIGHT
DTSTART:20190331T030000
RDATE:20191027T020000
TZOFFSETFROM:+0100
TZOFFSETTO:+0200
TZNAME:Europe/Paris CEST
END:DAYLIGHT
BEGIN:DAYLIGHT
DTSTART:20200329T030000
RDATE:20201025T020000
TZOFFSETFROM:+0100
TZOFFSETTO:+0200
TZNAME:Europe/Paris CEST
END:DAYLIGHT
BEGIN:DAYLIGHT
DTSTART:20210328T030000
RDATE:20211031T020000
TZOFFSETFROM:+0100
TZOFFSETTO:+0200
TZNAME:Europe/Paris CEST
END:DAYLIGHT
BEGIN:DAYLIGHT
DTSTART:20220327T030000
RDATE:20221030T020000
TZOFFSETFROM:+0100
TZOFFSETTO:+0200
TZNAME:Europe/Paris CEST
END:DAYLIGHT
BEGIN:DAYLIGHT
DTSTART:20230326T030000
RDATE:20231029T020000
TZOFFSETFROM:+0100
TZOFFSETTO:+0200
TZNAME:Europe/Paris CEST
END:DAYLIGHT
BEGIN:DAYLIGHT
DTSTART:20240331T030000
RDATE:20241027T020000
TZOFFSETFROM:+0100
TZOFFSETTO:+0200
TZNAME:Europe/Paris CEST
END:DAYLIGHT
BEGIN:DAYLIGHT
DTSTART:20250330T030000
RDATE:20251026T020000
TZOFFSETFROM:+0100
TZOFFSETTO:+0200
TZNAME:Europe/Paris CEST
END:DAYLIGHT
BEGIN:DAYLIGHT
DTSTART:20260329T030000
RDATE:20261025T020000
TZOFFSETFROM:+0100
TZOFFSETTO:+0200
TZNAME:Europe/Paris CEST
END:DAYLIGHT
END:VTIMEZONE
BEGIN:VEVENT
UID:e3d5c624246dabdbee281c0ed6a65c40
CATEGORIES:Opens et Promos (alpin)
CREATED:20170314T202213
SUMMARY:CD2 LABELLEMONTAGNE
URL;VALUE=URI:https://skivosges.net/agenda/detailevenement/814/-/cd2-labellemontagne?tmpl
 =component
DESCRIPTION:<!-- #gskiepreuve code généré par le plugin jevents pour GskiEpreuves. Ne p
 as modifier cette ligne, ni tout le contenu suivant  #gskiepreuve --><div c
 lass="gski-evenement_infos"><div class="gski-evenement-nom">CD2 LABELLEMONT
 AGNE</div><div class="gski-evenement-report"></div><ul class="gski-evenemen
 t-liste-infos"><li>Codex évenement AMVT0790</li><li>Lieu : LA BRESSE</li><l
 i>Station : LA BRESSE</li><li>COM_GSKIEPREUVES_EPREUVE_PISTEGaby CURIEN</li
 ><li>Organisateur : 14024 LA BRESSAUDE SECTION SKI</li><li>Courriel : <!-- 
 Cette adresse électronique est protégée contre les robots spammeurs. --><sp
 an class="cloaked_email ep_d4a65e21"><span data-ep-b="f&#114;" data-ep-a="&
 #111;&#100;i&#108;e"><span data-ep-b="a&#110;&#103;&#101;&#46;" data-ep-a="
 .m&#117;&#110;&#115;"><span data-ep-a="&#99;&#104;&#46;&#115;&#99;" data-ep
 -b="&#108;&#98;&#64;&#111;r"></span></span></span></span><script>RegularLab
 s.EmailProtector.unCloak("ep_d4a65e21");</script></li><li>Téléphone : 06 08
  85 52 52</li><li><span class="gski-evenement-obs">Autres informations : Co
 mp&eacute;tition avanc&eacute;e au samedi 18 mars. Premier d&eacute;part &a
 grave; 8 H 45. G&eacute;ant sur la piste Gaby CURIEN&lt;br&gt;Forfait matin
  tarif rouge remis&eacute; -20% sur pr&eacute;sentation du dossard&lt;br&gt
 ;Retrait des dossards &agrave; partir de 7 h 30</span></li></ul><div class=
 "gski-evenement-infos-2"><div class="gski-evenement-info-inscriptions"><div
  class="gski-evenement-inscriptions-periodes">Période d'inscription à l'evè
 nement du dimanche 12 mars 2017 à 01:00 au vendredi 17 mars 2017 à 13:00 <s
 pan class="gski-evenement-inscriptions-impossibles">(Inscriptions impossibl
 es).</span><div class="gski-evenement-inscriptions-types-titres">Le type de
  titres Fédéraux autorisé n'est pas défini. Veuillez contacter l'organisate
 ur et lui signaler le problème.</div></div></div><div class="gskiepreuves-l
 inks"><ul><li><a href="/index.php?option=com_jevents&task=icalevent.detail&
 evid=809&Itemid=1703">Voir les informations dans l'agenda...</a></li><li><a
  href="/index.php?option=com_gskiepreuves&view=afficheresultats&format_opti
 on=tous&filter[search]=AMVT0790&filter[date_debut]=18-03-2017&filter[date_f
 in]=18-03-2017&code_activite=ALP&Itemid=1703">Vers les résultats...</a></li
 ></ul></div></div"><!-- #/gskiepreuve fin du dode généré par le plugin jeve
 nts pour GskiEpreuves. . Ne pas modifier cette ligne, ni tout le contenu pr
 écedant.  #/gskiepreuve --> <a href="https://skivosges.net/agenda/detaileve
 nement/814/-/cd2-labellemontagne?tmpl=component">Cet évènement a été import
 é depuis :https://skivosges.net/agenda/detailevenement/814/-/cd2-labellemon
 tagne?tmpl=component</a>
X-ALT-DESC;FMTTYPE=text/html:<!-- #gskiepreuve code généré par le plugin jevents pour GskiEpreuves. Ne p
 as modifier cette ligne, ni tout le contenu suivant  #gskiepreuve --><div c
 lass="gski-evenement_infos"><div class="gski-evenement-nom">CD2 LABELLEMONT
 AGNE</div><div class="gski-evenement-report"></div><ul class="gski-evenemen
 t-liste-infos"><li>Codex évenement AMVT0790</li><li>Lieu : LA BRESSE</li><l
 i>Station : LA BRESSE</li><li>COM_GSKIEPREUVES_EPREUVE_PISTEGaby CURIEN</li
 ><li>Organisateur : 14024 LA BRESSAUDE SECTION SKI</li><li>Courriel : <!-- 
 Cette adresse électronique est protégée contre les robots spammeurs. --><sp
 an class="cloaked_email ep_d4a65e21"><span data-ep-b="f&#114;" data-ep-a="&
 #111;&#100;i&#108;e"><span data-ep-b="a&#110;&#103;&#101;&#46;" data-ep-a="
 .m&#117;&#110;&#115;"><span data-ep-a="&#99;&#104;&#46;&#115;&#99;" data-ep
 -b="&#108;&#98;&#64;&#111;r"></span></span></span></span><script>RegularLab
 s.EmailProtector.unCloak("ep_d4a65e21");</script></li><li>Téléphone : 06 08
  85 52 52</li><li><span class="gski-evenement-obs">Autres informations : Co
 mp&eacute;tition avanc&eacute;e au samedi 18 mars. Premier d&eacute;part &a
 grave; 8 H 45. G&eacute;ant sur la piste Gaby CURIEN&lt;br&gt;Forfait matin
  tarif rouge remis&eacute; -20% sur pr&eacute;sentation du dossard&lt;br&gt
 ;Retrait des dossards &agrave; partir de 7 h 30</span></li></ul><div class=
 "gski-evenement-infos-2"><div class="gski-evenement-info-inscriptions"><div
  class="gski-evenement-inscriptions-periodes">Période d'inscription à l'evè
 nement du dimanche 12 mars 2017 à 01:00 au vendredi 17 mars 2017 à 13:00 <s
 pan class="gski-evenement-inscriptions-impossibles">(Inscriptions impossibl
 es).</span><div class="gski-evenement-inscriptions-types-titres">Le type de
  titres Fédéraux autorisé n'est pas défini. Veuillez contacter l'organisate
 ur et lui signaler le problème.</div></div></div><div class="gskiepreuves-l
 inks"><ul><li><a href="https://skivosges.net/index.php?option=com_jevents&t
 ask=icalevent.detail&evid=809&Itemid=1703">Voir les informations dans l'age
 nda...</a></li><li><a href="https://skivosges.net/index.php?option=com_gski
 epreuves&view=afficheresultats&format_option=tous&filter[search]=AMVT0790&f
 ilter[date_debut]=18-03-2017&filter[date_fin]=18-03-2017&code_activite=ALP&
 Itemid=1703">Vers les résultats...</a></li></ul></div></div"><!-- #/gskiepr
 euve fin du dode généré par le plugin jevents pour GskiEpreuves. . Ne pas m
 odifier cette ligne, ni tout le contenu précedant.  #/gskiepreuve --> <a hr
 ef="https://skivosges.net/agenda/detailevenement/814/-/cd2-labellemontagne?
 tmpl=component">Cet évènement a été importé depuis :https://skivosges.net/a
 genda/detailevenement/814/-/cd2-labellemontagne?tmpl=component</a>DTSTAMP:20260421T051406
DTSTART;TZID=Europe/Paris;VALUE=DATE:20170318
DTEND;TZID=Europe/Paris;VALUE=DATE:20170319
SEQUENCE:0
TRANSP:OPAQUE
END:VEVENT
END:VCALENDAR