BEGIN:VCALENDAR
VERSION:2.0
PRODID:-//jEvents 2.0 for Joomla//EN
CALSCALE:GREGORIAN
METHOD:PUBLISH
BEGIN:VTIMEZONE
TZID:Europe/Paris
BEGIN:STANDARD
DTSTART:20161030T020000
RDATE:20170326T030000
TZOFFSETFROM:+0200
TZOFFSETTO:+0100
TZNAME:Europe/Paris CET
END:STANDARD
BEGIN:STANDARD
DTSTART:20171029T020000
RDATE:20180325T030000
TZOFFSETFROM:+0200
TZOFFSETTO:+0100
TZNAME:Europe/Paris CET
END:STANDARD
BEGIN:STANDARD
DTSTART:20181028T020000
RDATE:20190331T030000
TZOFFSETFROM:+0200
TZOFFSETTO:+0100
TZNAME:Europe/Paris CET
END:STANDARD
BEGIN:STANDARD
DTSTART:20191027T020000
RDATE:20200329T030000
TZOFFSETFROM:+0200
TZOFFSETTO:+0100
TZNAME:Europe/Paris CET
END:STANDARD
BEGIN:STANDARD
DTSTART:20201025T020000
RDATE:20210328T030000
TZOFFSETFROM:+0200
TZOFFSETTO:+0100
TZNAME:Europe/Paris CET
END:STANDARD
BEGIN:STANDARD
DTSTART:20211031T020000
RDATE:20220327T030000
TZOFFSETFROM:+0200
TZOFFSETTO:+0100
TZNAME:Europe/Paris CET
END:STANDARD
BEGIN:STANDARD
DTSTART:20221030T020000
RDATE:20230326T030000
TZOFFSETFROM:+0200
TZOFFSETTO:+0100
TZNAME:Europe/Paris CET
END:STANDARD
BEGIN:STANDARD
DTSTART:20231029T020000
RDATE:20240331T030000
TZOFFSETFROM:+0200
TZOFFSETTO:+0100
TZNAME:Europe/Paris CET
END:STANDARD
BEGIN:STANDARD
DTSTART:20241027T020000
RDATE:20250330T030000
TZOFFSETFROM:+0200
TZOFFSETTO:+0100
TZNAME:Europe/Paris CET
END:STANDARD
BEGIN:STANDARD
DTSTART:20251026T020000
RDATE:20260329T030000
TZOFFSETFROM:+0200
TZOFFSETTO:+0100
TZNAME:Europe/Paris CET
END:STANDARD
BEGIN:STANDARD
DTSTART:20261025T020000
RDATE:20270328T030000
TZOFFSETFROM:+0200
TZOFFSETTO:+0100
TZNAME:Europe/Paris CET
END:STANDARD
BEGIN:DAYLIGHT
DTSTART:20160429T000000
RDATE:20161030T020000
TZOFFSETFROM:+0100
TZOFFSETTO:+0200
TZNAME:Europe/Paris CEST
END:DAYLIGHT
BEGIN:DAYLIGHT
DTSTART:20170326T030000
RDATE:20171029T020000
TZOFFSETFROM:+0100
TZOFFSETTO:+0200
TZNAME:Europe/Paris CEST
END:DAYLIGHT
BEGIN:DAYLIGHT
DTSTART:20180325T030000
RDATE:20181028T020000
TZOFFSETFROM:+0100
TZOFFSETTO:+0200
TZNAME:Europe/Paris CEST
END:DAYLIGHT
BEGIN:DAYLIGHT
DTSTART:20190331T030000
RDATE:20191027T020000
TZOFFSETFROM:+0100
TZOFFSETTO:+0200
TZNAME:Europe/Paris CEST
END:DAYLIGHT
BEGIN:DAYLIGHT
DTSTART:20200329T030000
RDATE:20201025T020000
TZOFFSETFROM:+0100
TZOFFSETTO:+0200
TZNAME:Europe/Paris CEST
END:DAYLIGHT
BEGIN:DAYLIGHT
DTSTART:20210328T030000
RDATE:20211031T020000
TZOFFSETFROM:+0100
TZOFFSETTO:+0200
TZNAME:Europe/Paris CEST
END:DAYLIGHT
BEGIN:DAYLIGHT
DTSTART:20220327T030000
RDATE:20221030T020000
TZOFFSETFROM:+0100
TZOFFSETTO:+0200
TZNAME:Europe/Paris CEST
END:DAYLIGHT
BEGIN:DAYLIGHT
DTSTART:20230326T030000
RDATE:20231029T020000
TZOFFSETFROM:+0100
TZOFFSETTO:+0200
TZNAME:Europe/Paris CEST
END:DAYLIGHT
BEGIN:DAYLIGHT
DTSTART:20240331T030000
RDATE:20241027T020000
TZOFFSETFROM:+0100
TZOFFSETTO:+0200
TZNAME:Europe/Paris CEST
END:DAYLIGHT
BEGIN:DAYLIGHT
DTSTART:20250330T030000
RDATE:20251026T020000
TZOFFSETFROM:+0100
TZOFFSETTO:+0200
TZNAME:Europe/Paris CEST
END:DAYLIGHT
BEGIN:DAYLIGHT
DTSTART:20260329T030000
RDATE:20261025T020000
TZOFFSETFROM:+0100
TZOFFSETTO:+0200
TZNAME:Europe/Paris CEST
END:DAYLIGHT
END:VTIMEZONE
BEGIN:VEVENT
UID:7fe4edbcc036f504e4ab044aaf4056dc
CATEGORIES:Compétitions Snowboard
CREATED:20170920T182831
SUMMARY:PROMO SBS Slopestyle
URL;VALUE=URI:https://skivosges.net/agenda/detailevenement/818/-/promo-sbs-slopestyle?tmp
 l=component
DESCRIPTION:<!-- #gskiepreuve code généré par le plugin jevents pour GskiEpreuves. Ne p
 as modifier cette ligne, ni tout le contenu suivant  #gskiepreuve --><div c
 lass="gski-evenement_infos"><div class="gski-evenement-nom">PROMO SBS Slope
 style</div><div class="gski-evenement-report"></div><ul class="gski-eveneme
 nt-liste-infos"><li>Codex évenement NMVT0020</li><li>Station : AMNEVILLE LE
 S THERMES</li><li>Organisateur : 14494 RDOWN</li><li>Courriel : <!-- Cette 
 adresse électronique est protégée contre les robots spammeurs. --><span cla
 ss="cloaked_email ep_78c012ad"><span data-ep-b="&#46;&#99;&#111;&#109;" dat
 a-ep-a="r&#100;&#111;&#119;"><span data-ep-b="&#109;ail" data-ep-a="&#110;&
 #115;&#110;&#111;"><span data-ep-a="&#119;&#98;oa" data-ep-b="&#114;d&#64;&
 #103;"></span></span></span></span><script>RegularLabs.EmailProtector.unClo
 ak("ep_78c012ad");</script></li></ul><div class="gski-evenement-infos-2"><d
 iv class="gski-evenement-info-inscriptions"><div class="gski-evenement-insc
 riptions-periodes">Période d'inscription à l'evènement du dimanche 23 avril
  2017 à 02:00 au vendredi 28 avril 2017 à 14:00 <span class="gski-evenement
 -inscriptions-impossibles">(Inscriptions impossibles).</span><div class="gs
 ki-evenement-inscriptions-types-titres">Inscriptions ouvertes aux detenteur
 s des titres Fédéraux valides suivants : Licenciés Compétiteurs et Titres L
 oisirs et Dirigeants</div></div></div><div class="gski-evenement-epreuves">
 <div class="gski-evenement-epreuves-titres">Epreuves :</div><ul class="gski
 -evenement-epreuves-list"><li><div class="gski-epreuve-date">Le dimanche 30
  avril 2017</div><ul class="gski-epreuve-liste-infos"><li>Codex épreuve NMV
 F0021</li><li>(SBS)</li><li>Catégorie(s) : Toutes les Categories (Filles)</
 li></ul></li><li><div class="gski-epreuve-date">Le dimanche 30 avril 2017</
 div><ul class="gski-epreuve-liste-infos"><li>Codex épreuve NMVM0021</li><li
 >(SBS)</li><li>Catégorie(s) : Toutes les Categories (Garçons)</li></ul></li
 ></ul></div><div class="gskiepreuves-links"><ul><li><a href="/index.php?opt
 ion=com_jevents&task=icalevent.detail&evid=813&Itemid=1703">Voir les inform
 ations dans l'agenda...</a></li></ul></div></div"><!-- #/gskiepreuve fin du
  dode généré par le plugin jevents pour GskiEpreuves. . Ne pas modifier cet
 te ligne, ni tout le contenu précedant.  #/gskiepreuve --> <a href="https:/
 /skivosges.net/agenda/detailevenement/818/-/promo-sbs-slopestyle?tmpl=compo
 nent">Cet évènement a été importé depuis :https://skivosges.net/agenda/deta
 ilevenement/818/-/promo-sbs-slopestyle?tmpl=component</a>
X-ALT-DESC;FMTTYPE=text/html:<!-- #gskiepreuve code généré par le plugin jevents pour GskiEpreuves. Ne p
 as modifier cette ligne, ni tout le contenu suivant  #gskiepreuve --><div c
 lass="gski-evenement_infos"><div class="gski-evenement-nom">PROMO SBS Slope
 style</div><div class="gski-evenement-report"></div><ul class="gski-eveneme
 nt-liste-infos"><li>Codex évenement NMVT0020</li><li>Station : AMNEVILLE LE
 S THERMES</li><li>Organisateur : 14494 RDOWN</li><li>Courriel : <!-- Cette 
 adresse électronique est protégée contre les robots spammeurs. --><span cla
 ss="cloaked_email ep_78c012ad"><span data-ep-b="&#46;&#99;&#111;&#109;" dat
 a-ep-a="r&#100;&#111;&#119;"><span data-ep-b="&#109;ail" data-ep-a="&#110;&
 #115;&#110;&#111;"><span data-ep-a="&#119;&#98;oa" data-ep-b="&#114;d&#64;&
 #103;"></span></span></span></span><script>RegularLabs.EmailProtector.unClo
 ak("ep_78c012ad");</script></li></ul><div class="gski-evenement-infos-2"><d
 iv class="gski-evenement-info-inscriptions"><div class="gski-evenement-insc
 riptions-periodes">Période d'inscription à l'evènement du dimanche 23 avril
  2017 à 02:00 au vendredi 28 avril 2017 à 14:00 <span class="gski-evenement
 -inscriptions-impossibles">(Inscriptions impossibles).</span><div class="gs
 ki-evenement-inscriptions-types-titres">Inscriptions ouvertes aux detenteur
 s des titres Fédéraux valides suivants : Licenciés Compétiteurs et Titres L
 oisirs et Dirigeants</div></div></div><div class="gski-evenement-epreuves">
 <div class="gski-evenement-epreuves-titres">Epreuves :</div><ul class="gski
 -evenement-epreuves-list"><li><div class="gski-epreuve-date">Le dimanche 30
  avril 2017</div><ul class="gski-epreuve-liste-infos"><li>Codex épreuve NMV
 F0021</li><li>(SBS)</li><li>Catégorie(s) : Toutes les Categories (Filles)</
 li></ul></li><li><div class="gski-epreuve-date">Le dimanche 30 avril 2017</
 div><ul class="gski-epreuve-liste-infos"><li>Codex épreuve NMVM0021</li><li
 >(SBS)</li><li>Catégorie(s) : Toutes les Categories (Garçons)</li></ul></li
 ></ul></div><div class="gskiepreuves-links"><ul><li><a href="https://skivos
 ges.net/index.php?option=com_jevents&task=icalevent.detail&evid=813&Itemid=
 1703">Voir les informations dans l'agenda...</a></li></ul></div></div"><!--
  #/gskiepreuve fin du dode généré par le plugin jevents pour GskiEpreuves. 
 . Ne pas modifier cette ligne, ni tout le contenu précedant.  #/gskiepreuve
  --> <a href="https://skivosges.net/agenda/detailevenement/818/-/promo-sbs-
 slopestyle?tmpl=component">Cet évènement a été importé depuis :https://skiv
 osges.net/agenda/detailevenement/818/-/promo-sbs-slopestyle?tmpl=component<
 /a>DTSTAMP:20260420T221455
DTSTART;TZID=Europe/Paris;VALUE=DATE:20170430
DTEND;TZID=Europe/Paris;VALUE=DATE:20170501
SEQUENCE:0
TRANSP:OPAQUE
END:VEVENT
END:VCALENDAR