BEGIN:VCALENDAR
VERSION:2.0
PRODID:-//jEvents 2.0 for Joomla//EN
CALSCALE:GREGORIAN
METHOD:PUBLISH
BEGIN:VTIMEZONE
TZID:Europe/Paris
BEGIN:STANDARD
DTSTART:20161030T020000
RDATE:20170326T030000
TZOFFSETFROM:+0200
TZOFFSETTO:+0100
TZNAME:Europe/Paris CET
END:STANDARD
BEGIN:STANDARD
DTSTART:20171029T020000
RDATE:20180325T030000
TZOFFSETFROM:+0200
TZOFFSETTO:+0100
TZNAME:Europe/Paris CET
END:STANDARD
BEGIN:STANDARD
DTSTART:20181028T020000
RDATE:20190331T030000
TZOFFSETFROM:+0200
TZOFFSETTO:+0100
TZNAME:Europe/Paris CET
END:STANDARD
BEGIN:STANDARD
DTSTART:20191027T020000
RDATE:20200329T030000
TZOFFSETFROM:+0200
TZOFFSETTO:+0100
TZNAME:Europe/Paris CET
END:STANDARD
BEGIN:STANDARD
DTSTART:20201025T020000
RDATE:20210328T030000
TZOFFSETFROM:+0200
TZOFFSETTO:+0100
TZNAME:Europe/Paris CET
END:STANDARD
BEGIN:STANDARD
DTSTART:20211031T020000
RDATE:20220327T030000
TZOFFSETFROM:+0200
TZOFFSETTO:+0100
TZNAME:Europe/Paris CET
END:STANDARD
BEGIN:STANDARD
DTSTART:20221030T020000
RDATE:20230326T030000
TZOFFSETFROM:+0200
TZOFFSETTO:+0100
TZNAME:Europe/Paris CET
END:STANDARD
BEGIN:STANDARD
DTSTART:20231029T020000
RDATE:20240331T030000
TZOFFSETFROM:+0200
TZOFFSETTO:+0100
TZNAME:Europe/Paris CET
END:STANDARD
BEGIN:STANDARD
DTSTART:20241027T020000
RDATE:20250330T030000
TZOFFSETFROM:+0200
TZOFFSETTO:+0100
TZNAME:Europe/Paris CET
END:STANDARD
BEGIN:STANDARD
DTSTART:20251026T020000
RDATE:20260329T030000
TZOFFSETFROM:+0200
TZOFFSETTO:+0100
TZNAME:Europe/Paris CET
END:STANDARD
BEGIN:STANDARD
DTSTART:20261025T020000
RDATE:20270328T030000
TZOFFSETFROM:+0200
TZOFFSETTO:+0100
TZNAME:Europe/Paris CET
END:STANDARD
BEGIN:DAYLIGHT
DTSTART:20160630T000000
RDATE:20161030T020000
TZOFFSETFROM:+0100
TZOFFSETTO:+0200
TZNAME:Europe/Paris CEST
END:DAYLIGHT
BEGIN:DAYLIGHT
DTSTART:20170326T030000
RDATE:20171029T020000
TZOFFSETFROM:+0100
TZOFFSETTO:+0200
TZNAME:Europe/Paris CEST
END:DAYLIGHT
BEGIN:DAYLIGHT
DTSTART:20180325T030000
RDATE:20181028T020000
TZOFFSETFROM:+0100
TZOFFSETTO:+0200
TZNAME:Europe/Paris CEST
END:DAYLIGHT
BEGIN:DAYLIGHT
DTSTART:20190331T030000
RDATE:20191027T020000
TZOFFSETFROM:+0100
TZOFFSETTO:+0200
TZNAME:Europe/Paris CEST
END:DAYLIGHT
BEGIN:DAYLIGHT
DTSTART:20200329T030000
RDATE:20201025T020000
TZOFFSETFROM:+0100
TZOFFSETTO:+0200
TZNAME:Europe/Paris CEST
END:DAYLIGHT
BEGIN:DAYLIGHT
DTSTART:20210328T030000
RDATE:20211031T020000
TZOFFSETFROM:+0100
TZOFFSETTO:+0200
TZNAME:Europe/Paris CEST
END:DAYLIGHT
BEGIN:DAYLIGHT
DTSTART:20220327T030000
RDATE:20221030T020000
TZOFFSETFROM:+0100
TZOFFSETTO:+0200
TZNAME:Europe/Paris CEST
END:DAYLIGHT
BEGIN:DAYLIGHT
DTSTART:20230326T030000
RDATE:20231029T020000
TZOFFSETFROM:+0100
TZOFFSETTO:+0200
TZNAME:Europe/Paris CEST
END:DAYLIGHT
BEGIN:DAYLIGHT
DTSTART:20240331T030000
RDATE:20241027T020000
TZOFFSETFROM:+0100
TZOFFSETTO:+0200
TZNAME:Europe/Paris CEST
END:DAYLIGHT
BEGIN:DAYLIGHT
DTSTART:20250330T030000
RDATE:20251026T020000
TZOFFSETFROM:+0100
TZOFFSETTO:+0200
TZNAME:Europe/Paris CEST
END:DAYLIGHT
BEGIN:DAYLIGHT
DTSTART:20260329T030000
RDATE:20261025T020000
TZOFFSETFROM:+0100
TZOFFSETTO:+0200
TZNAME:Europe/Paris CEST
END:DAYLIGHT
END:VTIMEZONE
BEGIN:VEVENT
UID:607a03f37959708a5c56d5a9126bf17c
CATEGORIES:Compétition Saut
CREATED:20170920T182831
SUMMARY:LA BRESSE COUPE DES VOSGES Crédit Mutuel étape n°2
URL;VALUE=URI:https://skivosges.net/agenda/detailevenement/822/-/la-bresse-coupe-des-vosg
 es-credit-mutuel-etape-n-2?tmpl=component
DESCRIPTION:LA BRESSE COUPE DES VOSGES Crédit Mutuel étape n°2\n - Codex évenement TMVT
 0150\n - Station : LA BRESSE LISPACH\n - Organisateur : 14024 LA BRESSAUDE 
 SECTION SKIPériode d'inscription à l'evènement du samedi 24 juin 2017 à 02:
 00 au jeudi 29 juin 2017 à 14:00 (Inscriptions impossibles).Inscriptions ou
 vertes aux detenteurs des titres Fédéraux valides suivants : Licenciés Comp
 étiteursEpreuves :\n - Le samedi 01 juillet 2017\n - Codex épreuve TMVF0151
 \n - Saut Special\n - Catégorie(s) : Toutes les Categories (Filles)\n - Le 
 samedi 01 juillet 2017\n - Codex épreuve TMVM0151\n - Saut Special\n - Caté
 gorie(s) : Toutes les Categories (Garçons)\n - Voir les informations dans l
 'agenda... (/index.php?option=com_jevents&amp;task=icalevent.detail&amp;evi
 d=817&amp;Itemid=1703) Cet évènement a été importé depuis :https://skivosge
 s.net/agenda/detailevenement/822/-/la-bresse-coupe-des-vosges-credit-mutuel
 -etape-n-2?tmpl=component (https://skivosges.net/agenda/detailevenement/822
 /-/la-bresse-coupe-des-vosges-credit-mutuel-etape-n-2?tmpl=component)
X-ALT-DESC;FMTTYPE=text/html:<!-- #gskiepreuve code généré par le plugin jevents pour GskiEpreuves. Ne p
 as modifier cette ligne, ni tout le contenu suivant  #gskiepreuve --><div c
 lass="gski-evenement_infos"><div class="gski-evenement-nom">LA BRESSE COUPE
  DES VOSGES Crédit Mutuel étape n°2</div><div class="gski-evenement-report"
 ></div><ul class="gski-evenement-liste-infos"><li>Codex évenement TMVT0150<
 /li><li>Station : LA BRESSE LISPACH</li><li>Organisateur : 14024 LA BRESSAU
 DE SECTION SKI</li></ul><div class="gski-evenement-infos-2"><div class="gsk
 i-evenement-info-inscriptions"><div class="gski-evenement-inscriptions-peri
 odes">Période d'inscription à l'evènement du samedi 24 juin 2017 à 02:00 au
  jeudi 29 juin 2017 à 14:00 <span class="gski-evenement-inscriptions-imposs
 ibles">(Inscriptions impossibles).</span><div class="gski-evenement-inscrip
 tions-types-titres">Inscriptions ouvertes aux detenteurs des titres Fédérau
 x valides suivants : Licenciés Compétiteurs</div></div></div><div class="gs
 ki-evenement-epreuves"><div class="gski-evenement-epreuves-titres">Epreuves
  :</div><ul class="gski-evenement-epreuves-list"><li><div class="gski-epreu
 ve-date">Le samedi 01 juillet 2017</div><ul class="gski-epreuve-liste-infos
 "><li>Codex épreuve TMVF0151</li><li>Saut Special</li><li>Catégorie(s) : To
 utes les Categories (Filles)</li></ul></li><li><div class="gski-epreuve-dat
 e">Le samedi 01 juillet 2017</div><ul class="gski-epreuve-liste-infos"><li>
 Codex épreuve TMVM0151</li><li>Saut Special</li><li>Catégorie(s) : Toutes l
 es Categories (Garçons)</li></ul></li></ul></div><div class="gskiepreuves-l
 inks"><ul><li><a href="https://skivosges.net/index.php?option=com_jevents&t
 ask=icalevent.detail&evid=817&Itemid=1703">Voir les informations dans l'age
 nda...</a></li></ul></div></div"><!-- #/gskiepreuve fin du dode généré par 
 le plugin jevents pour GskiEpreuves. . Ne pas modifier cette ligne, ni tout
  le contenu précedant.  #/gskiepreuve --> <a href="https://skivosges.net/ag
 enda/detailevenement/822/-/la-bresse-coupe-des-vosges-credit-mutuel-etape-n
 -2?tmpl=component">Cet évènement a été importé depuis :https://skivosges.ne
 t/agenda/detailevenement/822/-/la-bresse-coupe-des-vosges-credit-mutuel-eta
 pe-n-2?tmpl=component</a>DTSTAMP:20260420T184106
DTSTART;TZID=Europe/Paris;VALUE=DATE:20170701
DTEND;TZID=Europe/Paris;VALUE=DATE:20170702
SEQUENCE:0
TRANSP:OPAQUE
END:VEVENT
END:VCALENDAR