BEGIN:VCALENDAR
VERSION:2.0
PRODID:-//jEvents 2.0 for Joomla//EN
CALSCALE:GREGORIAN
METHOD:PUBLISH
BEGIN:VTIMEZONE
TZID:Europe/Paris
BEGIN:STANDARD
DTSTART:20161030T020000
RDATE:20170326T030000
TZOFFSETFROM:+0200
TZOFFSETTO:+0100
TZNAME:Europe/Paris CET
END:STANDARD
BEGIN:STANDARD
DTSTART:20171029T020000
RDATE:20180325T030000
TZOFFSETFROM:+0200
TZOFFSETTO:+0100
TZNAME:Europe/Paris CET
END:STANDARD
BEGIN:STANDARD
DTSTART:20181028T020000
RDATE:20190331T030000
TZOFFSETFROM:+0200
TZOFFSETTO:+0100
TZNAME:Europe/Paris CET
END:STANDARD
BEGIN:STANDARD
DTSTART:20191027T020000
RDATE:20200329T030000
TZOFFSETFROM:+0200
TZOFFSETTO:+0100
TZNAME:Europe/Paris CET
END:STANDARD
BEGIN:STANDARD
DTSTART:20201025T020000
RDATE:20210328T030000
TZOFFSETFROM:+0200
TZOFFSETTO:+0100
TZNAME:Europe/Paris CET
END:STANDARD
BEGIN:STANDARD
DTSTART:20211031T020000
RDATE:20220327T030000
TZOFFSETFROM:+0200
TZOFFSETTO:+0100
TZNAME:Europe/Paris CET
END:STANDARD
BEGIN:STANDARD
DTSTART:20221030T020000
RDATE:20230326T030000
TZOFFSETFROM:+0200
TZOFFSETTO:+0100
TZNAME:Europe/Paris CET
END:STANDARD
BEGIN:STANDARD
DTSTART:20231029T020000
RDATE:20240331T030000
TZOFFSETFROM:+0200
TZOFFSETTO:+0100
TZNAME:Europe/Paris CET
END:STANDARD
BEGIN:STANDARD
DTSTART:20241027T020000
RDATE:20250330T030000
TZOFFSETFROM:+0200
TZOFFSETTO:+0100
TZNAME:Europe/Paris CET
END:STANDARD
BEGIN:STANDARD
DTSTART:20251026T020000
RDATE:20260329T030000
TZOFFSETFROM:+0200
TZOFFSETTO:+0100
TZNAME:Europe/Paris CET
END:STANDARD
BEGIN:STANDARD
DTSTART:20261025T020000
RDATE:20270328T030000
TZOFFSETFROM:+0200
TZOFFSETTO:+0100
TZNAME:Europe/Paris CET
END:STANDARD
BEGIN:DAYLIGHT
DTSTART:20160715T000000
RDATE:20161030T020000
TZOFFSETFROM:+0100
TZOFFSETTO:+0200
TZNAME:Europe/Paris CEST
END:DAYLIGHT
BEGIN:DAYLIGHT
DTSTART:20170326T030000
RDATE:20171029T020000
TZOFFSETFROM:+0100
TZOFFSETTO:+0200
TZNAME:Europe/Paris CEST
END:DAYLIGHT
BEGIN:DAYLIGHT
DTSTART:20180325T030000
RDATE:20181028T020000
TZOFFSETFROM:+0100
TZOFFSETTO:+0200
TZNAME:Europe/Paris CEST
END:DAYLIGHT
BEGIN:DAYLIGHT
DTSTART:20190331T030000
RDATE:20191027T020000
TZOFFSETFROM:+0100
TZOFFSETTO:+0200
TZNAME:Europe/Paris CEST
END:DAYLIGHT
BEGIN:DAYLIGHT
DTSTART:20200329T030000
RDATE:20201025T020000
TZOFFSETFROM:+0100
TZOFFSETTO:+0200
TZNAME:Europe/Paris CEST
END:DAYLIGHT
BEGIN:DAYLIGHT
DTSTART:20210328T030000
RDATE:20211031T020000
TZOFFSETFROM:+0100
TZOFFSETTO:+0200
TZNAME:Europe/Paris CEST
END:DAYLIGHT
BEGIN:DAYLIGHT
DTSTART:20220327T030000
RDATE:20221030T020000
TZOFFSETFROM:+0100
TZOFFSETTO:+0200
TZNAME:Europe/Paris CEST
END:DAYLIGHT
BEGIN:DAYLIGHT
DTSTART:20230326T030000
RDATE:20231029T020000
TZOFFSETFROM:+0100
TZOFFSETTO:+0200
TZNAME:Europe/Paris CEST
END:DAYLIGHT
BEGIN:DAYLIGHT
DTSTART:20240331T030000
RDATE:20241027T020000
TZOFFSETFROM:+0100
TZOFFSETTO:+0200
TZNAME:Europe/Paris CEST
END:DAYLIGHT
BEGIN:DAYLIGHT
DTSTART:20250330T030000
RDATE:20251026T020000
TZOFFSETFROM:+0100
TZOFFSETTO:+0200
TZNAME:Europe/Paris CEST
END:DAYLIGHT
BEGIN:DAYLIGHT
DTSTART:20260329T030000
RDATE:20261025T020000
TZOFFSETFROM:+0100
TZOFFSETTO:+0200
TZNAME:Europe/Paris CEST
END:DAYLIGHT
END:VTIMEZONE
BEGIN:VEVENT
UID:7882b13663b26b6cb55f8c4cad49cab1
CATEGORIES:Compétition Saut
CREATED:20170920T182831
SUMMARY:LA BRESSE 6 ème Grand Prix d'été Ville de la Bresse saut - combiné
URL;VALUE=URI:https://skivosges.net/agenda/detailevenement/824/-/la-bresse-6-eme-grand-pr
 ix-dete-ville-de-la-bresse-saut-combine?tmpl=component
DESCRIPTION:LA BRESSE 6 ème Grand Prix d'été Ville de la Bresse saut - combiné\n - Code
 x évenement TMVT0160\n - Station : LA BRESSE LISPACH\n - Organisateur : 140
 24 LA BRESSAUDE SECTION SKIPériode d'inscription à l'evènement du dimanche 
 09 juillet 2017 à 02:00 au vendredi 14 juillet 2017 à 14:00 (Inscriptions i
 mpossibles).Inscriptions ouvertes aux detenteurs des titres Fédéraux valide
 s suivants : Licenciés CompétiteursEpreuves :\n - Le dimanche 16 juillet 20
 17\n - Codex épreuve TMVF0161\n - Saut Special\n - Catégorie(s) : U9 a U15 
 (Filles)\n - Le dimanche 16 juillet 2017\n - Codex épreuve TMVM0161\n - Sau
 t Special\n - Catégorie(s) : U9 a U15 (Garçons)\n - Voir les informations d
 ans l'agenda... (/index.php?option=com_jevents&amp;task=icalevent.detail&am
 p;evid=819&amp;Itemid=1703) Cet évènement a été importé depuis :https://ski
 vosges.net/agenda/detailevenement/824/-/la-bresse-6-eme-grand-prix-dete-vil
 le-de-la-bresse-saut-combine?tmpl=component (https://skivosges.net/agenda/d
 etailevenement/824/-/la-bresse-6-eme-grand-prix-dete-ville-de-la-bresse-sau
 t-combine?tmpl=component)
X-ALT-DESC;FMTTYPE=text/html:<!-- #gskiepreuve code généré par le plugin jevents pour GskiEpreuves. Ne p
 as modifier cette ligne, ni tout le contenu suivant  #gskiepreuve --><div c
 lass="gski-evenement_infos"><div class="gski-evenement-nom">LA BRESSE 6 ème
  Grand Prix d'été Ville de la Bresse saut - combiné</div><div class="gski-e
 venement-report"></div><ul class="gski-evenement-liste-infos"><li>Codex éve
 nement TMVT0160</li><li>Station : LA BRESSE LISPACH</li><li>Organisateur : 
 14024 LA BRESSAUDE SECTION SKI</li></ul><div class="gski-evenement-infos-2"
 ><div class="gski-evenement-info-inscriptions"><div class="gski-evenement-i
 nscriptions-periodes">Période d'inscription à l'evènement du dimanche 09 ju
 illet 2017 à 02:00 au vendredi 14 juillet 2017 à 14:00 <span class="gski-ev
 enement-inscriptions-impossibles">(Inscriptions impossibles).</span><div cl
 ass="gski-evenement-inscriptions-types-titres">Inscriptions ouvertes aux de
 tenteurs des titres Fédéraux valides suivants : Licenciés Compétiteurs</div
 ></div></div><div class="gski-evenement-epreuves"><div class="gski-evenemen
 t-epreuves-titres">Epreuves :</div><ul class="gski-evenement-epreuves-list"
 ><li><div class="gski-epreuve-date">Le dimanche 16 juillet 2017</div><ul cl
 ass="gski-epreuve-liste-infos"><li>Codex épreuve TMVF0161</li><li>Saut Spec
 ial</li><li>Catégorie(s) : U9 a U15 (Filles)</li></ul></li><li><div class="
 gski-epreuve-date">Le dimanche 16 juillet 2017</div><ul class="gski-epreuve
 -liste-infos"><li>Codex épreuve TMVM0161</li><li>Saut Special</li><li>Catég
 orie(s) : U9 a U15 (Garçons)</li></ul></li></ul></div><div class="gskiepreu
 ves-links"><ul><li><a href="https://skivosges.net/index.php?option=com_jeve
 nts&task=icalevent.detail&evid=819&Itemid=1703">Voir les informations dans 
 l'agenda...</a></li></ul></div></div"><!-- #/gskiepreuve fin du dode généré
  par le plugin jevents pour GskiEpreuves. . Ne pas modifier cette ligne, ni
  tout le contenu précedant.  #/gskiepreuve --> <a href="https://skivosges.n
 et/agenda/detailevenement/824/-/la-bresse-6-eme-grand-prix-dete-ville-de-la
 -bresse-saut-combine?tmpl=component">Cet évènement a été importé depuis :ht
 tps://skivosges.net/agenda/detailevenement/824/-/la-bresse-6-eme-grand-prix
 -dete-ville-de-la-bresse-saut-combine?tmpl=component</a>DTSTAMP:20260420T184052
DTSTART;TZID=Europe/Paris;VALUE=DATE:20170716
DTEND;TZID=Europe/Paris;VALUE=DATE:20170717
SEQUENCE:0
TRANSP:OPAQUE
END:VEVENT
END:VCALENDAR