BEGIN:VCALENDAR
VERSION:2.0
PRODID:-//jEvents 2.0 for Joomla//EN
CALSCALE:GREGORIAN
METHOD:PUBLISH
BEGIN:VTIMEZONE
TZID:Europe/Paris
BEGIN:STANDARD
DTSTART:20161030T020000
RDATE:20170326T030000
TZOFFSETFROM:+0200
TZOFFSETTO:+0100
TZNAME:Europe/Paris CET
END:STANDARD
BEGIN:STANDARD
DTSTART:20171029T020000
RDATE:20180325T030000
TZOFFSETFROM:+0200
TZOFFSETTO:+0100
TZNAME:Europe/Paris CET
END:STANDARD
BEGIN:STANDARD
DTSTART:20181028T020000
RDATE:20190331T030000
TZOFFSETFROM:+0200
TZOFFSETTO:+0100
TZNAME:Europe/Paris CET
END:STANDARD
BEGIN:STANDARD
DTSTART:20191027T020000
RDATE:20200329T030000
TZOFFSETFROM:+0200
TZOFFSETTO:+0100
TZNAME:Europe/Paris CET
END:STANDARD
BEGIN:STANDARD
DTSTART:20201025T020000
RDATE:20210328T030000
TZOFFSETFROM:+0200
TZOFFSETTO:+0100
TZNAME:Europe/Paris CET
END:STANDARD
BEGIN:STANDARD
DTSTART:20211031T020000
RDATE:20220327T030000
TZOFFSETFROM:+0200
TZOFFSETTO:+0100
TZNAME:Europe/Paris CET
END:STANDARD
BEGIN:STANDARD
DTSTART:20221030T020000
RDATE:20230326T030000
TZOFFSETFROM:+0200
TZOFFSETTO:+0100
TZNAME:Europe/Paris CET
END:STANDARD
BEGIN:STANDARD
DTSTART:20231029T020000
RDATE:20240331T030000
TZOFFSETFROM:+0200
TZOFFSETTO:+0100
TZNAME:Europe/Paris CET
END:STANDARD
BEGIN:STANDARD
DTSTART:20241027T020000
RDATE:20250330T030000
TZOFFSETFROM:+0200
TZOFFSETTO:+0100
TZNAME:Europe/Paris CET
END:STANDARD
BEGIN:STANDARD
DTSTART:20251026T020000
RDATE:20260329T030000
TZOFFSETFROM:+0200
TZOFFSETTO:+0100
TZNAME:Europe/Paris CET
END:STANDARD
BEGIN:STANDARD
DTSTART:20261025T020000
RDATE:20270328T030000
TZOFFSETFROM:+0200
TZOFFSETTO:+0100
TZNAME:Europe/Paris CET
END:STANDARD
BEGIN:DAYLIGHT
DTSTART:20160721T000000
RDATE:20161030T020000
TZOFFSETFROM:+0100
TZOFFSETTO:+0200
TZNAME:Europe/Paris CEST
END:DAYLIGHT
BEGIN:DAYLIGHT
DTSTART:20170326T030000
RDATE:20171029T020000
TZOFFSETFROM:+0100
TZOFFSETTO:+0200
TZNAME:Europe/Paris CEST
END:DAYLIGHT
BEGIN:DAYLIGHT
DTSTART:20180325T030000
RDATE:20181028T020000
TZOFFSETFROM:+0100
TZOFFSETTO:+0200
TZNAME:Europe/Paris CEST
END:DAYLIGHT
BEGIN:DAYLIGHT
DTSTART:20190331T030000
RDATE:20191027T020000
TZOFFSETFROM:+0100
TZOFFSETTO:+0200
TZNAME:Europe/Paris CEST
END:DAYLIGHT
BEGIN:DAYLIGHT
DTSTART:20200329T030000
RDATE:20201025T020000
TZOFFSETFROM:+0100
TZOFFSETTO:+0200
TZNAME:Europe/Paris CEST
END:DAYLIGHT
BEGIN:DAYLIGHT
DTSTART:20210328T030000
RDATE:20211031T020000
TZOFFSETFROM:+0100
TZOFFSETTO:+0200
TZNAME:Europe/Paris CEST
END:DAYLIGHT
BEGIN:DAYLIGHT
DTSTART:20220327T030000
RDATE:20221030T020000
TZOFFSETFROM:+0100
TZOFFSETTO:+0200
TZNAME:Europe/Paris CEST
END:DAYLIGHT
BEGIN:DAYLIGHT
DTSTART:20230326T030000
RDATE:20231029T020000
TZOFFSETFROM:+0100
TZOFFSETTO:+0200
TZNAME:Europe/Paris CEST
END:DAYLIGHT
BEGIN:DAYLIGHT
DTSTART:20240331T030000
RDATE:20241027T020000
TZOFFSETFROM:+0100
TZOFFSETTO:+0200
TZNAME:Europe/Paris CEST
END:DAYLIGHT
BEGIN:DAYLIGHT
DTSTART:20250330T030000
RDATE:20251026T020000
TZOFFSETFROM:+0100
TZOFFSETTO:+0200
TZNAME:Europe/Paris CEST
END:DAYLIGHT
BEGIN:DAYLIGHT
DTSTART:20260329T030000
RDATE:20261025T020000
TZOFFSETFROM:+0100
TZOFFSETTO:+0200
TZNAME:Europe/Paris CEST
END:DAYLIGHT
END:VTIMEZONE
BEGIN:VEVENT
UID:4e112ab940ddbbd1234186944cdc5fae
CATEGORIES:Compétition Biathlon
CREATED:20170920T182831
SUMMARY:course reserve
URL;VALUE=URI:https://skivosges.net/agenda/detailevenement/827/-/course-reserve?tmpl=comp
 onent
DESCRIPTION:course reserve\n - Codex évenement BMVT0070\n - Organisateur : Période d'in
 scription à l'evènement du samedi 15 juillet 2017 à 02:00 au jeudi 20 juill
 et 2017 à 14:00 (Inscriptions impossibles).Inscriptions ouvertes aux detent
 eurs des titres Fédéraux valides suivants : Licenciés CompétiteursEpreuves 
 :\n - Le samedi 22 juillet 2017\n - Codex épreuve BMVF0071\n - Individuel\n
  - Catégorie(s) : U14 (Filles)\n - Le samedi 22 juillet 2017\n - Codex épre
 uve BMVM0071\n - Individuel\n - Catégorie(s) : U14 (Garçons)\n - Le samedi 
 22 juillet 2017\n - Codex épreuve BMVF0072\n - Individuel\n - Catégorie(s) 
 : U16 a SEN (Filles)\n - Le samedi 22 juillet 2017\n - Codex épreuve BMVM00
 72\n - Individuel\n - Catégorie(s) : U16 a SEN (Garçons)\n - Voir les infor
 mations dans l'agenda... (/index.php?option=com_jevents&amp;task=icalevent.
 detail&amp;evid=822&amp;Itemid=1703) Cet évènement a été importé depuis :ht
 tps://skivosges.net/agenda/detailevenement/827/-/course-reserve?tmpl=compon
 ent (https://skivosges.net/agenda/detailevenement/827/-/course-reserve?tmpl
 =component)
X-ALT-DESC;FMTTYPE=text/html:<!-- #gskiepreuve code généré par le plugin jevents pour GskiEpreuves. Ne p
 as modifier cette ligne, ni tout le contenu suivant  #gskiepreuve --><div c
 lass="gski-evenement_infos"><div class="gski-evenement-nom">course reserve<
 /div><div class="gski-evenement-report"></div><ul class="gski-evenement-lis
 te-infos"><li>Codex évenement BMVT0070</li><li>Organisateur : </li></ul><di
 v class="gski-evenement-infos-2"><div class="gski-evenement-info-inscriptio
 ns"><div class="gski-evenement-inscriptions-periodes">Période d'inscription
  à l'evènement du samedi 15 juillet 2017 à 02:00 au jeudi 20 juillet 2017 à
  14:00 <span class="gski-evenement-inscriptions-impossibles">(Inscriptions 
 impossibles).</span><div class="gski-evenement-inscriptions-types-titres">I
 nscriptions ouvertes aux detenteurs des titres Fédéraux valides suivants : 
 Licenciés Compétiteurs</div></div></div><div class="gski-evenement-epreuves
 "><div class="gski-evenement-epreuves-titres">Epreuves :</div><ul class="gs
 ki-evenement-epreuves-list"><li><div class="gski-epreuve-date">Le samedi 22
  juillet 2017</div><ul class="gski-epreuve-liste-infos"><li>Codex épreuve B
 MVF0071</li><li>Individuel</li><li>Catégorie(s) : U14 (Filles)</li></ul></l
 i><li><div class="gski-epreuve-date">Le samedi 22 juillet 2017</div><ul cla
 ss="gski-epreuve-liste-infos"><li>Codex épreuve BMVM0071</li><li>Individuel
 </li><li>Catégorie(s) : U14 (Garçons)</li></ul></li><li><div class="gski-ep
 reuve-date">Le samedi 22 juillet 2017</div><ul class="gski-epreuve-liste-in
 fos"><li>Codex épreuve BMVF0072</li><li>Individuel</li><li>Catégorie(s) : U
 16 a SEN (Filles)</li></ul></li><li><div class="gski-epreuve-date">Le samed
 i 22 juillet 2017</div><ul class="gski-epreuve-liste-infos"><li>Codex épreu
 ve BMVM0072</li><li>Individuel</li><li>Catégorie(s) : U16 a SEN (Garçons)</
 li></ul></li></ul></div><div class="gskiepreuves-links"><ul><li><a href="ht
 tps://skivosges.net/index.php?option=com_jevents&task=icalevent.detail&evid
 =822&Itemid=1703">Voir les informations dans l'agenda...</a></li></ul></div
 ></div"><!-- #/gskiepreuve fin du dode généré par le plugin jevents pour Gs
 kiEpreuves. . Ne pas modifier cette ligne, ni tout le contenu précedant.  #
 /gskiepreuve --> <a href="https://skivosges.net/agenda/detailevenement/827/
 -/course-reserve?tmpl=component">Cet évènement a été importé depuis :https:
 //skivosges.net/agenda/detailevenement/827/-/course-reserve?tmpl=component<
 /a>DTSTAMP:20260420T184016
DTSTART;TZID=Europe/Paris;VALUE=DATE:20170722
DTEND;TZID=Europe/Paris;VALUE=DATE:20170723
SEQUENCE:0
TRANSP:OPAQUE
END:VEVENT
END:VCALENDAR