BEGIN:VCALENDAR
VERSION:2.0
PRODID:-//jEvents 2.0 for Joomla//EN
CALSCALE:GREGORIAN
METHOD:PUBLISH
BEGIN:VTIMEZONE
TZID:Europe/Paris
BEGIN:STANDARD
DTSTART:20161030T020000
RDATE:20170326T030000
TZOFFSETFROM:+0200
TZOFFSETTO:+0100
TZNAME:Europe/Paris CET
END:STANDARD
BEGIN:STANDARD
DTSTART:20171029T020000
RDATE:20180325T030000
TZOFFSETFROM:+0200
TZOFFSETTO:+0100
TZNAME:Europe/Paris CET
END:STANDARD
BEGIN:STANDARD
DTSTART:20181028T020000
RDATE:20190331T030000
TZOFFSETFROM:+0200
TZOFFSETTO:+0100
TZNAME:Europe/Paris CET
END:STANDARD
BEGIN:STANDARD
DTSTART:20191027T020000
RDATE:20200329T030000
TZOFFSETFROM:+0200
TZOFFSETTO:+0100
TZNAME:Europe/Paris CET
END:STANDARD
BEGIN:STANDARD
DTSTART:20201025T020000
RDATE:20210328T030000
TZOFFSETFROM:+0200
TZOFFSETTO:+0100
TZNAME:Europe/Paris CET
END:STANDARD
BEGIN:STANDARD
DTSTART:20211031T020000
RDATE:20220327T030000
TZOFFSETFROM:+0200
TZOFFSETTO:+0100
TZNAME:Europe/Paris CET
END:STANDARD
BEGIN:STANDARD
DTSTART:20221030T020000
RDATE:20230326T030000
TZOFFSETFROM:+0200
TZOFFSETTO:+0100
TZNAME:Europe/Paris CET
END:STANDARD
BEGIN:STANDARD
DTSTART:20231029T020000
RDATE:20240331T030000
TZOFFSETFROM:+0200
TZOFFSETTO:+0100
TZNAME:Europe/Paris CET
END:STANDARD
BEGIN:STANDARD
DTSTART:20241027T020000
RDATE:20250330T030000
TZOFFSETFROM:+0200
TZOFFSETTO:+0100
TZNAME:Europe/Paris CET
END:STANDARD
BEGIN:STANDARD
DTSTART:20251026T020000
RDATE:20260329T030000
TZOFFSETFROM:+0200
TZOFFSETTO:+0100
TZNAME:Europe/Paris CET
END:STANDARD
BEGIN:STANDARD
DTSTART:20261025T020000
RDATE:20270328T030000
TZOFFSETFROM:+0200
TZOFFSETTO:+0100
TZNAME:Europe/Paris CET
END:STANDARD
BEGIN:DAYLIGHT
DTSTART:20160728T000000
RDATE:20161030T020000
TZOFFSETFROM:+0100
TZOFFSETTO:+0200
TZNAME:Europe/Paris CEST
END:DAYLIGHT
BEGIN:DAYLIGHT
DTSTART:20170326T030000
RDATE:20171029T020000
TZOFFSETFROM:+0100
TZOFFSETTO:+0200
TZNAME:Europe/Paris CEST
END:DAYLIGHT
BEGIN:DAYLIGHT
DTSTART:20180325T030000
RDATE:20181028T020000
TZOFFSETFROM:+0100
TZOFFSETTO:+0200
TZNAME:Europe/Paris CEST
END:DAYLIGHT
BEGIN:DAYLIGHT
DTSTART:20190331T030000
RDATE:20191027T020000
TZOFFSETFROM:+0100
TZOFFSETTO:+0200
TZNAME:Europe/Paris CEST
END:DAYLIGHT
BEGIN:DAYLIGHT
DTSTART:20200329T030000
RDATE:20201025T020000
TZOFFSETFROM:+0100
TZOFFSETTO:+0200
TZNAME:Europe/Paris CEST
END:DAYLIGHT
BEGIN:DAYLIGHT
DTSTART:20210328T030000
RDATE:20211031T020000
TZOFFSETFROM:+0100
TZOFFSETTO:+0200
TZNAME:Europe/Paris CEST
END:DAYLIGHT
BEGIN:DAYLIGHT
DTSTART:20220327T030000
RDATE:20221030T020000
TZOFFSETFROM:+0100
TZOFFSETTO:+0200
TZNAME:Europe/Paris CEST
END:DAYLIGHT
BEGIN:DAYLIGHT
DTSTART:20230326T030000
RDATE:20231029T020000
TZOFFSETFROM:+0100
TZOFFSETTO:+0200
TZNAME:Europe/Paris CEST
END:DAYLIGHT
BEGIN:DAYLIGHT
DTSTART:20240331T030000
RDATE:20241027T020000
TZOFFSETFROM:+0100
TZOFFSETTO:+0200
TZNAME:Europe/Paris CEST
END:DAYLIGHT
BEGIN:DAYLIGHT
DTSTART:20250330T030000
RDATE:20251026T020000
TZOFFSETFROM:+0100
TZOFFSETTO:+0200
TZNAME:Europe/Paris CEST
END:DAYLIGHT
BEGIN:DAYLIGHT
DTSTART:20260329T030000
RDATE:20261025T020000
TZOFFSETFROM:+0100
TZOFFSETTO:+0200
TZNAME:Europe/Paris CEST
END:DAYLIGHT
END:VTIMEZONE
BEGIN:VEVENT
UID:ae5d2c09d2e2dfbd8265384c45e71dbf
CATEGORIES:Compétition Saut
CREATED:20170920T182831
SUMMARY:VENTRON 2e étape tournée VO
URL;VALUE=URI:https://skivosges.net/agenda/detailevenement/830/-/ventron-2e-etape-tournee
 -vo?tmpl=component
DESCRIPTION:VENTRON 2e étape tournée VO\n - Codex évenement TMVT0180\n - Organisateur :
  14083 U.S VENTRONPériode d'inscription à l'evènement du samedi 22 juillet 
 2017 à 02:00 au jeudi 27 juillet 2017 à 14:00 (Inscriptions impossibles).In
 scriptions ouvertes aux detenteurs des titres Fédéraux valides suivants : L
 icenciés CompétiteursEpreuves :\n - Le samedi 29 juillet 2017\n - Codex épr
 euve TMVF0181\n - Saut Special\n - Catégorie(s) : U9 a U15 (Filles)\n - Le 
 samedi 29 juillet 2017\n - Codex épreuve TMVM0181\n - Saut Special\n - Caté
 gorie(s) : U9 a U15 (Garçons)\n - Voir les informations dans l'agenda... (/
 index.php?option=com_jevents&amp;task=icalevent.detail&amp;evid=825&amp;Ite
 mid=1703) Cet évènement a été importé depuis :https://skivosges.net/agenda/
 detailevenement/830/-/ventron-2e-etape-tournee-vo?tmpl=component (https://s
 kivosges.net/agenda/detailevenement/830/-/ventron-2e-etape-tournee-vo?tmpl=
 component)
X-ALT-DESC;FMTTYPE=text/html:<!-- #gskiepreuve code généré par le plugin jevents pour GskiEpreuves. Ne p
 as modifier cette ligne, ni tout le contenu suivant  #gskiepreuve --><div c
 lass="gski-evenement_infos"><div class="gski-evenement-nom">VENTRON 2e étap
 e tournée VO</div><div class="gski-evenement-report"></div><ul class="gski-
 evenement-liste-infos"><li>Codex évenement TMVT0180</li><li>Organisateur : 
 14083 U.S VENTRON</li></ul><div class="gski-evenement-infos-2"><div class="
 gski-evenement-info-inscriptions"><div class="gski-evenement-inscriptions-p
 eriodes">Période d'inscription à l'evènement du samedi 22 juillet 2017 à 02
 :00 au jeudi 27 juillet 2017 à 14:00 <span class="gski-evenement-inscriptio
 ns-impossibles">(Inscriptions impossibles).</span><div class="gski-evenemen
 t-inscriptions-types-titres">Inscriptions ouvertes aux detenteurs des titre
 s Fédéraux valides suivants : Licenciés Compétiteurs</div></div></div><div 
 class="gski-evenement-epreuves"><div class="gski-evenement-epreuves-titres"
 >Epreuves :</div><ul class="gski-evenement-epreuves-list"><li><div class="g
 ski-epreuve-date">Le samedi 29 juillet 2017</div><ul class="gski-epreuve-li
 ste-infos"><li>Codex épreuve TMVF0181</li><li>Saut Special</li><li>Catégori
 e(s) : U9 a U15 (Filles)</li></ul></li><li><div class="gski-epreuve-date">L
 e samedi 29 juillet 2017</div><ul class="gski-epreuve-liste-infos"><li>Code
 x épreuve TMVM0181</li><li>Saut Special</li><li>Catégorie(s) : U9 a U15 (Ga
 rçons)</li></ul></li></ul></div><div class="gskiepreuves-links"><ul><li><a 
 href="https://skivosges.net/index.php?option=com_jevents&task=icalevent.det
 ail&evid=825&Itemid=1703">Voir les informations dans l'agenda...</a></li></
 ul></div></div"><!-- #/gskiepreuve fin du dode généré par le plugin jevents
  pour GskiEpreuves. . Ne pas modifier cette ligne, ni tout le contenu préce
 dant.  #/gskiepreuve --> <a href="https://skivosges.net/agenda/detailevenem
 ent/830/-/ventron-2e-etape-tournee-vo?tmpl=component">Cet évènement a été i
 mporté depuis :https://skivosges.net/agenda/detailevenement/830/-/ventron-2
 e-etape-tournee-vo?tmpl=component</a>DTSTAMP:20260421T014448
DTSTART;TZID=Europe/Paris;VALUE=DATE:20170729
DTEND;TZID=Europe/Paris;VALUE=DATE:20170730
SEQUENCE:0
TRANSP:OPAQUE
END:VEVENT
END:VCALENDAR